BEGIN:VCALENDAR
VERSION:2.0
PRODID:https://www.kufer.de/kuferweb / DE
METHOD:PUBLISH
CALSCALE:GREGORIAN
X-WR-TIMEZONE:Europe/Berlin
BEGIN:VTIMEZONE
TZID:Europe/Berlin
X-LIC-LOCATION:Europe/Berlin
BEGIN:DAYLIGHT
TZOFFSETFROM:+0100
TZOFFSETTO:+0200
TZNAME:CEST
DTSTART:19700329T020000
RRULE:FREQ=YEARLY;INTERVAL=1;BYDAY=-1SU;BYMONTH=3
END:DAYLIGHT
BEGIN:STANDARD
TZOFFSETFROM:+0200
TZOFFSETTO:+0100
TZNAME:CET
DTSTART:19701025T030000
RRULE:FREQ=YEARLY;INTERVAL=1;BYDAY=-1SU;BYMONTH=10
END:STANDARD
END:VTIMEZONE
BEGIN:VEVENT
DTSTAMP:20260422T124640
DTSTART;TZID=Europe/Berlin:20260526T131500
DTEND;TZID=Europe/Berlin:20260526T161500
UID:Z600A013-20260526T131500@VHSHEILBRONN
SUMMARY:Realschulabschluss - mündliche Prüfung in Mathematik Kompaktkurs  in den Pfingstferien (Z600A013) 
LOCATION:vhs, Deutschhof, Raum 304, Kirchbrunnenstr. 12, 74072 Heilbronn
END:VEVENT
BEGIN:VEVENT
DTSTAMP:20260422T124640
DTSTART;TZID=Europe/Berlin:20260527T131500
DTEND;TZID=Europe/Berlin:20260527T161500
UID:Z600A013-20260527T131500@VHSHEILBRONN
SUMMARY:Realschulabschluss - mündliche Prüfung in Mathematik Kompaktkurs  in den Pfingstferien (Z600A013) 
LOCATION:vhs, Deutschhof, Raum 304, Kirchbrunnenstr. 12, 74072 Heilbronn
END:VEVENT
BEGIN:VEVENT
DTSTAMP:20260422T124640
DTSTART;TZID=Europe/Berlin:20260528T131500
DTEND;TZID=Europe/Berlin:20260528T161500
UID:Z600A013-20260528T131500@VHSHEILBRONN
SUMMARY:Realschulabschluss - mündliche Prüfung in Mathematik Kompaktkurs  in den Pfingstferien (Z600A013) 
LOCATION:vhs, Deutschhof, Raum 304, Kirchbrunnenstr. 12, 74072 Heilbronn
END:VEVENT
BEGIN:VEVENT
DTSTAMP:20260422T124640
DTSTART;TZID=Europe/Berlin:20260529T131500
DTEND;TZID=Europe/Berlin:20260529T161500
UID:Z600A013-20260529T131500@VHSHEILBRONN
SUMMARY:Realschulabschluss - mündliche Prüfung in Mathematik Kompaktkurs  in den Pfingstferien (Z600A013) 
LOCATION:vhs, Deutschhof, Raum 304, Kirchbrunnenstr. 12, 74072 Heilbronn
END:VEVENT
END:VCALENDAR