BEGIN:VCALENDAR
VERSION:2.0
PRODID:https://www.kufer.de/kuferweb / DE
METHOD:PUBLISH
CALSCALE:GREGORIAN
X-WR-TIMEZONE:Europe/Berlin
BEGIN:VTIMEZONE
TZID:Europe/Berlin
X-LIC-LOCATION:Europe/Berlin
BEGIN:DAYLIGHT
TZOFFSETFROM:+0100
TZOFFSETTO:+0200
TZNAME:CEST
DTSTART:19700329T020000
RRULE:FREQ=YEARLY;INTERVAL=1;BYDAY=-1SU;BYMONTH=3
END:DAYLIGHT
BEGIN:STANDARD
TZOFFSETFROM:+0200
TZOFFSETTO:+0100
TZNAME:CET
DTSTART:19701025T030000
RRULE:FREQ=YEARLY;INTERVAL=1;BYDAY=-1SU;BYMONTH=10
END:STANDARD
END:VTIMEZONE
BEGIN:VEVENT
DTSTAMP:20260422T122537
DTSTART;TZID=Europe/Berlin:20260504T090000
DTEND;TZID=Europe/Berlin:20260504T121500
UID:Z454A42010-20260504T090000@VHSHEILBRONN
SUMMARY:Integrationskurs Alpha Wiederholer - Vollzeit Modul 10 ab 04.05.2026 (Z454A42010) 
LOCATION:vhs, Cäcilienstr. 54, Raum 11, Cäcilienstr. 54, 74072 Heilbronn
END:VEVENT
BEGIN:VEVENT
DTSTAMP:20260422T122537
DTSTART;TZID=Europe/Berlin:20260505T090000
DTEND;TZID=Europe/Berlin:20260505T121500
UID:Z454A42010-20260505T090000@VHSHEILBRONN
SUMMARY:Integrationskurs Alpha Wiederholer - Vollzeit Modul 10 ab 04.05.2026 (Z454A42010) 
LOCATION:vhs, Cäcilienstr. 54, Raum 11, Cäcilienstr. 54, 74072 Heilbronn
END:VEVENT
BEGIN:VEVENT
DTSTAMP:20260422T122537
DTSTART;TZID=Europe/Berlin:20260506T090000
DTEND;TZID=Europe/Berlin:20260506T121500
UID:Z454A42010-20260506T090000@VHSHEILBRONN
SUMMARY:Integrationskurs Alpha Wiederholer - Vollzeit Modul 10 ab 04.05.2026 (Z454A42010) 
LOCATION:vhs, Cäcilienstr. 54, Raum 11, Cäcilienstr. 54, 74072 Heilbronn
END:VEVENT
BEGIN:VEVENT
DTSTAMP:20260422T122537
DTSTART;TZID=Europe/Berlin:20260507T090000
DTEND;TZID=Europe/Berlin:20260507T121500
UID:Z454A42010-20260507T090000@VHSHEILBRONN
SUMMARY:Integrationskurs Alpha Wiederholer - Vollzeit Modul 10 ab 04.05.2026 (Z454A42010) 
LOCATION:vhs, Cäcilienstr. 54, Raum 11, Cäcilienstr. 54, 74072 Heilbronn
END:VEVENT
BEGIN:VEVENT
DTSTAMP:20260422T122537
DTSTART;TZID=Europe/Berlin:20260508T090000
DTEND;TZID=Europe/Berlin:20260508T121500
UID:Z454A42010-20260508T090000@VHSHEILBRONN
SUMMARY:Integrationskurs Alpha Wiederholer - Vollzeit Modul 10 ab 04.05.2026 (Z454A42010) 
LOCATION:vhs, Cäcilienstr. 54, Raum 11, Cäcilienstr. 54, 74072 Heilbronn
END:VEVENT
BEGIN:VEVENT
DTSTAMP:20260422T122537
DTSTART;TZID=Europe/Berlin:20260511T090000
DTEND;TZID=Europe/Berlin:20260511T121500
UID:Z454A42010-20260511T090000@VHSHEILBRONN
SUMMARY:Integrationskurs Alpha Wiederholer - Vollzeit Modul 10 ab 04.05.2026 (Z454A42010) 
LOCATION:vhs, Cäcilienstr. 54, Raum 11, Cäcilienstr. 54, 74072 Heilbronn
END:VEVENT
BEGIN:VEVENT
DTSTAMP:20260422T122537
DTSTART;TZID=Europe/Berlin:20260512T090000
DTEND;TZID=Europe/Berlin:20260512T121500
UID:Z454A42010-20260512T090000@VHSHEILBRONN
SUMMARY:Integrationskurs Alpha Wiederholer - Vollzeit Modul 10 ab 04.05.2026 (Z454A42010) 
LOCATION:vhs, Cäcilienstr. 54, Raum 11, Cäcilienstr. 54, 74072 Heilbronn
END:VEVENT
BEGIN:VEVENT
DTSTAMP:20260422T122537
DTSTART;TZID=Europe/Berlin:20260513T090000
DTEND;TZID=Europe/Berlin:20260513T121500
UID:Z454A42010-20260513T090000@VHSHEILBRONN
SUMMARY:Integrationskurs Alpha Wiederholer - Vollzeit Modul 10 ab 04.05.2026 (Z454A42010) 
LOCATION:vhs, Cäcilienstr. 54, Raum 11, Cäcilienstr. 54, 74072 Heilbronn
END:VEVENT
BEGIN:VEVENT
DTSTAMP:20260422T122537
DTSTART;TZID=Europe/Berlin:20260518T090000
DTEND;TZID=Europe/Berlin:20260518T121500
UID:Z454A42010-20260518T090000@VHSHEILBRONN
SUMMARY:Integrationskurs Alpha Wiederholer - Vollzeit Modul 10 ab 04.05.2026 (Z454A42010) 
LOCATION:vhs, Cäcilienstr. 54, Raum 11, Cäcilienstr. 54, 74072 Heilbronn
END:VEVENT
BEGIN:VEVENT
DTSTAMP:20260422T122537
DTSTART;TZID=Europe/Berlin:20260519T090000
DTEND;TZID=Europe/Berlin:20260519T121500
UID:Z454A42010-20260519T090000@VHSHEILBRONN
SUMMARY:Integrationskurs Alpha Wiederholer - Vollzeit Modul 10 ab 04.05.2026 (Z454A42010) 
LOCATION:vhs, Cäcilienstr. 54, Raum 11, Cäcilienstr. 54, 74072 Heilbronn
END:VEVENT
BEGIN:VEVENT
DTSTAMP:20260422T122537
DTSTART;TZID=Europe/Berlin:20260520T090000
DTEND;TZID=Europe/Berlin:20260520T121500
UID:Z454A42010-20260520T090000@VHSHEILBRONN
SUMMARY:Integrationskurs Alpha Wiederholer - Vollzeit Modul 10 ab 04.05.2026 (Z454A42010) 
LOCATION:vhs, Cäcilienstr. 54, Raum 11, Cäcilienstr. 54, 74072 Heilbronn
END:VEVENT
BEGIN:VEVENT
DTSTAMP:20260422T122537
DTSTART;TZID=Europe/Berlin:20260521T090000
DTEND;TZID=Europe/Berlin:20260521T121500
UID:Z454A42010-20260521T090000@VHSHEILBRONN
SUMMARY:Integrationskurs Alpha Wiederholer - Vollzeit Modul 10 ab 04.05.2026 (Z454A42010) 
LOCATION:vhs, Cäcilienstr. 54, Raum 11, Cäcilienstr. 54, 74072 Heilbronn
END:VEVENT
BEGIN:VEVENT
DTSTAMP:20260422T122537
DTSTART;TZID=Europe/Berlin:20260522T090000
DTEND;TZID=Europe/Berlin:20260522T121500
UID:Z454A42010-20260522T090000@VHSHEILBRONN
SUMMARY:Integrationskurs Alpha Wiederholer - Vollzeit Modul 10 ab 04.05.2026 (Z454A42010) 
LOCATION:vhs, Cäcilienstr. 54, Raum 11, Cäcilienstr. 54, 74072 Heilbronn
END:VEVENT
BEGIN:VEVENT
DTSTAMP:20260422T122537
DTSTART;TZID=Europe/Berlin:20260526T090000
DTEND;TZID=Europe/Berlin:20260526T121500
UID:Z454A42010-20260526T090000@VHSHEILBRONN
SUMMARY:Integrationskurs Alpha Wiederholer - Vollzeit Modul 10 ab 04.05.2026 (Z454A42010) 
LOCATION:vhs, Cäcilienstr. 54, Raum 11, Cäcilienstr. 54, 74072 Heilbronn
END:VEVENT
BEGIN:VEVENT
DTSTAMP:20260422T122537
DTSTART;TZID=Europe/Berlin:20260527T090000
DTEND;TZID=Europe/Berlin:20260527T121500
UID:Z454A42010-20260527T090000@VHSHEILBRONN
SUMMARY:Integrationskurs Alpha Wiederholer - Vollzeit Modul 10 ab 04.05.2026 (Z454A42010) 
LOCATION:vhs, Cäcilienstr. 54, Raum 11, Cäcilienstr. 54, 74072 Heilbronn
END:VEVENT
BEGIN:VEVENT
DTSTAMP:20260422T122537
DTSTART;TZID=Europe/Berlin:20260528T090000
DTEND;TZID=Europe/Berlin:20260528T121500
UID:Z454A42010-20260528T090000@VHSHEILBRONN
SUMMARY:Integrationskurs Alpha Wiederholer - Vollzeit Modul 10 ab 04.05.2026 (Z454A42010) 
LOCATION:vhs, Cäcilienstr. 54, Raum 11, Cäcilienstr. 54, 74072 Heilbronn
END:VEVENT
BEGIN:VEVENT
DTSTAMP:20260422T122537
DTSTART;TZID=Europe/Berlin:20260529T090000
DTEND;TZID=Europe/Berlin:20260529T121500
UID:Z454A42010-20260529T090000@VHSHEILBRONN
SUMMARY:Integrationskurs Alpha Wiederholer - Vollzeit Modul 10 ab 04.05.2026 (Z454A42010) 
LOCATION:vhs, Cäcilienstr. 54, Raum 11, Cäcilienstr. 54, 74072 Heilbronn
END:VEVENT
BEGIN:VEVENT
DTSTAMP:20260422T122537
DTSTART;TZID=Europe/Berlin:20260601T090000
DTEND;TZID=Europe/Berlin:20260601T121500
UID:Z454A42010-20260601T090000@VHSHEILBRONN
SUMMARY:Integrationskurs Alpha Wiederholer - Vollzeit Modul 10 ab 04.05.2026 (Z454A42010) 
LOCATION:vhs, Cäcilienstr. 54, Raum 11, Cäcilienstr. 54, 74072 Heilbronn
END:VEVENT
BEGIN:VEVENT
DTSTAMP:20260422T122537
DTSTART;TZID=Europe/Berlin:20260602T090000
DTEND;TZID=Europe/Berlin:20260602T121500
UID:Z454A42010-20260602T090000@VHSHEILBRONN
SUMMARY:Integrationskurs Alpha Wiederholer - Vollzeit Modul 10 ab 04.05.2026 (Z454A42010) 
LOCATION:vhs, Cäcilienstr. 54, Raum 11, Cäcilienstr. 54, 74072 Heilbronn
END:VEVENT
BEGIN:VEVENT
DTSTAMP:20260422T122537
DTSTART;TZID=Europe/Berlin:20260603T090000
DTEND;TZID=Europe/Berlin:20260603T121500
UID:Z454A42010-20260603T090000@VHSHEILBRONN
SUMMARY:Integrationskurs Alpha Wiederholer - Vollzeit Modul 10 ab 04.05.2026 (Z454A42010) 
LOCATION:vhs, Cäcilienstr. 54, Raum 11, Cäcilienstr. 54, 74072 Heilbronn
END:VEVENT
BEGIN:VEVENT
DTSTAMP:20260422T122537
DTSTART;TZID=Europe/Berlin:20260608T090000
DTEND;TZID=Europe/Berlin:20260608T121500
UID:Z454A42010-20260608T090000@VHSHEILBRONN
SUMMARY:Integrationskurs Alpha Wiederholer - Vollzeit Modul 10 ab 04.05.2026 (Z454A42010) 
LOCATION:vhs, Cäcilienstr. 54, Raum 11, Cäcilienstr. 54, 74072 Heilbronn
END:VEVENT
BEGIN:VEVENT
DTSTAMP:20260422T122537
DTSTART;TZID=Europe/Berlin:20260609T090000
DTEND;TZID=Europe/Berlin:20260609T121500
UID:Z454A42010-20260609T090000@VHSHEILBRONN
SUMMARY:Integrationskurs Alpha Wiederholer - Vollzeit Modul 10 ab 04.05.2026 (Z454A42010) 
LOCATION:vhs, Cäcilienstr. 54, Raum 11, Cäcilienstr. 54, 74072 Heilbronn
END:VEVENT
BEGIN:VEVENT
DTSTAMP:20260422T122537
DTSTART;TZID=Europe/Berlin:20260610T090000
DTEND;TZID=Europe/Berlin:20260610T121500
UID:Z454A42010-20260610T090000@VHSHEILBRONN
SUMMARY:Integrationskurs Alpha Wiederholer - Vollzeit Modul 10 ab 04.05.2026 (Z454A42010) 
LOCATION:vhs, Cäcilienstr. 54, Raum 11, Cäcilienstr. 54, 74072 Heilbronn
END:VEVENT
BEGIN:VEVENT
DTSTAMP:20260422T122537
DTSTART;TZID=Europe/Berlin:20260611T090000
DTEND;TZID=Europe/Berlin:20260611T121500
UID:Z454A42010-20260611T090000@VHSHEILBRONN
SUMMARY:Integrationskurs Alpha Wiederholer - Vollzeit Modul 10 ab 04.05.2026 (Z454A42010) 
LOCATION:vhs, Cäcilienstr. 54, Raum 11, Cäcilienstr. 54, 74072 Heilbronn
END:VEVENT
BEGIN:VEVENT
DTSTAMP:20260422T122537
DTSTART;TZID=Europe/Berlin:20260612T090000
DTEND;TZID=Europe/Berlin:20260612T121500
UID:Z454A42010-20260612T090000@VHSHEILBRONN
SUMMARY:Integrationskurs Alpha Wiederholer - Vollzeit Modul 10 ab 04.05.2026 (Z454A42010) 
LOCATION:vhs, Cäcilienstr. 54, Raum 11, Cäcilienstr. 54, 74072 Heilbronn
END:VEVENT
END:VCALENDAR