BEGIN:VCALENDAR
VERSION:2.0
PRODID:https://www.kufer.de/kuferweb / DE
METHOD:PUBLISH
CALSCALE:GREGORIAN
X-WR-TIMEZONE:Europe/Berlin
BEGIN:VTIMEZONE
TZID:Europe/Berlin
X-LIC-LOCATION:Europe/Berlin
BEGIN:DAYLIGHT
TZOFFSETFROM:+0100
TZOFFSETTO:+0200
TZNAME:CEST
DTSTART:19700329T020000
RRULE:FREQ=YEARLY;INTERVAL=1;BYDAY=-1SU;BYMONTH=3
END:DAYLIGHT
BEGIN:STANDARD
TZOFFSETFROM:+0200
TZOFFSETTO:+0100
TZNAME:CET
DTSTART:19701025T030000
RRULE:FREQ=YEARLY;INTERVAL=1;BYDAY=-1SU;BYMONTH=10
END:STANDARD
END:VTIMEZONE
BEGIN:VEVENT
DTSTAMP:20260422T122536
DTSTART;TZID=Europe/Berlin:20260520T180000
DTEND;TZID=Europe/Berlin:20260520T211500
UID:Z453A4183-20260520T180000@VHSHEILBRONN
SUMMARY:Integrationskurs - Teilzeit Modul 3 ab 20.05.2026 (Z453A4183) 
LOCATION:vhs, Am Wollhaus 1, Raum A, Am Wollhaus, 74072 Heilbronn
END:VEVENT
BEGIN:VEVENT
DTSTAMP:20260422T122536
DTSTART;TZID=Europe/Berlin:20260521T180000
DTEND;TZID=Europe/Berlin:20260521T211500
UID:Z453A4183-20260521T180000@VHSHEILBRONN
SUMMARY:Integrationskurs - Teilzeit Modul 3 ab 20.05.2026 (Z453A4183) 
LOCATION:vhs, Am Wollhaus 1, Raum A, Am Wollhaus, 74072 Heilbronn
END:VEVENT
BEGIN:VEVENT
DTSTAMP:20260422T122536
DTSTART;TZID=Europe/Berlin:20260609T180000
DTEND;TZID=Europe/Berlin:20260609T211500
UID:Z453A4183-20260609T180000@VHSHEILBRONN
SUMMARY:Integrationskurs - Teilzeit Modul 3 ab 20.05.2026 (Z453A4183) 
LOCATION:vhs, Am Wollhaus 1, Raum A, Am Wollhaus, 74072 Heilbronn
END:VEVENT
BEGIN:VEVENT
DTSTAMP:20260422T122536
DTSTART;TZID=Europe/Berlin:20260610T180000
DTEND;TZID=Europe/Berlin:20260610T211500
UID:Z453A4183-20260610T180000@VHSHEILBRONN
SUMMARY:Integrationskurs - Teilzeit Modul 3 ab 20.05.2026 (Z453A4183) 
LOCATION:vhs, Am Wollhaus 1, Raum A, Am Wollhaus, 74072 Heilbronn
END:VEVENT
BEGIN:VEVENT
DTSTAMP:20260422T122536
DTSTART;TZID=Europe/Berlin:20260611T180000
DTEND;TZID=Europe/Berlin:20260611T211500
UID:Z453A4183-20260611T180000@VHSHEILBRONN
SUMMARY:Integrationskurs - Teilzeit Modul 3 ab 20.05.2026 (Z453A4183) 
LOCATION:vhs, Am Wollhaus 1, Raum A, Am Wollhaus, 74072 Heilbronn
END:VEVENT
BEGIN:VEVENT
DTSTAMP:20260422T122536
DTSTART;TZID=Europe/Berlin:20260616T180000
DTEND;TZID=Europe/Berlin:20260616T211500
UID:Z453A4183-20260616T180000@VHSHEILBRONN
SUMMARY:Integrationskurs - Teilzeit Modul 3 ab 20.05.2026 (Z453A4183) 
LOCATION:vhs, Am Wollhaus 1, Raum A, Am Wollhaus, 74072 Heilbronn
END:VEVENT
BEGIN:VEVENT
DTSTAMP:20260422T122536
DTSTART;TZID=Europe/Berlin:20260617T180000
DTEND;TZID=Europe/Berlin:20260617T211500
UID:Z453A4183-20260617T180000@VHSHEILBRONN
SUMMARY:Integrationskurs - Teilzeit Modul 3 ab 20.05.2026 (Z453A4183) 
LOCATION:vhs, Am Wollhaus 1, Raum A, Am Wollhaus, 74072 Heilbronn
END:VEVENT
BEGIN:VEVENT
DTSTAMP:20260422T122536
DTSTART;TZID=Europe/Berlin:20260618T180000
DTEND;TZID=Europe/Berlin:20260618T211500
UID:Z453A4183-20260618T180000@VHSHEILBRONN
SUMMARY:Integrationskurs - Teilzeit Modul 3 ab 20.05.2026 (Z453A4183) 
LOCATION:vhs, Am Wollhaus 1, Raum A, Am Wollhaus, 74072 Heilbronn
END:VEVENT
BEGIN:VEVENT
DTSTAMP:20260422T122536
DTSTART;TZID=Europe/Berlin:20260623T180000
DTEND;TZID=Europe/Berlin:20260623T211500
UID:Z453A4183-20260623T180000@VHSHEILBRONN
SUMMARY:Integrationskurs - Teilzeit Modul 3 ab 20.05.2026 (Z453A4183) 
LOCATION:vhs, Am Wollhaus 1, Raum A, Am Wollhaus, 74072 Heilbronn
END:VEVENT
BEGIN:VEVENT
DTSTAMP:20260422T122536
DTSTART;TZID=Europe/Berlin:20260624T180000
DTEND;TZID=Europe/Berlin:20260624T211500
UID:Z453A4183-20260624T180000@VHSHEILBRONN
SUMMARY:Integrationskurs - Teilzeit Modul 3 ab 20.05.2026 (Z453A4183) 
LOCATION:vhs, Am Wollhaus 1, Raum A, Am Wollhaus, 74072 Heilbronn
END:VEVENT
BEGIN:VEVENT
DTSTAMP:20260422T122536
DTSTART;TZID=Europe/Berlin:20260625T180000
DTEND;TZID=Europe/Berlin:20260625T211500
UID:Z453A4183-20260625T180000@VHSHEILBRONN
SUMMARY:Integrationskurs - Teilzeit Modul 3 ab 20.05.2026 (Z453A4183) 
LOCATION:vhs, Am Wollhaus 1, Raum A, Am Wollhaus, 74072 Heilbronn
END:VEVENT
BEGIN:VEVENT
DTSTAMP:20260422T122536
DTSTART;TZID=Europe/Berlin:20260630T180000
DTEND;TZID=Europe/Berlin:20260630T211500
UID:Z453A4183-20260630T180000@VHSHEILBRONN
SUMMARY:Integrationskurs - Teilzeit Modul 3 ab 20.05.2026 (Z453A4183) 
LOCATION:vhs, Am Wollhaus 1, Raum A, Am Wollhaus, 74072 Heilbronn
END:VEVENT
BEGIN:VEVENT
DTSTAMP:20260422T122536
DTSTART;TZID=Europe/Berlin:20260701T180000
DTEND;TZID=Europe/Berlin:20260701T211500
UID:Z453A4183-20260701T180000@VHSHEILBRONN
SUMMARY:Integrationskurs - Teilzeit Modul 3 ab 20.05.2026 (Z453A4183) 
LOCATION:vhs, Am Wollhaus 1, Raum A, Am Wollhaus, 74072 Heilbronn
END:VEVENT
BEGIN:VEVENT
DTSTAMP:20260422T122536
DTSTART;TZID=Europe/Berlin:20260702T180000
DTEND;TZID=Europe/Berlin:20260702T211500
UID:Z453A4183-20260702T180000@VHSHEILBRONN
SUMMARY:Integrationskurs - Teilzeit Modul 3 ab 20.05.2026 (Z453A4183) 
LOCATION:vhs, Am Wollhaus 1, Raum A, Am Wollhaus, 74072 Heilbronn
END:VEVENT
BEGIN:VEVENT
DTSTAMP:20260422T122536
DTSTART;TZID=Europe/Berlin:20260707T180000
DTEND;TZID=Europe/Berlin:20260707T211500
UID:Z453A4183-20260707T180000@VHSHEILBRONN
SUMMARY:Integrationskurs - Teilzeit Modul 3 ab 20.05.2026 (Z453A4183) 
LOCATION:vhs, Am Wollhaus 1, Raum A, Am Wollhaus, 74072 Heilbronn
END:VEVENT
BEGIN:VEVENT
DTSTAMP:20260422T122536
DTSTART;TZID=Europe/Berlin:20260708T180000
DTEND;TZID=Europe/Berlin:20260708T211500
UID:Z453A4183-20260708T180000@VHSHEILBRONN
SUMMARY:Integrationskurs - Teilzeit Modul 3 ab 20.05.2026 (Z453A4183) 
LOCATION:vhs, Am Wollhaus 1, Raum A, Am Wollhaus, 74072 Heilbronn
END:VEVENT
BEGIN:VEVENT
DTSTAMP:20260422T122536
DTSTART;TZID=Europe/Berlin:20260709T180000
DTEND;TZID=Europe/Berlin:20260709T211500
UID:Z453A4183-20260709T180000@VHSHEILBRONN
SUMMARY:Integrationskurs - Teilzeit Modul 3 ab 20.05.2026 (Z453A4183) 
LOCATION:vhs, Am Wollhaus 1, Raum A, Am Wollhaus, 74072 Heilbronn
END:VEVENT
BEGIN:VEVENT
DTSTAMP:20260422T122536
DTSTART;TZID=Europe/Berlin:20260714T180000
DTEND;TZID=Europe/Berlin:20260714T211500
UID:Z453A4183-20260714T180000@VHSHEILBRONN
SUMMARY:Integrationskurs - Teilzeit Modul 3 ab 20.05.2026 (Z453A4183) 
LOCATION:vhs, Am Wollhaus 1, Raum A, Am Wollhaus, 74072 Heilbronn
END:VEVENT
BEGIN:VEVENT
DTSTAMP:20260422T122536
DTSTART;TZID=Europe/Berlin:20260715T180000
DTEND;TZID=Europe/Berlin:20260715T211500
UID:Z453A4183-20260715T180000@VHSHEILBRONN
SUMMARY:Integrationskurs - Teilzeit Modul 3 ab 20.05.2026 (Z453A4183) 
LOCATION:vhs, Am Wollhaus 1, Raum A, Am Wollhaus, 74072 Heilbronn
END:VEVENT
BEGIN:VEVENT
DTSTAMP:20260422T122536
DTSTART;TZID=Europe/Berlin:20260716T180000
DTEND;TZID=Europe/Berlin:20260716T211500
UID:Z453A4183-20260716T180000@VHSHEILBRONN
SUMMARY:Integrationskurs - Teilzeit Modul 3 ab 20.05.2026 (Z453A4183) 
LOCATION:vhs, Am Wollhaus 1, Raum A, Am Wollhaus, 74072 Heilbronn
END:VEVENT
BEGIN:VEVENT
DTSTAMP:20260422T122536
DTSTART;TZID=Europe/Berlin:20260721T180000
DTEND;TZID=Europe/Berlin:20260721T211500
UID:Z453A4183-20260721T180000@VHSHEILBRONN
SUMMARY:Integrationskurs - Teilzeit Modul 3 ab 20.05.2026 (Z453A4183) 
LOCATION:vhs, Am Wollhaus 1, Raum A, Am Wollhaus, 74072 Heilbronn
END:VEVENT
BEGIN:VEVENT
DTSTAMP:20260422T122536
DTSTART;TZID=Europe/Berlin:20260722T180000
DTEND;TZID=Europe/Berlin:20260722T211500
UID:Z453A4183-20260722T180000@VHSHEILBRONN
SUMMARY:Integrationskurs - Teilzeit Modul 3 ab 20.05.2026 (Z453A4183) 
LOCATION:vhs, Am Wollhaus 1, Raum A, Am Wollhaus, 74072 Heilbronn
END:VEVENT
BEGIN:VEVENT
DTSTAMP:20260422T122536
DTSTART;TZID=Europe/Berlin:20260723T180000
DTEND;TZID=Europe/Berlin:20260723T211500
UID:Z453A4183-20260723T180000@VHSHEILBRONN
SUMMARY:Integrationskurs - Teilzeit Modul 3 ab 20.05.2026 (Z453A4183) 
LOCATION:vhs, Am Wollhaus 1, Raum A, Am Wollhaus, 74072 Heilbronn
END:VEVENT
BEGIN:VEVENT
DTSTAMP:20260422T122536
DTSTART;TZID=Europe/Berlin:20260728T180000
DTEND;TZID=Europe/Berlin:20260728T211500
UID:Z453A4183-20260728T180000@VHSHEILBRONN
SUMMARY:Integrationskurs - Teilzeit Modul 3 ab 20.05.2026 (Z453A4183) 
LOCATION:vhs, Am Wollhaus 1, Raum A, Am Wollhaus, 74072 Heilbronn
END:VEVENT
BEGIN:VEVENT
DTSTAMP:20260422T122536
DTSTART;TZID=Europe/Berlin:20260729T180000
DTEND;TZID=Europe/Berlin:20260729T211500
UID:Z453A4183-20260729T180000@VHSHEILBRONN
SUMMARY:Integrationskurs - Teilzeit Modul 3 ab 20.05.2026 (Z453A4183) 
LOCATION:vhs, Am Wollhaus 1, Raum A, Am Wollhaus, 74072 Heilbronn
END:VEVENT
END:VCALENDAR