BEGIN:VCALENDAR
VERSION:2.0
PRODID:https://www.kufer.de/kuferweb / DE
METHOD:PUBLISH
CALSCALE:GREGORIAN
X-WR-TIMEZONE:Europe/Berlin
BEGIN:VTIMEZONE
TZID:Europe/Berlin
X-LIC-LOCATION:Europe/Berlin
BEGIN:DAYLIGHT
TZOFFSETFROM:+0100
TZOFFSETTO:+0200
TZNAME:CEST
DTSTART:19700329T020000
RRULE:FREQ=YEARLY;INTERVAL=1;BYDAY=-1SU;BYMONTH=3
END:DAYLIGHT
BEGIN:STANDARD
TZOFFSETFROM:+0200
TZOFFSETTO:+0100
TZNAME:CET
DTSTART:19701025T030000
RRULE:FREQ=YEARLY;INTERVAL=1;BYDAY=-1SU;BYMONTH=10
END:STANDARD
END:VTIMEZONE
BEGIN:VEVENT
DTSTAMP:20260422T124631
DTSTART;TZID=Europe/Berlin:20260224T183000
DTEND;TZID=Europe/Berlin:20260224T205500
UID:Z442A511-20260224T183000@VHSHEILBRONN
SUMMARY:Deutsch als Fremdsprache C1.1 kompakt (Z442A511) 
LOCATION:vhs, Deutschhof, Raum 208, Kirchbrunnenstr. 12, 74072 Heilbronn
END:VEVENT
BEGIN:VEVENT
DTSTAMP:20260422T124631
DTSTART;TZID=Europe/Berlin:20260227T183000
DTEND;TZID=Europe/Berlin:20260227T205500
UID:Z442A511-20260227T183000@VHSHEILBRONN
SUMMARY:Deutsch als Fremdsprache C1.1 kompakt (Z442A511) 
LOCATION:vhs, Deutschhof, Raum 208, Kirchbrunnenstr. 12, 74072 Heilbronn
END:VEVENT
BEGIN:VEVENT
DTSTAMP:20260422T124631
DTSTART;TZID=Europe/Berlin:20260303T183000
DTEND;TZID=Europe/Berlin:20260303T205500
UID:Z442A511-20260303T183000@VHSHEILBRONN
SUMMARY:Deutsch als Fremdsprache C1.1 kompakt (Z442A511) 
LOCATION:vhs, Deutschhof, Raum 208, Kirchbrunnenstr. 12, 74072 Heilbronn
END:VEVENT
BEGIN:VEVENT
DTSTAMP:20260422T124631
DTSTART;TZID=Europe/Berlin:20260306T183000
DTEND;TZID=Europe/Berlin:20260306T205500
UID:Z442A511-20260306T183000@VHSHEILBRONN
SUMMARY:Deutsch als Fremdsprache C1.1 kompakt (Z442A511) 
LOCATION:vhs, Deutschhof, Raum 208, Kirchbrunnenstr. 12, 74072 Heilbronn
END:VEVENT
BEGIN:VEVENT
DTSTAMP:20260422T124631
DTSTART;TZID=Europe/Berlin:20260310T183000
DTEND;TZID=Europe/Berlin:20260310T205500
UID:Z442A511-20260310T183000@VHSHEILBRONN
SUMMARY:Deutsch als Fremdsprache C1.1 kompakt (Z442A511) 
LOCATION:vhs, Deutschhof, Raum 208, Kirchbrunnenstr. 12, 74072 Heilbronn
END:VEVENT
BEGIN:VEVENT
DTSTAMP:20260422T124631
DTSTART;TZID=Europe/Berlin:20260313T183000
DTEND;TZID=Europe/Berlin:20260313T205500
UID:Z442A511-20260313T183000@VHSHEILBRONN
SUMMARY:Deutsch als Fremdsprache C1.1 kompakt (Z442A511) 
LOCATION:vhs, Deutschhof, Raum 208, Kirchbrunnenstr. 12, 74072 Heilbronn
END:VEVENT
BEGIN:VEVENT
DTSTAMP:20260422T124631
DTSTART;TZID=Europe/Berlin:20260317T183000
DTEND;TZID=Europe/Berlin:20260317T205500
UID:Z442A511-20260317T183000@VHSHEILBRONN
SUMMARY:Deutsch als Fremdsprache C1.1 kompakt (Z442A511) 
LOCATION:vhs, Deutschhof, Raum 208, Kirchbrunnenstr. 12, 74072 Heilbronn
END:VEVENT
BEGIN:VEVENT
DTSTAMP:20260422T124631
DTSTART;TZID=Europe/Berlin:20260320T183000
DTEND;TZID=Europe/Berlin:20260320T205500
UID:Z442A511-20260320T183000@VHSHEILBRONN
SUMMARY:Deutsch als Fremdsprache C1.1 kompakt (Z442A511) 
LOCATION:vhs, Deutschhof, Raum 208, Kirchbrunnenstr. 12, 74072 Heilbronn
END:VEVENT
BEGIN:VEVENT
DTSTAMP:20260422T124631
DTSTART;TZID=Europe/Berlin:20260324T183000
DTEND;TZID=Europe/Berlin:20260324T205500
UID:Z442A511-20260324T183000@VHSHEILBRONN
SUMMARY:Deutsch als Fremdsprache C1.1 kompakt (Z442A511) 
LOCATION:vhs, Deutschhof, Raum 208, Kirchbrunnenstr. 12, 74072 Heilbronn
END:VEVENT
BEGIN:VEVENT
DTSTAMP:20260422T124631
DTSTART;TZID=Europe/Berlin:20260327T183000
DTEND;TZID=Europe/Berlin:20260327T205500
UID:Z442A511-20260327T183000@VHSHEILBRONN
SUMMARY:Deutsch als Fremdsprache C1.1 kompakt (Z442A511) 
LOCATION:vhs, Deutschhof, Raum 208, Kirchbrunnenstr. 12, 74072 Heilbronn
END:VEVENT
BEGIN:VEVENT
DTSTAMP:20260422T124631
DTSTART;TZID=Europe/Berlin:20260414T183000
DTEND;TZID=Europe/Berlin:20260414T205500
UID:Z442A511-20260414T183000@VHSHEILBRONN
SUMMARY:Deutsch als Fremdsprache C1.1 kompakt (Z442A511) 
LOCATION:vhs, Deutschhof, Raum 208, Kirchbrunnenstr. 12, 74072 Heilbronn
END:VEVENT
BEGIN:VEVENT
DTSTAMP:20260422T124631
DTSTART;TZID=Europe/Berlin:20260417T183000
DTEND;TZID=Europe/Berlin:20260417T205500
UID:Z442A511-20260417T183000@VHSHEILBRONN
SUMMARY:Deutsch als Fremdsprache C1.1 kompakt (Z442A511) 
LOCATION:vhs, Deutschhof, Raum 208, Kirchbrunnenstr. 12, 74072 Heilbronn
END:VEVENT
BEGIN:VEVENT
DTSTAMP:20260422T124631
DTSTART;TZID=Europe/Berlin:20260421T183000
DTEND;TZID=Europe/Berlin:20260421T205500
UID:Z442A511-20260421T183000@VHSHEILBRONN
SUMMARY:Deutsch als Fremdsprache C1.1 kompakt (Z442A511) 
LOCATION:vhs, Deutschhof, Raum 208, Kirchbrunnenstr. 12, 74072 Heilbronn
END:VEVENT
BEGIN:VEVENT
DTSTAMP:20260422T124631
DTSTART;TZID=Europe/Berlin:20260424T183000
DTEND;TZID=Europe/Berlin:20260424T205500
UID:Z442A511-20260424T183000@VHSHEILBRONN
SUMMARY:Deutsch als Fremdsprache C1.1 kompakt (Z442A511) 
LOCATION:vhs, Deutschhof, Raum 208, Kirchbrunnenstr. 12, 74072 Heilbronn
END:VEVENT
BEGIN:VEVENT
DTSTAMP:20260422T124631
DTSTART;TZID=Europe/Berlin:20260428T183000
DTEND;TZID=Europe/Berlin:20260428T205500
UID:Z442A511-20260428T183000@VHSHEILBRONN
SUMMARY:Deutsch als Fremdsprache C1.1 kompakt (Z442A511) 
LOCATION:vhs, Deutschhof, Raum 208, Kirchbrunnenstr. 12, 74072 Heilbronn
END:VEVENT
BEGIN:VEVENT
DTSTAMP:20260422T124631
DTSTART;TZID=Europe/Berlin:20260505T183000
DTEND;TZID=Europe/Berlin:20260505T205500
UID:Z442A511-20260505T183000@VHSHEILBRONN
SUMMARY:Deutsch als Fremdsprache C1.1 kompakt (Z442A511) 
LOCATION:vhs, Deutschhof, Raum 208, Kirchbrunnenstr. 12, 74072 Heilbronn
END:VEVENT
END:VCALENDAR