BEGIN:VCALENDAR
VERSION:2.0
PRODID:https://www.kufer.de/kuferweb / DE
METHOD:PUBLISH
CALSCALE:GREGORIAN
X-WR-TIMEZONE:Europe/Berlin
BEGIN:VTIMEZONE
TZID:Europe/Berlin
X-LIC-LOCATION:Europe/Berlin
BEGIN:DAYLIGHT
TZOFFSETFROM:+0100
TZOFFSETTO:+0200
TZNAME:CEST
DTSTART:19700329T020000
RRULE:FREQ=YEARLY;INTERVAL=1;BYDAY=-1SU;BYMONTH=3
END:DAYLIGHT
BEGIN:STANDARD
TZOFFSETFROM:+0200
TZOFFSETTO:+0100
TZNAME:CET
DTSTART:19701025T030000
RRULE:FREQ=YEARLY;INTERVAL=1;BYDAY=-1SU;BYMONTH=10
END:STANDARD
END:VTIMEZONE
BEGIN:VEVENT
DTSTAMP:20260422T124642
DTSTART;TZID=Europe/Berlin:20260505T180000
DTEND;TZID=Europe/Berlin:20260505T202500
UID:Z442A321-20260505T180000@VHSHEILBRONN
SUMMARY:Deutsch als Fremdsprache B1.2 kompakt (Z442A321) 
LOCATION:vhs, Deutschhof, Raum 321, Kirchbrunnenstr. 12, 74072 Heilbronn
END:VEVENT
BEGIN:VEVENT
DTSTAMP:20260422T124642
DTSTART;TZID=Europe/Berlin:20260507T180000
DTEND;TZID=Europe/Berlin:20260507T202500
UID:Z442A321-20260507T180000@VHSHEILBRONN
SUMMARY:Deutsch als Fremdsprache B1.2 kompakt (Z442A321) 
LOCATION:vhs, Deutschhof, Raum 321, Kirchbrunnenstr. 12, 74072 Heilbronn
END:VEVENT
BEGIN:VEVENT
DTSTAMP:20260422T124642
DTSTART;TZID=Europe/Berlin:20260512T180000
DTEND;TZID=Europe/Berlin:20260512T202500
UID:Z442A321-20260512T180000@VHSHEILBRONN
SUMMARY:Deutsch als Fremdsprache B1.2 kompakt (Z442A321) 
LOCATION:vhs, Deutschhof, Raum 321, Kirchbrunnenstr. 12, 74072 Heilbronn
END:VEVENT
BEGIN:VEVENT
DTSTAMP:20260422T124642
DTSTART;TZID=Europe/Berlin:20260519T180000
DTEND;TZID=Europe/Berlin:20260519T202500
UID:Z442A321-20260519T180000@VHSHEILBRONN
SUMMARY:Deutsch als Fremdsprache B1.2 kompakt (Z442A321) 
LOCATION:vhs, Deutschhof, Raum 321, Kirchbrunnenstr. 12, 74072 Heilbronn
END:VEVENT
BEGIN:VEVENT
DTSTAMP:20260422T124642
DTSTART;TZID=Europe/Berlin:20260521T180000
DTEND;TZID=Europe/Berlin:20260521T202500
UID:Z442A321-20260521T180000@VHSHEILBRONN
SUMMARY:Deutsch als Fremdsprache B1.2 kompakt (Z442A321) 
LOCATION:vhs, Deutschhof, Raum 321, Kirchbrunnenstr. 12, 74072 Heilbronn
END:VEVENT
BEGIN:VEVENT
DTSTAMP:20260422T124642
DTSTART;TZID=Europe/Berlin:20260609T180000
DTEND;TZID=Europe/Berlin:20260609T202500
UID:Z442A321-20260609T180000@VHSHEILBRONN
SUMMARY:Deutsch als Fremdsprache B1.2 kompakt (Z442A321) 
LOCATION:vhs, Deutschhof, Raum 321, Kirchbrunnenstr. 12, 74072 Heilbronn
END:VEVENT
BEGIN:VEVENT
DTSTAMP:20260422T124642
DTSTART;TZID=Europe/Berlin:20260611T180000
DTEND;TZID=Europe/Berlin:20260611T202500
UID:Z442A321-20260611T180000@VHSHEILBRONN
SUMMARY:Deutsch als Fremdsprache B1.2 kompakt (Z442A321) 
LOCATION:vhs, Deutschhof, Raum 321, Kirchbrunnenstr. 12, 74072 Heilbronn
END:VEVENT
BEGIN:VEVENT
DTSTAMP:20260422T124642
DTSTART;TZID=Europe/Berlin:20260616T180000
DTEND;TZID=Europe/Berlin:20260616T202500
UID:Z442A321-20260616T180000@VHSHEILBRONN
SUMMARY:Deutsch als Fremdsprache B1.2 kompakt (Z442A321) 
LOCATION:vhs, Deutschhof, Raum 321, Kirchbrunnenstr. 12, 74072 Heilbronn
END:VEVENT
BEGIN:VEVENT
DTSTAMP:20260422T124642
DTSTART;TZID=Europe/Berlin:20260618T180000
DTEND;TZID=Europe/Berlin:20260618T202500
UID:Z442A321-20260618T180000@VHSHEILBRONN
SUMMARY:Deutsch als Fremdsprache B1.2 kompakt (Z442A321) 
LOCATION:vhs, Deutschhof, Raum 321, Kirchbrunnenstr. 12, 74072 Heilbronn
END:VEVENT
BEGIN:VEVENT
DTSTAMP:20260422T124642
DTSTART;TZID=Europe/Berlin:20260623T180000
DTEND;TZID=Europe/Berlin:20260623T202500
UID:Z442A321-20260623T180000@VHSHEILBRONN
SUMMARY:Deutsch als Fremdsprache B1.2 kompakt (Z442A321) 
LOCATION:vhs, Deutschhof, Raum 321, Kirchbrunnenstr. 12, 74072 Heilbronn
END:VEVENT
BEGIN:VEVENT
DTSTAMP:20260422T124642
DTSTART;TZID=Europe/Berlin:20260625T180000
DTEND;TZID=Europe/Berlin:20260625T202500
UID:Z442A321-20260625T180000@VHSHEILBRONN
SUMMARY:Deutsch als Fremdsprache B1.2 kompakt (Z442A321) 
LOCATION:vhs, Deutschhof, Raum 321, Kirchbrunnenstr. 12, 74072 Heilbronn
END:VEVENT
BEGIN:VEVENT
DTSTAMP:20260422T124642
DTSTART;TZID=Europe/Berlin:20260630T180000
DTEND;TZID=Europe/Berlin:20260630T202500
UID:Z442A321-20260630T180000@VHSHEILBRONN
SUMMARY:Deutsch als Fremdsprache B1.2 kompakt (Z442A321) 
LOCATION:vhs, Deutschhof, Raum 321, Kirchbrunnenstr. 12, 74072 Heilbronn
END:VEVENT
BEGIN:VEVENT
DTSTAMP:20260422T124642
DTSTART;TZID=Europe/Berlin:20260702T180000
DTEND;TZID=Europe/Berlin:20260702T202500
UID:Z442A321-20260702T180000@VHSHEILBRONN
SUMMARY:Deutsch als Fremdsprache B1.2 kompakt (Z442A321) 
LOCATION:vhs, Deutschhof, Raum 321, Kirchbrunnenstr. 12, 74072 Heilbronn
END:VEVENT
BEGIN:VEVENT
DTSTAMP:20260422T124642
DTSTART;TZID=Europe/Berlin:20260707T180000
DTEND;TZID=Europe/Berlin:20260707T202500
UID:Z442A321-20260707T180000@VHSHEILBRONN
SUMMARY:Deutsch als Fremdsprache B1.2 kompakt (Z442A321) 
LOCATION:vhs, Deutschhof, Raum 321, Kirchbrunnenstr. 12, 74072 Heilbronn
END:VEVENT
BEGIN:VEVENT
DTSTAMP:20260422T124642
DTSTART;TZID=Europe/Berlin:20260709T180000
DTEND;TZID=Europe/Berlin:20260709T202500
UID:Z442A321-20260709T180000@VHSHEILBRONN
SUMMARY:Deutsch als Fremdsprache B1.2 kompakt (Z442A321) 
LOCATION:vhs, Deutschhof, Raum 321, Kirchbrunnenstr. 12, 74072 Heilbronn
END:VEVENT
BEGIN:VEVENT
DTSTAMP:20260422T124642
DTSTART;TZID=Europe/Berlin:20260714T180000
DTEND;TZID=Europe/Berlin:20260714T202500
UID:Z442A321-20260714T180000@VHSHEILBRONN
SUMMARY:Deutsch als Fremdsprache B1.2 kompakt (Z442A321) 
LOCATION:vhs, Deutschhof, Raum 321, Kirchbrunnenstr. 12, 74072 Heilbronn
END:VEVENT
END:VCALENDAR