BEGIN:VCALENDAR
VERSION:2.0
PRODID:https://www.kufer.de/kuferweb / DE
METHOD:PUBLISH
CALSCALE:GREGORIAN
X-WR-TIMEZONE:Europe/Berlin
BEGIN:VTIMEZONE
TZID:Europe/Berlin
X-LIC-LOCATION:Europe/Berlin
BEGIN:DAYLIGHT
TZOFFSETFROM:+0100
TZOFFSETTO:+0200
TZNAME:CEST
DTSTART:19700329T020000
RRULE:FREQ=YEARLY;INTERVAL=1;BYDAY=-1SU;BYMONTH=3
END:DAYLIGHT
BEGIN:STANDARD
TZOFFSETFROM:+0200
TZOFFSETTO:+0100
TZNAME:CET
DTSTART:19701025T030000
RRULE:FREQ=YEARLY;INTERVAL=1;BYDAY=-1SU;BYMONTH=10
END:STANDARD
END:VTIMEZONE
BEGIN:VEVENT
DTSTAMP:20260422T122540
DTSTART;TZID=Europe/Berlin:20260609T183000
DTEND;TZID=Europe/Berlin:20260609T205500
UID:Z442A221-20260609T183000@VHSHEILBRONN
SUMMARY:Deutsch als Fremdsprache A2.2 (Z442A221) 
LOCATION:vhs, Deutschhof, Raum 209, Kirchbrunnenstr. 12, 74072 Heilbronn
END:VEVENT
BEGIN:VEVENT
DTSTAMP:20260422T122540
DTSTART;TZID=Europe/Berlin:20260611T183000
DTEND;TZID=Europe/Berlin:20260611T205500
UID:Z442A221-20260611T183000@VHSHEILBRONN
SUMMARY:Deutsch als Fremdsprache A2.2 (Z442A221) 
LOCATION:vhs, Deutschhof, Raum 209, Kirchbrunnenstr. 12, 74072 Heilbronn
END:VEVENT
BEGIN:VEVENT
DTSTAMP:20260422T122540
DTSTART;TZID=Europe/Berlin:20260616T183000
DTEND;TZID=Europe/Berlin:20260616T205500
UID:Z442A221-20260616T183000@VHSHEILBRONN
SUMMARY:Deutsch als Fremdsprache A2.2 (Z442A221) 
LOCATION:vhs, Deutschhof, Raum 209, Kirchbrunnenstr. 12, 74072 Heilbronn
END:VEVENT
BEGIN:VEVENT
DTSTAMP:20260422T122540
DTSTART;TZID=Europe/Berlin:20260618T183000
DTEND;TZID=Europe/Berlin:20260618T205500
UID:Z442A221-20260618T183000@VHSHEILBRONN
SUMMARY:Deutsch als Fremdsprache A2.2 (Z442A221) 
LOCATION:vhs, Deutschhof, Raum 209, Kirchbrunnenstr. 12, 74072 Heilbronn
END:VEVENT
BEGIN:VEVENT
DTSTAMP:20260422T122540
DTSTART;TZID=Europe/Berlin:20260623T183000
DTEND;TZID=Europe/Berlin:20260623T205500
UID:Z442A221-20260623T183000@VHSHEILBRONN
SUMMARY:Deutsch als Fremdsprache A2.2 (Z442A221) 
LOCATION:vhs, Deutschhof, Raum 209, Kirchbrunnenstr. 12, 74072 Heilbronn
END:VEVENT
BEGIN:VEVENT
DTSTAMP:20260422T122540
DTSTART;TZID=Europe/Berlin:20260625T183000
DTEND;TZID=Europe/Berlin:20260625T205500
UID:Z442A221-20260625T183000@VHSHEILBRONN
SUMMARY:Deutsch als Fremdsprache A2.2 (Z442A221) 
LOCATION:vhs, Deutschhof, Raum 209, Kirchbrunnenstr. 12, 74072 Heilbronn
END:VEVENT
BEGIN:VEVENT
DTSTAMP:20260422T122540
DTSTART;TZID=Europe/Berlin:20260630T183000
DTEND;TZID=Europe/Berlin:20260630T205500
UID:Z442A221-20260630T183000@VHSHEILBRONN
SUMMARY:Deutsch als Fremdsprache A2.2 (Z442A221) 
LOCATION:vhs, Deutschhof, Raum 209, Kirchbrunnenstr. 12, 74072 Heilbronn
END:VEVENT
BEGIN:VEVENT
DTSTAMP:20260422T122540
DTSTART;TZID=Europe/Berlin:20260702T183000
DTEND;TZID=Europe/Berlin:20260702T205500
UID:Z442A221-20260702T183000@VHSHEILBRONN
SUMMARY:Deutsch als Fremdsprache A2.2 (Z442A221) 
LOCATION:vhs, Deutschhof, Raum 209, Kirchbrunnenstr. 12, 74072 Heilbronn
END:VEVENT
BEGIN:VEVENT
DTSTAMP:20260422T122540
DTSTART;TZID=Europe/Berlin:20260707T183000
DTEND;TZID=Europe/Berlin:20260707T205500
UID:Z442A221-20260707T183000@VHSHEILBRONN
SUMMARY:Deutsch als Fremdsprache A2.2 (Z442A221) 
LOCATION:vhs, Deutschhof, Raum 209, Kirchbrunnenstr. 12, 74072 Heilbronn
END:VEVENT
BEGIN:VEVENT
DTSTAMP:20260422T122540
DTSTART;TZID=Europe/Berlin:20260709T183000
DTEND;TZID=Europe/Berlin:20260709T205500
UID:Z442A221-20260709T183000@VHSHEILBRONN
SUMMARY:Deutsch als Fremdsprache A2.2 (Z442A221) 
LOCATION:vhs, Deutschhof, Raum 209, Kirchbrunnenstr. 12, 74072 Heilbronn
END:VEVENT
BEGIN:VEVENT
DTSTAMP:20260422T122540
DTSTART;TZID=Europe/Berlin:20260714T183000
DTEND;TZID=Europe/Berlin:20260714T205500
UID:Z442A221-20260714T183000@VHSHEILBRONN
SUMMARY:Deutsch als Fremdsprache A2.2 (Z442A221) 
LOCATION:vhs, Deutschhof, Raum 209, Kirchbrunnenstr. 12, 74072 Heilbronn
END:VEVENT
BEGIN:VEVENT
DTSTAMP:20260422T122540
DTSTART;TZID=Europe/Berlin:20260716T183000
DTEND;TZID=Europe/Berlin:20260716T205500
UID:Z442A221-20260716T183000@VHSHEILBRONN
SUMMARY:Deutsch als Fremdsprache A2.2 (Z442A221) 
LOCATION:vhs, Deutschhof, Raum 209, Kirchbrunnenstr. 12, 74072 Heilbronn
END:VEVENT
BEGIN:VEVENT
DTSTAMP:20260422T122540
DTSTART;TZID=Europe/Berlin:20260721T183000
DTEND;TZID=Europe/Berlin:20260721T205500
UID:Z442A221-20260721T183000@VHSHEILBRONN
SUMMARY:Deutsch als Fremdsprache A2.2 (Z442A221) 
LOCATION:vhs, Deutschhof, Raum 209, Kirchbrunnenstr. 12, 74072 Heilbronn
END:VEVENT
BEGIN:VEVENT
DTSTAMP:20260422T122540
DTSTART;TZID=Europe/Berlin:20260723T183000
DTEND;TZID=Europe/Berlin:20260723T205500
UID:Z442A221-20260723T183000@VHSHEILBRONN
SUMMARY:Deutsch als Fremdsprache A2.2 (Z442A221) 
LOCATION:vhs, Deutschhof, Raum 209, Kirchbrunnenstr. 12, 74072 Heilbronn
END:VEVENT
BEGIN:VEVENT
DTSTAMP:20260422T122540
DTSTART;TZID=Europe/Berlin:20260728T183000
DTEND;TZID=Europe/Berlin:20260728T205500
UID:Z442A221-20260728T183000@VHSHEILBRONN
SUMMARY:Deutsch als Fremdsprache A2.2 (Z442A221) 
LOCATION:vhs, Deutschhof, Raum 209, Kirchbrunnenstr. 12, 74072 Heilbronn
END:VEVENT
BEGIN:VEVENT
DTSTAMP:20260422T122540
DTSTART;TZID=Europe/Berlin:20260730T183000
DTEND;TZID=Europe/Berlin:20260730T205500
UID:Z442A221-20260730T183000@VHSHEILBRONN
SUMMARY:Deutsch als Fremdsprache A2.2 (Z442A221) 
LOCATION:vhs, Deutschhof, Raum 209, Kirchbrunnenstr. 12, 74072 Heilbronn
END:VEVENT
END:VCALENDAR