BEGIN:VCALENDAR
VERSION:2.0
PRODID:https://www.kufer.de/kuferweb / DE
METHOD:PUBLISH
CALSCALE:GREGORIAN
X-WR-TIMEZONE:Europe/Berlin
BEGIN:VTIMEZONE
TZID:Europe/Berlin
X-LIC-LOCATION:Europe/Berlin
BEGIN:DAYLIGHT
TZOFFSETFROM:+0100
TZOFFSETTO:+0200
TZNAME:CEST
DTSTART:19700329T020000
RRULE:FREQ=YEARLY;INTERVAL=1;BYDAY=-1SU;BYMONTH=3
END:DAYLIGHT
BEGIN:STANDARD
TZOFFSETFROM:+0200
TZOFFSETTO:+0100
TZNAME:CET
DTSTART:19701025T030000
RRULE:FREQ=YEARLY;INTERVAL=1;BYDAY=-1SU;BYMONTH=10
END:STANDARD
END:VTIMEZONE
BEGIN:VEVENT
DTSTAMP:20260422T122537
DTSTART;TZID=Europe/Berlin:20260511T083000
DTEND;TZID=Europe/Berlin:20260511T124500
UID:Z440A404-20260511T083000@VHSHEILBRONN
SUMMARY:Deutsch als Fremdsprache Intensivkurs Ziel B2 (Z440A404) 
LOCATION:vhs, Deutschhof, Raum 111, Kirchbrunnenstr. 12, 74072 Heilbronn
END:VEVENT
BEGIN:VEVENT
DTSTAMP:20260422T122537
DTSTART;TZID=Europe/Berlin:20260512T083000
DTEND;TZID=Europe/Berlin:20260512T124500
UID:Z440A404-20260512T083000@VHSHEILBRONN
SUMMARY:Deutsch als Fremdsprache Intensivkurs Ziel B2 (Z440A404) 
LOCATION:vhs, Deutschhof, Raum 111, Kirchbrunnenstr. 12, 74072 Heilbronn
END:VEVENT
BEGIN:VEVENT
DTSTAMP:20260422T122537
DTSTART;TZID=Europe/Berlin:20260513T083000
DTEND;TZID=Europe/Berlin:20260513T124500
UID:Z440A404-20260513T083000@VHSHEILBRONN
SUMMARY:Deutsch als Fremdsprache Intensivkurs Ziel B2 (Z440A404) 
LOCATION:vhs, Deutschhof, Raum 111, Kirchbrunnenstr. 12, 74072 Heilbronn
END:VEVENT
BEGIN:VEVENT
DTSTAMP:20260422T122537
DTSTART;TZID=Europe/Berlin:20260518T083000
DTEND;TZID=Europe/Berlin:20260518T124500
UID:Z440A404-20260518T083000@VHSHEILBRONN
SUMMARY:Deutsch als Fremdsprache Intensivkurs Ziel B2 (Z440A404) 
LOCATION:vhs, Deutschhof, Raum 111, Kirchbrunnenstr. 12, 74072 Heilbronn
END:VEVENT
BEGIN:VEVENT
DTSTAMP:20260422T122537
DTSTART;TZID=Europe/Berlin:20260519T083000
DTEND;TZID=Europe/Berlin:20260519T124500
UID:Z440A404-20260519T083000@VHSHEILBRONN
SUMMARY:Deutsch als Fremdsprache Intensivkurs Ziel B2 (Z440A404) 
LOCATION:vhs, Deutschhof, Raum 111, Kirchbrunnenstr. 12, 74072 Heilbronn
END:VEVENT
BEGIN:VEVENT
DTSTAMP:20260422T122537
DTSTART;TZID=Europe/Berlin:20260520T083000
DTEND;TZID=Europe/Berlin:20260520T124500
UID:Z440A404-20260520T083000@VHSHEILBRONN
SUMMARY:Deutsch als Fremdsprache Intensivkurs Ziel B2 (Z440A404) 
LOCATION:vhs, Deutschhof, Raum 111, Kirchbrunnenstr. 12, 74072 Heilbronn
END:VEVENT
BEGIN:VEVENT
DTSTAMP:20260422T122537
DTSTART;TZID=Europe/Berlin:20260521T083000
DTEND;TZID=Europe/Berlin:20260521T124500
UID:Z440A404-20260521T083000@VHSHEILBRONN
SUMMARY:Deutsch als Fremdsprache Intensivkurs Ziel B2 (Z440A404) 
LOCATION:vhs, Deutschhof, Raum 111, Kirchbrunnenstr. 12, 74072 Heilbronn
END:VEVENT
BEGIN:VEVENT
DTSTAMP:20260422T122537
DTSTART;TZID=Europe/Berlin:20260522T083000
DTEND;TZID=Europe/Berlin:20260522T124500
UID:Z440A404-20260522T083000@VHSHEILBRONN
SUMMARY:Deutsch als Fremdsprache Intensivkurs Ziel B2 (Z440A404) 
LOCATION:vhs, Deutschhof, Raum 111, Kirchbrunnenstr. 12, 74072 Heilbronn
END:VEVENT
BEGIN:VEVENT
DTSTAMP:20260422T122537
DTSTART;TZID=Europe/Berlin:20260526T083000
DTEND;TZID=Europe/Berlin:20260526T124500
UID:Z440A404-20260526T083000@VHSHEILBRONN
SUMMARY:Deutsch als Fremdsprache Intensivkurs Ziel B2 (Z440A404) 
LOCATION:vhs, Deutschhof, Raum 111, Kirchbrunnenstr. 12, 74072 Heilbronn
END:VEVENT
BEGIN:VEVENT
DTSTAMP:20260422T122537
DTSTART;TZID=Europe/Berlin:20260527T083000
DTEND;TZID=Europe/Berlin:20260527T124500
UID:Z440A404-20260527T083000@VHSHEILBRONN
SUMMARY:Deutsch als Fremdsprache Intensivkurs Ziel B2 (Z440A404) 
LOCATION:vhs, Deutschhof, Raum 111, Kirchbrunnenstr. 12, 74072 Heilbronn
END:VEVENT
BEGIN:VEVENT
DTSTAMP:20260422T122537
DTSTART;TZID=Europe/Berlin:20260528T083000
DTEND;TZID=Europe/Berlin:20260528T124500
UID:Z440A404-20260528T083000@VHSHEILBRONN
SUMMARY:Deutsch als Fremdsprache Intensivkurs Ziel B2 (Z440A404) 
LOCATION:vhs, Deutschhof, Raum 111, Kirchbrunnenstr. 12, 74072 Heilbronn
END:VEVENT
BEGIN:VEVENT
DTSTAMP:20260422T122537
DTSTART;TZID=Europe/Berlin:20260529T083000
DTEND;TZID=Europe/Berlin:20260529T124500
UID:Z440A404-20260529T083000@VHSHEILBRONN
SUMMARY:Deutsch als Fremdsprache Intensivkurs Ziel B2 (Z440A404) 
LOCATION:vhs, Deutschhof, Raum 111, Kirchbrunnenstr. 12, 74072 Heilbronn
END:VEVENT
BEGIN:VEVENT
DTSTAMP:20260422T122537
DTSTART;TZID=Europe/Berlin:20260601T083000
DTEND;TZID=Europe/Berlin:20260601T124500
UID:Z440A404-20260601T083000@VHSHEILBRONN
SUMMARY:Deutsch als Fremdsprache Intensivkurs Ziel B2 (Z440A404) 
LOCATION:vhs, Deutschhof, Raum 111, Kirchbrunnenstr. 12, 74072 Heilbronn
END:VEVENT
BEGIN:VEVENT
DTSTAMP:20260422T122537
DTSTART;TZID=Europe/Berlin:20260602T083000
DTEND;TZID=Europe/Berlin:20260602T124500
UID:Z440A404-20260602T083000@VHSHEILBRONN
SUMMARY:Deutsch als Fremdsprache Intensivkurs Ziel B2 (Z440A404) 
LOCATION:vhs, Deutschhof, Raum 111, Kirchbrunnenstr. 12, 74072 Heilbronn
END:VEVENT
BEGIN:VEVENT
DTSTAMP:20260422T122537
DTSTART;TZID=Europe/Berlin:20260603T083000
DTEND;TZID=Europe/Berlin:20260603T124500
UID:Z440A404-20260603T083000@VHSHEILBRONN
SUMMARY:Deutsch als Fremdsprache Intensivkurs Ziel B2 (Z440A404) 
LOCATION:vhs, Deutschhof, Raum 111, Kirchbrunnenstr. 12, 74072 Heilbronn
END:VEVENT
BEGIN:VEVENT
DTSTAMP:20260422T122537
DTSTART;TZID=Europe/Berlin:20260608T083000
DTEND;TZID=Europe/Berlin:20260608T124500
UID:Z440A404-20260608T083000@VHSHEILBRONN
SUMMARY:Deutsch als Fremdsprache Intensivkurs Ziel B2 (Z440A404) 
LOCATION:vhs, Deutschhof, Raum 111, Kirchbrunnenstr. 12, 74072 Heilbronn
END:VEVENT
BEGIN:VEVENT
DTSTAMP:20260422T122537
DTSTART;TZID=Europe/Berlin:20260609T083000
DTEND;TZID=Europe/Berlin:20260609T124500
UID:Z440A404-20260609T083000@VHSHEILBRONN
SUMMARY:Deutsch als Fremdsprache Intensivkurs Ziel B2 (Z440A404) 
LOCATION:vhs, Deutschhof, Raum 111, Kirchbrunnenstr. 12, 74072 Heilbronn
END:VEVENT
BEGIN:VEVENT
DTSTAMP:20260422T122537
DTSTART;TZID=Europe/Berlin:20260610T083000
DTEND;TZID=Europe/Berlin:20260610T124500
UID:Z440A404-20260610T083000@VHSHEILBRONN
SUMMARY:Deutsch als Fremdsprache Intensivkurs Ziel B2 (Z440A404) 
LOCATION:vhs, Deutschhof, Raum 111, Kirchbrunnenstr. 12, 74072 Heilbronn
END:VEVENT
BEGIN:VEVENT
DTSTAMP:20260422T122537
DTSTART;TZID=Europe/Berlin:20260611T083000
DTEND;TZID=Europe/Berlin:20260611T124500
UID:Z440A404-20260611T083000@VHSHEILBRONN
SUMMARY:Deutsch als Fremdsprache Intensivkurs Ziel B2 (Z440A404) 
LOCATION:vhs, Deutschhof, Raum 111, Kirchbrunnenstr. 12, 74072 Heilbronn
END:VEVENT
BEGIN:VEVENT
DTSTAMP:20260422T122537
DTSTART;TZID=Europe/Berlin:20260612T083000
DTEND;TZID=Europe/Berlin:20260612T124500
UID:Z440A404-20260612T083000@VHSHEILBRONN
SUMMARY:Deutsch als Fremdsprache Intensivkurs Ziel B2 (Z440A404) 
LOCATION:vhs, Deutschhof, Raum 111, Kirchbrunnenstr. 12, 74072 Heilbronn
END:VEVENT
BEGIN:VEVENT
DTSTAMP:20260422T122537
DTSTART;TZID=Europe/Berlin:20260615T083000
DTEND;TZID=Europe/Berlin:20260615T124500
UID:Z440A404-20260615T083000@VHSHEILBRONN
SUMMARY:Deutsch als Fremdsprache Intensivkurs Ziel B2 (Z440A404) 
LOCATION:vhs, Deutschhof, Raum 111, Kirchbrunnenstr. 12, 74072 Heilbronn
END:VEVENT
BEGIN:VEVENT
DTSTAMP:20260422T122537
DTSTART;TZID=Europe/Berlin:20260616T083000
DTEND;TZID=Europe/Berlin:20260616T124500
UID:Z440A404-20260616T083000@VHSHEILBRONN
SUMMARY:Deutsch als Fremdsprache Intensivkurs Ziel B2 (Z440A404) 
LOCATION:vhs, Deutschhof, Raum 111, Kirchbrunnenstr. 12, 74072 Heilbronn
END:VEVENT
BEGIN:VEVENT
DTSTAMP:20260422T122537
DTSTART;TZID=Europe/Berlin:20260617T083000
DTEND;TZID=Europe/Berlin:20260617T124500
UID:Z440A404-20260617T083000@VHSHEILBRONN
SUMMARY:Deutsch als Fremdsprache Intensivkurs Ziel B2 (Z440A404) 
LOCATION:vhs, Deutschhof, Raum 111, Kirchbrunnenstr. 12, 74072 Heilbronn
END:VEVENT
BEGIN:VEVENT
DTSTAMP:20260422T122537
DTSTART;TZID=Europe/Berlin:20260618T083000
DTEND;TZID=Europe/Berlin:20260618T124500
UID:Z440A404-20260618T083000@VHSHEILBRONN
SUMMARY:Deutsch als Fremdsprache Intensivkurs Ziel B2 (Z440A404) 
LOCATION:vhs, Deutschhof, Raum 111, Kirchbrunnenstr. 12, 74072 Heilbronn
END:VEVENT
BEGIN:VEVENT
DTSTAMP:20260422T122537
DTSTART;TZID=Europe/Berlin:20260619T083000
DTEND;TZID=Europe/Berlin:20260619T124500
UID:Z440A404-20260619T083000@VHSHEILBRONN
SUMMARY:Deutsch als Fremdsprache Intensivkurs Ziel B2 (Z440A404) 
LOCATION:vhs, Deutschhof, Raum 111, Kirchbrunnenstr. 12, 74072 Heilbronn
END:VEVENT
BEGIN:VEVENT
DTSTAMP:20260422T122537
DTSTART;TZID=Europe/Berlin:20260622T083000
DTEND;TZID=Europe/Berlin:20260622T124500
UID:Z440A404-20260622T083000@VHSHEILBRONN
SUMMARY:Deutsch als Fremdsprache Intensivkurs Ziel B2 (Z440A404) 
LOCATION:vhs, Deutschhof, Raum 111, Kirchbrunnenstr. 12, 74072 Heilbronn
END:VEVENT
BEGIN:VEVENT
DTSTAMP:20260422T122537
DTSTART;TZID=Europe/Berlin:20260623T083000
DTEND;TZID=Europe/Berlin:20260623T124500
UID:Z440A404-20260623T083000@VHSHEILBRONN
SUMMARY:Deutsch als Fremdsprache Intensivkurs Ziel B2 (Z440A404) 
LOCATION:vhs, Deutschhof, Raum 111, Kirchbrunnenstr. 12, 74072 Heilbronn
END:VEVENT
BEGIN:VEVENT
DTSTAMP:20260422T122537
DTSTART;TZID=Europe/Berlin:20260624T083000
DTEND;TZID=Europe/Berlin:20260624T124500
UID:Z440A404-20260624T083000@VHSHEILBRONN
SUMMARY:Deutsch als Fremdsprache Intensivkurs Ziel B2 (Z440A404) 
LOCATION:vhs, Deutschhof, Raum 111, Kirchbrunnenstr. 12, 74072 Heilbronn
END:VEVENT
BEGIN:VEVENT
DTSTAMP:20260422T122537
DTSTART;TZID=Europe/Berlin:20260625T083000
DTEND;TZID=Europe/Berlin:20260625T124500
UID:Z440A404-20260625T083000@VHSHEILBRONN
SUMMARY:Deutsch als Fremdsprache Intensivkurs Ziel B2 (Z440A404) 
LOCATION:vhs, Deutschhof, Raum 111, Kirchbrunnenstr. 12, 74072 Heilbronn
END:VEVENT
BEGIN:VEVENT
DTSTAMP:20260422T122537
DTSTART;TZID=Europe/Berlin:20260626T083000
DTEND;TZID=Europe/Berlin:20260626T124500
UID:Z440A404-20260626T083000@VHSHEILBRONN
SUMMARY:Deutsch als Fremdsprache Intensivkurs Ziel B2 (Z440A404) 
LOCATION:vhs, Deutschhof, Raum 111, Kirchbrunnenstr. 12, 74072 Heilbronn
END:VEVENT
BEGIN:VEVENT
DTSTAMP:20260422T122537
DTSTART;TZID=Europe/Berlin:20260629T083000
DTEND;TZID=Europe/Berlin:20260629T124500
UID:Z440A404-20260629T083000@VHSHEILBRONN
SUMMARY:Deutsch als Fremdsprache Intensivkurs Ziel B2 (Z440A404) 
LOCATION:vhs, Deutschhof, Raum 111, Kirchbrunnenstr. 12, 74072 Heilbronn
END:VEVENT
BEGIN:VEVENT
DTSTAMP:20260422T122537
DTSTART;TZID=Europe/Berlin:20260630T083000
DTEND;TZID=Europe/Berlin:20260630T124500
UID:Z440A404-20260630T083000@VHSHEILBRONN
SUMMARY:Deutsch als Fremdsprache Intensivkurs Ziel B2 (Z440A404) 
LOCATION:vhs, Deutschhof, Raum 111, Kirchbrunnenstr. 12, 74072 Heilbronn
END:VEVENT
BEGIN:VEVENT
DTSTAMP:20260422T122537
DTSTART;TZID=Europe/Berlin:20260701T083000
DTEND;TZID=Europe/Berlin:20260701T124500
UID:Z440A404-20260701T083000@VHSHEILBRONN
SUMMARY:Deutsch als Fremdsprache Intensivkurs Ziel B2 (Z440A404) 
LOCATION:vhs, Deutschhof, Raum 111, Kirchbrunnenstr. 12, 74072 Heilbronn
END:VEVENT
BEGIN:VEVENT
DTSTAMP:20260422T122537
DTSTART;TZID=Europe/Berlin:20260702T083000
DTEND;TZID=Europe/Berlin:20260702T124500
UID:Z440A404-20260702T083000@VHSHEILBRONN
SUMMARY:Deutsch als Fremdsprache Intensivkurs Ziel B2 (Z440A404) 
LOCATION:vhs, Deutschhof, Raum 111, Kirchbrunnenstr. 12, 74072 Heilbronn
END:VEVENT
BEGIN:VEVENT
DTSTAMP:20260422T122537
DTSTART;TZID=Europe/Berlin:20260703T083000
DTEND;TZID=Europe/Berlin:20260703T124500
UID:Z440A404-20260703T083000@VHSHEILBRONN
SUMMARY:Deutsch als Fremdsprache Intensivkurs Ziel B2 (Z440A404) 
LOCATION:vhs, Deutschhof, Raum 111, Kirchbrunnenstr. 12, 74072 Heilbronn
END:VEVENT
BEGIN:VEVENT
DTSTAMP:20260422T122537
DTSTART;TZID=Europe/Berlin:20260706T083000
DTEND;TZID=Europe/Berlin:20260706T124500
UID:Z440A404-20260706T083000@VHSHEILBRONN
SUMMARY:Deutsch als Fremdsprache Intensivkurs Ziel B2 (Z440A404) 
LOCATION:vhs, Deutschhof, Raum 111, Kirchbrunnenstr. 12, 74072 Heilbronn
END:VEVENT
BEGIN:VEVENT
DTSTAMP:20260422T122537
DTSTART;TZID=Europe/Berlin:20260707T083000
DTEND;TZID=Europe/Berlin:20260707T124500
UID:Z440A404-20260707T083000@VHSHEILBRONN
SUMMARY:Deutsch als Fremdsprache Intensivkurs Ziel B2 (Z440A404) 
LOCATION:vhs, Deutschhof, Raum 111, Kirchbrunnenstr. 12, 74072 Heilbronn
END:VEVENT
BEGIN:VEVENT
DTSTAMP:20260422T122537
DTSTART;TZID=Europe/Berlin:20260708T083000
DTEND;TZID=Europe/Berlin:20260708T124500
UID:Z440A404-20260708T083000@VHSHEILBRONN
SUMMARY:Deutsch als Fremdsprache Intensivkurs Ziel B2 (Z440A404) 
LOCATION:vhs, Deutschhof, Raum 111, Kirchbrunnenstr. 12, 74072 Heilbronn
END:VEVENT
BEGIN:VEVENT
DTSTAMP:20260422T122537
DTSTART;TZID=Europe/Berlin:20260709T083000
DTEND;TZID=Europe/Berlin:20260709T124500
UID:Z440A404-20260709T083000@VHSHEILBRONN
SUMMARY:Deutsch als Fremdsprache Intensivkurs Ziel B2 (Z440A404) 
LOCATION:vhs, Deutschhof, Raum 111, Kirchbrunnenstr. 12, 74072 Heilbronn
END:VEVENT
BEGIN:VEVENT
DTSTAMP:20260422T122537
DTSTART;TZID=Europe/Berlin:20260710T083000
DTEND;TZID=Europe/Berlin:20260710T124500
UID:Z440A404-20260710T083000@VHSHEILBRONN
SUMMARY:Deutsch als Fremdsprache Intensivkurs Ziel B2 (Z440A404) 
LOCATION:vhs, Deutschhof, Raum 111, Kirchbrunnenstr. 12, 74072 Heilbronn
END:VEVENT
BEGIN:VEVENT
DTSTAMP:20260422T122537
DTSTART;TZID=Europe/Berlin:20260713T083000
DTEND;TZID=Europe/Berlin:20260713T124500
UID:Z440A404-20260713T083000@VHSHEILBRONN
SUMMARY:Deutsch als Fremdsprache Intensivkurs Ziel B2 (Z440A404) 
LOCATION:vhs, Deutschhof, Raum 111, Kirchbrunnenstr. 12, 74072 Heilbronn
END:VEVENT
BEGIN:VEVENT
DTSTAMP:20260422T122537
DTSTART;TZID=Europe/Berlin:20260714T083000
DTEND;TZID=Europe/Berlin:20260714T124500
UID:Z440A404-20260714T083000@VHSHEILBRONN
SUMMARY:Deutsch als Fremdsprache Intensivkurs Ziel B2 (Z440A404) 
LOCATION:vhs, Deutschhof, Raum 111, Kirchbrunnenstr. 12, 74072 Heilbronn
END:VEVENT
BEGIN:VEVENT
DTSTAMP:20260422T122537
DTSTART;TZID=Europe/Berlin:20260715T083000
DTEND;TZID=Europe/Berlin:20260715T124500
UID:Z440A404-20260715T083000@VHSHEILBRONN
SUMMARY:Deutsch als Fremdsprache Intensivkurs Ziel B2 (Z440A404) 
LOCATION:vhs, Deutschhof, Raum 111, Kirchbrunnenstr. 12, 74072 Heilbronn
END:VEVENT
BEGIN:VEVENT
DTSTAMP:20260422T122537
DTSTART;TZID=Europe/Berlin:20260716T083000
DTEND;TZID=Europe/Berlin:20260716T124500
UID:Z440A404-20260716T083000@VHSHEILBRONN
SUMMARY:Deutsch als Fremdsprache Intensivkurs Ziel B2 (Z440A404) 
LOCATION:vhs, Deutschhof, Raum 111, Kirchbrunnenstr. 12, 74072 Heilbronn
END:VEVENT
BEGIN:VEVENT
DTSTAMP:20260422T122537
DTSTART;TZID=Europe/Berlin:20260717T083000
DTEND;TZID=Europe/Berlin:20260717T124500
UID:Z440A404-20260717T083000@VHSHEILBRONN
SUMMARY:Deutsch als Fremdsprache Intensivkurs Ziel B2 (Z440A404) 
LOCATION:vhs, Deutschhof, Raum 111, Kirchbrunnenstr. 12, 74072 Heilbronn
END:VEVENT
BEGIN:VEVENT
DTSTAMP:20260422T122537
DTSTART;TZID=Europe/Berlin:20260720T083000
DTEND;TZID=Europe/Berlin:20260720T124500
UID:Z440A404-20260720T083000@VHSHEILBRONN
SUMMARY:Deutsch als Fremdsprache Intensivkurs Ziel B2 (Z440A404) 
LOCATION:vhs, Deutschhof, Raum 111, Kirchbrunnenstr. 12, 74072 Heilbronn
END:VEVENT
BEGIN:VEVENT
DTSTAMP:20260422T122537
DTSTART;TZID=Europe/Berlin:20260721T083000
DTEND;TZID=Europe/Berlin:20260721T124500
UID:Z440A404-20260721T083000@VHSHEILBRONN
SUMMARY:Deutsch als Fremdsprache Intensivkurs Ziel B2 (Z440A404) 
LOCATION:vhs, Deutschhof, Raum 111, Kirchbrunnenstr. 12, 74072 Heilbronn
END:VEVENT
BEGIN:VEVENT
DTSTAMP:20260422T122537
DTSTART;TZID=Europe/Berlin:20260722T083000
DTEND;TZID=Europe/Berlin:20260722T124500
UID:Z440A404-20260722T083000@VHSHEILBRONN
SUMMARY:Deutsch als Fremdsprache Intensivkurs Ziel B2 (Z440A404) 
LOCATION:vhs, Deutschhof, Raum 111, Kirchbrunnenstr. 12, 74072 Heilbronn
END:VEVENT
BEGIN:VEVENT
DTSTAMP:20260422T122537
DTSTART;TZID=Europe/Berlin:20260723T083000
DTEND;TZID=Europe/Berlin:20260723T124500
UID:Z440A404-20260723T083000@VHSHEILBRONN
SUMMARY:Deutsch als Fremdsprache Intensivkurs Ziel B2 (Z440A404) 
LOCATION:vhs, Deutschhof, Raum 111, Kirchbrunnenstr. 12, 74072 Heilbronn
END:VEVENT
BEGIN:VEVENT
DTSTAMP:20260422T122537
DTSTART;TZID=Europe/Berlin:20260724T083000
DTEND;TZID=Europe/Berlin:20260724T124500
UID:Z440A404-20260724T083000@VHSHEILBRONN
SUMMARY:Deutsch als Fremdsprache Intensivkurs Ziel B2 (Z440A404) 
LOCATION:vhs, Deutschhof, Raum 111, Kirchbrunnenstr. 12, 74072 Heilbronn
END:VEVENT
BEGIN:VEVENT
DTSTAMP:20260422T122537
DTSTART;TZID=Europe/Berlin:20260727T083000
DTEND;TZID=Europe/Berlin:20260727T124500
UID:Z440A404-20260727T083000@VHSHEILBRONN
SUMMARY:Deutsch als Fremdsprache Intensivkurs Ziel B2 (Z440A404) 
LOCATION:vhs, Deutschhof, Raum 111, Kirchbrunnenstr. 12, 74072 Heilbronn
END:VEVENT
BEGIN:VEVENT
DTSTAMP:20260422T122537
DTSTART;TZID=Europe/Berlin:20260728T083000
DTEND;TZID=Europe/Berlin:20260728T124500
UID:Z440A404-20260728T083000@VHSHEILBRONN
SUMMARY:Deutsch als Fremdsprache Intensivkurs Ziel B2 (Z440A404) 
LOCATION:vhs, Deutschhof, Raum 111, Kirchbrunnenstr. 12, 74072 Heilbronn
END:VEVENT
BEGIN:VEVENT
DTSTAMP:20260422T122537
DTSTART;TZID=Europe/Berlin:20260729T083000
DTEND;TZID=Europe/Berlin:20260729T124500
UID:Z440A404-20260729T083000@VHSHEILBRONN
SUMMARY:Deutsch als Fremdsprache Intensivkurs Ziel B2 (Z440A404) 
LOCATION:vhs, Deutschhof, Raum 111, Kirchbrunnenstr. 12, 74072 Heilbronn
END:VEVENT
BEGIN:VEVENT
DTSTAMP:20260422T122537
DTSTART;TZID=Europe/Berlin:20260730T083000
DTEND;TZID=Europe/Berlin:20260730T124500
UID:Z440A404-20260730T083000@VHSHEILBRONN
SUMMARY:Deutsch als Fremdsprache Intensivkurs Ziel B2 (Z440A404) 
LOCATION:vhs, Deutschhof, Raum 111, Kirchbrunnenstr. 12, 74072 Heilbronn
END:VEVENT
BEGIN:VEVENT
DTSTAMP:20260422T122537
DTSTART;TZID=Europe/Berlin:20260731T083000
DTEND;TZID=Europe/Berlin:20260731T124500
UID:Z440A404-20260731T083000@VHSHEILBRONN
SUMMARY:Deutsch als Fremdsprache Intensivkurs Ziel B2 (Z440A404) 
LOCATION:vhs, Deutschhof, Raum 111, Kirchbrunnenstr. 12, 74072 Heilbronn
END:VEVENT
BEGIN:VEVENT
DTSTAMP:20260422T122537
DTSTART;TZID=Europe/Berlin:20260803T083000
DTEND;TZID=Europe/Berlin:20260803T124500
UID:Z440A404-20260803T083000@VHSHEILBRONN
SUMMARY:Deutsch als Fremdsprache Intensivkurs Ziel B2 (Z440A404) 
LOCATION:vhs, Deutschhof, Raum 111, Kirchbrunnenstr. 12, 74072 Heilbronn
END:VEVENT
END:VCALENDAR