BEGIN:VCALENDAR
VERSION:2.0
PRODID:https://www.kufer.de/kuferweb / DE
METHOD:PUBLISH
CALSCALE:GREGORIAN
X-WR-TIMEZONE:Europe/Berlin
BEGIN:VTIMEZONE
TZID:Europe/Berlin
X-LIC-LOCATION:Europe/Berlin
BEGIN:DAYLIGHT
TZOFFSETFROM:+0100
TZOFFSETTO:+0200
TZNAME:CEST
DTSTART:19700329T020000
RRULE:FREQ=YEARLY;INTERVAL=1;BYDAY=-1SU;BYMONTH=3
END:DAYLIGHT
BEGIN:STANDARD
TZOFFSETFROM:+0200
TZOFFSETTO:+0100
TZNAME:CET
DTSTART:19701025T030000
RRULE:FREQ=YEARLY;INTERVAL=1;BYDAY=-1SU;BYMONTH=10
END:STANDARD
END:VTIMEZONE
BEGIN:VEVENT
DTSTAMP:20260422T122538
DTSTART;TZID=Europe/Berlin:20260302T083000
DTEND;TZID=Europe/Berlin:20260302T124500
UID:Z440A403-20260302T083000@VHSHEILBRONN
SUMMARY:Deutsch als Fremdsprache Intensivkurs Ziel B2 (Z440A403) 
LOCATION:vhs, Deutschhof, Raum 125, Kirchbrunnenstr. 12, 74072 Heilbronn
END:VEVENT
BEGIN:VEVENT
DTSTAMP:20260422T122538
DTSTART;TZID=Europe/Berlin:20260303T083000
DTEND;TZID=Europe/Berlin:20260303T124500
UID:Z440A403-20260303T083000@VHSHEILBRONN
SUMMARY:Deutsch als Fremdsprache Intensivkurs Ziel B2 (Z440A403) 
LOCATION:vhs, Deutschhof, Raum 125, Kirchbrunnenstr. 12, 74072 Heilbronn
END:VEVENT
BEGIN:VEVENT
DTSTAMP:20260422T122538
DTSTART;TZID=Europe/Berlin:20260304T083000
DTEND;TZID=Europe/Berlin:20260304T124500
UID:Z440A403-20260304T083000@VHSHEILBRONN
SUMMARY:Deutsch als Fremdsprache Intensivkurs Ziel B2 (Z440A403) 
LOCATION:vhs, Deutschhof, Raum 125, Kirchbrunnenstr. 12, 74072 Heilbronn
END:VEVENT
BEGIN:VEVENT
DTSTAMP:20260422T122538
DTSTART;TZID=Europe/Berlin:20260305T083000
DTEND;TZID=Europe/Berlin:20260305T124500
UID:Z440A403-20260305T083000@VHSHEILBRONN
SUMMARY:Deutsch als Fremdsprache Intensivkurs Ziel B2 (Z440A403) 
LOCATION:vhs, Deutschhof, Raum 125, Kirchbrunnenstr. 12, 74072 Heilbronn
END:VEVENT
BEGIN:VEVENT
DTSTAMP:20260422T122538
DTSTART;TZID=Europe/Berlin:20260306T083000
DTEND;TZID=Europe/Berlin:20260306T124500
UID:Z440A403-20260306T083000@VHSHEILBRONN
SUMMARY:Deutsch als Fremdsprache Intensivkurs Ziel B2 (Z440A403) 
LOCATION:vhs, Deutschhof, Raum 125, Kirchbrunnenstr. 12, 74072 Heilbronn
END:VEVENT
BEGIN:VEVENT
DTSTAMP:20260422T122538
DTSTART;TZID=Europe/Berlin:20260309T083000
DTEND;TZID=Europe/Berlin:20260309T124500
UID:Z440A403-20260309T083000@VHSHEILBRONN
SUMMARY:Deutsch als Fremdsprache Intensivkurs Ziel B2 (Z440A403) 
LOCATION:vhs, Deutschhof, Raum 125, Kirchbrunnenstr. 12, 74072 Heilbronn
END:VEVENT
BEGIN:VEVENT
DTSTAMP:20260422T122538
DTSTART;TZID=Europe/Berlin:20260310T083000
DTEND;TZID=Europe/Berlin:20260310T124500
UID:Z440A403-20260310T083000@VHSHEILBRONN
SUMMARY:Deutsch als Fremdsprache Intensivkurs Ziel B2 (Z440A403) 
LOCATION:vhs, Deutschhof, Raum 125, Kirchbrunnenstr. 12, 74072 Heilbronn
END:VEVENT
BEGIN:VEVENT
DTSTAMP:20260422T122538
DTSTART;TZID=Europe/Berlin:20260311T083000
DTEND;TZID=Europe/Berlin:20260311T124500
UID:Z440A403-20260311T083000@VHSHEILBRONN
SUMMARY:Deutsch als Fremdsprache Intensivkurs Ziel B2 (Z440A403) 
LOCATION:vhs, Deutschhof, Raum 125, Kirchbrunnenstr. 12, 74072 Heilbronn
END:VEVENT
BEGIN:VEVENT
DTSTAMP:20260422T122538
DTSTART;TZID=Europe/Berlin:20260312T083000
DTEND;TZID=Europe/Berlin:20260312T124500
UID:Z440A403-20260312T083000@VHSHEILBRONN
SUMMARY:Deutsch als Fremdsprache Intensivkurs Ziel B2 (Z440A403) 
LOCATION:vhs, Deutschhof, Raum 125, Kirchbrunnenstr. 12, 74072 Heilbronn
END:VEVENT
BEGIN:VEVENT
DTSTAMP:20260422T122538
DTSTART;TZID=Europe/Berlin:20260313T083000
DTEND;TZID=Europe/Berlin:20260313T124500
UID:Z440A403-20260313T083000@VHSHEILBRONN
SUMMARY:Deutsch als Fremdsprache Intensivkurs Ziel B2 (Z440A403) 
LOCATION:vhs, Deutschhof, Raum 125, Kirchbrunnenstr. 12, 74072 Heilbronn
END:VEVENT
BEGIN:VEVENT
DTSTAMP:20260422T122538
DTSTART;TZID=Europe/Berlin:20260316T083000
DTEND;TZID=Europe/Berlin:20260316T124500
UID:Z440A403-20260316T083000@VHSHEILBRONN
SUMMARY:Deutsch als Fremdsprache Intensivkurs Ziel B2 (Z440A403) 
LOCATION:vhs, Deutschhof, Raum 125, Kirchbrunnenstr. 12, 74072 Heilbronn
END:VEVENT
BEGIN:VEVENT
DTSTAMP:20260422T122538
DTSTART;TZID=Europe/Berlin:20260317T083000
DTEND;TZID=Europe/Berlin:20260317T124500
UID:Z440A403-20260317T083000@VHSHEILBRONN
SUMMARY:Deutsch als Fremdsprache Intensivkurs Ziel B2 (Z440A403) 
LOCATION:vhs, Deutschhof, Raum 125, Kirchbrunnenstr. 12, 74072 Heilbronn
END:VEVENT
BEGIN:VEVENT
DTSTAMP:20260422T122538
DTSTART;TZID=Europe/Berlin:20260318T083000
DTEND;TZID=Europe/Berlin:20260318T124500
UID:Z440A403-20260318T083000@VHSHEILBRONN
SUMMARY:Deutsch als Fremdsprache Intensivkurs Ziel B2 (Z440A403) 
LOCATION:vhs, Deutschhof, Raum 125, Kirchbrunnenstr. 12, 74072 Heilbronn
END:VEVENT
BEGIN:VEVENT
DTSTAMP:20260422T122538
DTSTART;TZID=Europe/Berlin:20260319T083000
DTEND;TZID=Europe/Berlin:20260319T124500
UID:Z440A403-20260319T083000@VHSHEILBRONN
SUMMARY:Deutsch als Fremdsprache Intensivkurs Ziel B2 (Z440A403) 
LOCATION:vhs, Deutschhof, Raum 125, Kirchbrunnenstr. 12, 74072 Heilbronn
END:VEVENT
BEGIN:VEVENT
DTSTAMP:20260422T122538
DTSTART;TZID=Europe/Berlin:20260320T083000
DTEND;TZID=Europe/Berlin:20260320T124500
UID:Z440A403-20260320T083000@VHSHEILBRONN
SUMMARY:Deutsch als Fremdsprache Intensivkurs Ziel B2 (Z440A403) 
LOCATION:vhs, Deutschhof, Raum 125, Kirchbrunnenstr. 12, 74072 Heilbronn
END:VEVENT
BEGIN:VEVENT
DTSTAMP:20260422T122538
DTSTART;TZID=Europe/Berlin:20260323T083000
DTEND;TZID=Europe/Berlin:20260323T124500
UID:Z440A403-20260323T083000@VHSHEILBRONN
SUMMARY:Deutsch als Fremdsprache Intensivkurs Ziel B2 (Z440A403) 
LOCATION:vhs, Deutschhof, Raum 125, Kirchbrunnenstr. 12, 74072 Heilbronn
END:VEVENT
BEGIN:VEVENT
DTSTAMP:20260422T122538
DTSTART;TZID=Europe/Berlin:20260324T083000
DTEND;TZID=Europe/Berlin:20260324T124500
UID:Z440A403-20260324T083000@VHSHEILBRONN
SUMMARY:Deutsch als Fremdsprache Intensivkurs Ziel B2 (Z440A403) 
LOCATION:vhs, Deutschhof, Raum 125, Kirchbrunnenstr. 12, 74072 Heilbronn
END:VEVENT
BEGIN:VEVENT
DTSTAMP:20260422T122538
DTSTART;TZID=Europe/Berlin:20260325T083000
DTEND;TZID=Europe/Berlin:20260325T124500
UID:Z440A403-20260325T083000@VHSHEILBRONN
SUMMARY:Deutsch als Fremdsprache Intensivkurs Ziel B2 (Z440A403) 
LOCATION:vhs, Deutschhof, Raum 125, Kirchbrunnenstr. 12, 74072 Heilbronn
END:VEVENT
BEGIN:VEVENT
DTSTAMP:20260422T122538
DTSTART;TZID=Europe/Berlin:20260326T083000
DTEND;TZID=Europe/Berlin:20260326T124500
UID:Z440A403-20260326T083000@VHSHEILBRONN
SUMMARY:Deutsch als Fremdsprache Intensivkurs Ziel B2 (Z440A403) 
LOCATION:vhs, Deutschhof, Raum 125, Kirchbrunnenstr. 12, 74072 Heilbronn
END:VEVENT
BEGIN:VEVENT
DTSTAMP:20260422T122538
DTSTART;TZID=Europe/Berlin:20260407T083000
DTEND;TZID=Europe/Berlin:20260407T124500
UID:Z440A403-20260407T083000@VHSHEILBRONN
SUMMARY:Deutsch als Fremdsprache Intensivkurs Ziel B2 (Z440A403) 
LOCATION:vhs, Deutschhof, Raum 125, Kirchbrunnenstr. 12, 74072 Heilbronn
END:VEVENT
BEGIN:VEVENT
DTSTAMP:20260422T122538
DTSTART;TZID=Europe/Berlin:20260413T083000
DTEND;TZID=Europe/Berlin:20260413T124500
UID:Z440A403-20260413T083000@VHSHEILBRONN
SUMMARY:Deutsch als Fremdsprache Intensivkurs Ziel B2 (Z440A403) 
LOCATION:vhs, Deutschhof, Raum 125, Kirchbrunnenstr. 12, 74072 Heilbronn
END:VEVENT
BEGIN:VEVENT
DTSTAMP:20260422T122538
DTSTART;TZID=Europe/Berlin:20260415T083000
DTEND;TZID=Europe/Berlin:20260415T124500
UID:Z440A403-20260415T083000@VHSHEILBRONN
SUMMARY:Deutsch als Fremdsprache Intensivkurs Ziel B2 (Z440A403) 
LOCATION:vhs, Deutschhof, Raum 125, Kirchbrunnenstr. 12, 74072 Heilbronn
END:VEVENT
BEGIN:VEVENT
DTSTAMP:20260422T122538
DTSTART;TZID=Europe/Berlin:20260416T083000
DTEND;TZID=Europe/Berlin:20260416T124500
UID:Z440A403-20260416T083000@VHSHEILBRONN
SUMMARY:Deutsch als Fremdsprache Intensivkurs Ziel B2 (Z440A403) 
LOCATION:vhs, Deutschhof, Raum 125, Kirchbrunnenstr. 12, 74072 Heilbronn
END:VEVENT
BEGIN:VEVENT
DTSTAMP:20260422T122538
DTSTART;TZID=Europe/Berlin:20260427T083000
DTEND;TZID=Europe/Berlin:20260427T124500
UID:Z440A403-20260427T083000@VHSHEILBRONN
SUMMARY:Deutsch als Fremdsprache Intensivkurs Ziel B2 (Z440A403) 
LOCATION:vhs, Deutschhof, Raum 125, Kirchbrunnenstr. 12, 74072 Heilbronn
END:VEVENT
BEGIN:VEVENT
DTSTAMP:20260422T122538
DTSTART;TZID=Europe/Berlin:20260428T083000
DTEND;TZID=Europe/Berlin:20260428T124500
UID:Z440A403-20260428T083000@VHSHEILBRONN
SUMMARY:Deutsch als Fremdsprache Intensivkurs Ziel B2 (Z440A403) 
LOCATION:vhs, Deutschhof, Raum 125, Kirchbrunnenstr. 12, 74072 Heilbronn
END:VEVENT
BEGIN:VEVENT
DTSTAMP:20260422T122538
DTSTART;TZID=Europe/Berlin:20260429T083000
DTEND;TZID=Europe/Berlin:20260429T124500
UID:Z440A403-20260429T083000@VHSHEILBRONN
SUMMARY:Deutsch als Fremdsprache Intensivkurs Ziel B2 (Z440A403) 
LOCATION:vhs, Deutschhof, Raum 125, Kirchbrunnenstr. 12, 74072 Heilbronn
END:VEVENT
BEGIN:VEVENT
DTSTAMP:20260422T122538
DTSTART;TZID=Europe/Berlin:20260430T083000
DTEND;TZID=Europe/Berlin:20260430T124500
UID:Z440A403-20260430T083000@VHSHEILBRONN
SUMMARY:Deutsch als Fremdsprache Intensivkurs Ziel B2 (Z440A403) 
LOCATION:vhs, Deutschhof, Raum 125, Kirchbrunnenstr. 12, 74072 Heilbronn
END:VEVENT
BEGIN:VEVENT
DTSTAMP:20260422T122538
DTSTART;TZID=Europe/Berlin:20260504T083000
DTEND;TZID=Europe/Berlin:20260504T124500
UID:Z440A403-20260504T083000@VHSHEILBRONN
SUMMARY:Deutsch als Fremdsprache Intensivkurs Ziel B2 (Z440A403) 
LOCATION:vhs, Deutschhof, Raum 125, Kirchbrunnenstr. 12, 74072 Heilbronn
END:VEVENT
BEGIN:VEVENT
DTSTAMP:20260422T122538
DTSTART;TZID=Europe/Berlin:20260505T083000
DTEND;TZID=Europe/Berlin:20260505T124500
UID:Z440A403-20260505T083000@VHSHEILBRONN
SUMMARY:Deutsch als Fremdsprache Intensivkurs Ziel B2 (Z440A403) 
LOCATION:vhs, Deutschhof, Raum 125, Kirchbrunnenstr. 12, 74072 Heilbronn
END:VEVENT
BEGIN:VEVENT
DTSTAMP:20260422T122538
DTSTART;TZID=Europe/Berlin:20260506T083000
DTEND;TZID=Europe/Berlin:20260506T124500
UID:Z440A403-20260506T083000@VHSHEILBRONN
SUMMARY:Deutsch als Fremdsprache Intensivkurs Ziel B2 (Z440A403) 
LOCATION:vhs, Deutschhof, Raum 125, Kirchbrunnenstr. 12, 74072 Heilbronn
END:VEVENT
BEGIN:VEVENT
DTSTAMP:20260422T122538
DTSTART;TZID=Europe/Berlin:20260507T083000
DTEND;TZID=Europe/Berlin:20260507T124500
UID:Z440A403-20260507T083000@VHSHEILBRONN
SUMMARY:Deutsch als Fremdsprache Intensivkurs Ziel B2 (Z440A403) 
LOCATION:vhs, Deutschhof, Raum 125, Kirchbrunnenstr. 12, 74072 Heilbronn
END:VEVENT
BEGIN:VEVENT
DTSTAMP:20260422T122538
DTSTART;TZID=Europe/Berlin:20260508T083000
DTEND;TZID=Europe/Berlin:20260508T124500
UID:Z440A403-20260508T083000@VHSHEILBRONN
SUMMARY:Deutsch als Fremdsprache Intensivkurs Ziel B2 (Z440A403) 
LOCATION:vhs, Deutschhof, Raum 125, Kirchbrunnenstr. 12, 74072 Heilbronn
END:VEVENT
BEGIN:VEVENT
DTSTAMP:20260422T122538
DTSTART;TZID=Europe/Berlin:20260511T083000
DTEND;TZID=Europe/Berlin:20260511T124500
UID:Z440A403-20260511T083000@VHSHEILBRONN
SUMMARY:Deutsch als Fremdsprache Intensivkurs Ziel B2 (Z440A403) 
LOCATION:vhs, Deutschhof, Raum 125, Kirchbrunnenstr. 12, 74072 Heilbronn
END:VEVENT
BEGIN:VEVENT
DTSTAMP:20260422T122538
DTSTART;TZID=Europe/Berlin:20260512T083000
DTEND;TZID=Europe/Berlin:20260512T124500
UID:Z440A403-20260512T083000@VHSHEILBRONN
SUMMARY:Deutsch als Fremdsprache Intensivkurs Ziel B2 (Z440A403) 
LOCATION:vhs, Deutschhof, Raum 125, Kirchbrunnenstr. 12, 74072 Heilbronn
END:VEVENT
BEGIN:VEVENT
DTSTAMP:20260422T122538
DTSTART;TZID=Europe/Berlin:20260513T083000
DTEND;TZID=Europe/Berlin:20260513T124500
UID:Z440A403-20260513T083000@VHSHEILBRONN
SUMMARY:Deutsch als Fremdsprache Intensivkurs Ziel B2 (Z440A403) 
LOCATION:vhs, Deutschhof, Raum 125, Kirchbrunnenstr. 12, 74072 Heilbronn
END:VEVENT
BEGIN:VEVENT
DTSTAMP:20260422T122538
DTSTART;TZID=Europe/Berlin:20260518T083000
DTEND;TZID=Europe/Berlin:20260518T124500
UID:Z440A403-20260518T083000@VHSHEILBRONN
SUMMARY:Deutsch als Fremdsprache Intensivkurs Ziel B2 (Z440A403) 
LOCATION:vhs, Deutschhof, Raum 125, Kirchbrunnenstr. 12, 74072 Heilbronn
END:VEVENT
BEGIN:VEVENT
DTSTAMP:20260422T122538
DTSTART;TZID=Europe/Berlin:20260519T083000
DTEND;TZID=Europe/Berlin:20260519T124500
UID:Z440A403-20260519T083000@VHSHEILBRONN
SUMMARY:Deutsch als Fremdsprache Intensivkurs Ziel B2 (Z440A403) 
LOCATION:vhs, Deutschhof, Raum 125, Kirchbrunnenstr. 12, 74072 Heilbronn
END:VEVENT
BEGIN:VEVENT
DTSTAMP:20260422T122538
DTSTART;TZID=Europe/Berlin:20260520T083000
DTEND;TZID=Europe/Berlin:20260520T124500
UID:Z440A403-20260520T083000@VHSHEILBRONN
SUMMARY:Deutsch als Fremdsprache Intensivkurs Ziel B2 (Z440A403) 
LOCATION:vhs, Deutschhof, Raum 125, Kirchbrunnenstr. 12, 74072 Heilbronn
END:VEVENT
BEGIN:VEVENT
DTSTAMP:20260422T122538
DTSTART;TZID=Europe/Berlin:20260521T083000
DTEND;TZID=Europe/Berlin:20260521T124500
UID:Z440A403-20260521T083000@VHSHEILBRONN
SUMMARY:Deutsch als Fremdsprache Intensivkurs Ziel B2 (Z440A403) 
LOCATION:vhs, Deutschhof, Raum 125, Kirchbrunnenstr. 12, 74072 Heilbronn
END:VEVENT
BEGIN:VEVENT
DTSTAMP:20260422T122538
DTSTART;TZID=Europe/Berlin:20260522T083000
DTEND;TZID=Europe/Berlin:20260522T124500
UID:Z440A403-20260522T083000@VHSHEILBRONN
SUMMARY:Deutsch als Fremdsprache Intensivkurs Ziel B2 (Z440A403) 
LOCATION:vhs, Deutschhof, Raum 125, Kirchbrunnenstr. 12, 74072 Heilbronn
END:VEVENT
BEGIN:VEVENT
DTSTAMP:20260422T122538
DTSTART;TZID=Europe/Berlin:20260526T083000
DTEND;TZID=Europe/Berlin:20260526T124500
UID:Z440A403-20260526T083000@VHSHEILBRONN
SUMMARY:Deutsch als Fremdsprache Intensivkurs Ziel B2 (Z440A403) 
LOCATION:vhs, Deutschhof, Raum 125, Kirchbrunnenstr. 12, 74072 Heilbronn
END:VEVENT
BEGIN:VEVENT
DTSTAMP:20260422T122538
DTSTART;TZID=Europe/Berlin:20260527T083000
DTEND;TZID=Europe/Berlin:20260527T124500
UID:Z440A403-20260527T083000@VHSHEILBRONN
DESCRIPTION:Ersatz für 27.03.26
SUMMARY:Deutsch als Fremdsprache Intensivkurs Ziel B2 (Z440A403) 
LOCATION:vhs, Deutschhof, Raum 125, Kirchbrunnenstr. 12, 74072 Heilbronn
END:VEVENT
BEGIN:VEVENT
DTSTAMP:20260422T122538
DTSTART;TZID=Europe/Berlin:20260528T083000
DTEND;TZID=Europe/Berlin:20260528T124500
UID:Z440A403-20260528T083000@VHSHEILBRONN
DESCRIPTION:Ersatz für 30.03.26
SUMMARY:Deutsch als Fremdsprache Intensivkurs Ziel B2 (Z440A403) 
LOCATION:vhs, Deutschhof, Raum 125, Kirchbrunnenstr. 12, 74072 Heilbronn
END:VEVENT
BEGIN:VEVENT
DTSTAMP:20260422T122538
DTSTART;TZID=Europe/Berlin:20260529T083000
DTEND;TZID=Europe/Berlin:20260529T124500
UID:Z440A403-20260529T083000@VHSHEILBRONN
DESCRIPTION:Ersatz für 31.03.26
SUMMARY:Deutsch als Fremdsprache Intensivkurs Ziel B2 (Z440A403) 
LOCATION:vhs, Deutschhof, Raum 125, Kirchbrunnenstr. 12, 74072 Heilbronn
END:VEVENT
BEGIN:VEVENT
DTSTAMP:20260422T122538
DTSTART;TZID=Europe/Berlin:20260601T083000
DTEND;TZID=Europe/Berlin:20260601T124500
UID:Z440A403-20260601T083000@VHSHEILBRONN
DESCRIPTION:Ersatz für 01.04.26
SUMMARY:Deutsch als Fremdsprache Intensivkurs Ziel B2 (Z440A403) 
LOCATION:vhs, Deutschhof, Raum 125, Kirchbrunnenstr. 12, 74072 Heilbronn
END:VEVENT
BEGIN:VEVENT
DTSTAMP:20260422T122538
DTSTART;TZID=Europe/Berlin:20260602T083000
DTEND;TZID=Europe/Berlin:20260602T124500
UID:Z440A403-20260602T083000@VHSHEILBRONN
DESCRIPTION:Ersatz für 02.04.26
SUMMARY:Deutsch als Fremdsprache Intensivkurs Ziel B2 (Z440A403) 
LOCATION:vhs, Deutschhof, Raum 125, Kirchbrunnenstr. 12, 74072 Heilbronn
END:VEVENT
BEGIN:VEVENT
DTSTAMP:20260422T122538
DTSTART;TZID=Europe/Berlin:20260603T083000
DTEND;TZID=Europe/Berlin:20260603T124500
UID:Z440A403-20260603T083000@VHSHEILBRONN
SUMMARY:Deutsch als Fremdsprache Intensivkurs Ziel B2 (Z440A403) 
LOCATION:vhs, Deutschhof, Raum 125, Kirchbrunnenstr. 12, 74072 Heilbronn
END:VEVENT
BEGIN:VEVENT
DTSTAMP:20260422T122538
DTSTART;TZID=Europe/Berlin:20260608T083000
DTEND;TZID=Europe/Berlin:20260608T124500
UID:Z440A403-20260608T083000@VHSHEILBRONN
SUMMARY:Deutsch als Fremdsprache Intensivkurs Ziel B2 (Z440A403) 
LOCATION:vhs, Deutschhof, Raum 125, Kirchbrunnenstr. 12, 74072 Heilbronn
END:VEVENT
BEGIN:VEVENT
DTSTAMP:20260422T122538
DTSTART;TZID=Europe/Berlin:20260609T083000
DTEND;TZID=Europe/Berlin:20260609T124500
UID:Z440A403-20260609T083000@VHSHEILBRONN
SUMMARY:Deutsch als Fremdsprache Intensivkurs Ziel B2 (Z440A403) 
LOCATION:vhs, Deutschhof, Raum 125, Kirchbrunnenstr. 12, 74072 Heilbronn
END:VEVENT
BEGIN:VEVENT
DTSTAMP:20260422T122538
DTSTART;TZID=Europe/Berlin:20260610T083000
DTEND;TZID=Europe/Berlin:20260610T124500
UID:Z440A403-20260610T083000@VHSHEILBRONN
SUMMARY:Deutsch als Fremdsprache Intensivkurs Ziel B2 (Z440A403) 
LOCATION:vhs, Deutschhof, Raum 125, Kirchbrunnenstr. 12, 74072 Heilbronn
END:VEVENT
BEGIN:VEVENT
DTSTAMP:20260422T122538
DTSTART;TZID=Europe/Berlin:20260611T083000
DTEND;TZID=Europe/Berlin:20260611T124500
UID:Z440A403-20260611T083000@VHSHEILBRONN
SUMMARY:Deutsch als Fremdsprache Intensivkurs Ziel B2 (Z440A403) 
LOCATION:vhs, Deutschhof, Raum 125, Kirchbrunnenstr. 12, 74072 Heilbronn
END:VEVENT
BEGIN:VEVENT
DTSTAMP:20260422T122538
DTSTART;TZID=Europe/Berlin:20260612T083000
DTEND;TZID=Europe/Berlin:20260612T124500
UID:Z440A403-20260612T083000@VHSHEILBRONN
SUMMARY:Deutsch als Fremdsprache Intensivkurs Ziel B2 (Z440A403) 
LOCATION:vhs, Deutschhof, Raum 125, Kirchbrunnenstr. 12, 74072 Heilbronn
END:VEVENT
BEGIN:VEVENT
DTSTAMP:20260422T122538
DTSTART;TZID=Europe/Berlin:20260615T083000
DTEND;TZID=Europe/Berlin:20260615T124500
UID:Z440A403-20260615T083000@VHSHEILBRONN
SUMMARY:Deutsch als Fremdsprache Intensivkurs Ziel B2 (Z440A403) 
LOCATION:vhs, Deutschhof, Raum 125, Kirchbrunnenstr. 12, 74072 Heilbronn
END:VEVENT
BEGIN:VEVENT
DTSTAMP:20260422T122538
DTSTART;TZID=Europe/Berlin:20260616T083000
DTEND;TZID=Europe/Berlin:20260616T124500
UID:Z440A403-20260616T083000@VHSHEILBRONN
SUMMARY:Deutsch als Fremdsprache Intensivkurs Ziel B2 (Z440A403) 
LOCATION:vhs, Deutschhof, Raum 125, Kirchbrunnenstr. 12, 74072 Heilbronn
END:VEVENT
BEGIN:VEVENT
DTSTAMP:20260422T122538
DTSTART;TZID=Europe/Berlin:20260624T083000
DTEND;TZID=Europe/Berlin:20260624T124500
UID:Z440A403-20260624T083000@VHSHEILBRONN
DESCRIPTION:Ersatz für den 17.04.26
SUMMARY:Deutsch als Fremdsprache Intensivkurs Ziel B2 (Z440A403) 
LOCATION:vhs, Deutschhof, Raum 125, Kirchbrunnenstr. 12, 74072 Heilbronn
END:VEVENT
END:VCALENDAR