BEGIN:VCALENDAR
VERSION:2.0
PRODID:https://www.kufer.de/kuferweb / DE
METHOD:PUBLISH
CALSCALE:GREGORIAN
X-WR-TIMEZONE:Europe/Berlin
BEGIN:VTIMEZONE
TZID:Europe/Berlin
X-LIC-LOCATION:Europe/Berlin
BEGIN:DAYLIGHT
TZOFFSETFROM:+0100
TZOFFSETTO:+0200
TZNAME:CEST
DTSTART:19700329T020000
RRULE:FREQ=YEARLY;INTERVAL=1;BYDAY=-1SU;BYMONTH=3
END:DAYLIGHT
BEGIN:STANDARD
TZOFFSETFROM:+0200
TZOFFSETTO:+0100
TZNAME:CET
DTSTART:19701025T030000
RRULE:FREQ=YEARLY;INTERVAL=1;BYDAY=-1SU;BYMONTH=10
END:STANDARD
END:VTIMEZONE
BEGIN:VEVENT
DTSTAMP:20260424T200556
DTSTART;TZID=Europe/Berlin:20260720T183000
DTEND;TZID=Europe/Berlin:20260720T200000
UID:Z426A801-20260720T183000@VHSHEILBRONN
SUMMARY:Spanisch für die Reise (Z426A801) 
LOCATION:vhs, Deutschhof, Raum 125, Kirchbrunnenstr. 12, 74072 Heilbronn
END:VEVENT
BEGIN:VEVENT
DTSTAMP:20260424T200556
DTSTART;TZID=Europe/Berlin:20260721T183000
DTEND;TZID=Europe/Berlin:20260721T200000
UID:Z426A801-20260721T183000@VHSHEILBRONN
SUMMARY:Spanisch für die Reise (Z426A801) 
LOCATION:vhs, Deutschhof, Raum 125, Kirchbrunnenstr. 12, 74072 Heilbronn
END:VEVENT
BEGIN:VEVENT
DTSTAMP:20260424T200556
DTSTART;TZID=Europe/Berlin:20260722T183000
DTEND;TZID=Europe/Berlin:20260722T200000
UID:Z426A801-20260722T183000@VHSHEILBRONN
SUMMARY:Spanisch für die Reise (Z426A801) 
LOCATION:vhs, Deutschhof, Raum 125, Kirchbrunnenstr. 12, 74072 Heilbronn
END:VEVENT
BEGIN:VEVENT
DTSTAMP:20260424T200556
DTSTART;TZID=Europe/Berlin:20260723T183000
DTEND;TZID=Europe/Berlin:20260723T200000
UID:Z426A801-20260723T183000@VHSHEILBRONN
SUMMARY:Spanisch für die Reise (Z426A801) 
LOCATION:vhs, Deutschhof, Raum 125, Kirchbrunnenstr. 12, 74072 Heilbronn
END:VEVENT
END:VCALENDAR