BEGIN:VCALENDAR
VERSION:2.0
PRODID:https://www.kufer.de/kuferweb / DE
METHOD:PUBLISH
CALSCALE:GREGORIAN
X-WR-TIMEZONE:Europe/Berlin
BEGIN:VTIMEZONE
TZID:Europe/Berlin
X-LIC-LOCATION:Europe/Berlin
BEGIN:DAYLIGHT
TZOFFSETFROM:+0100
TZOFFSETTO:+0200
TZNAME:CEST
DTSTART:19700329T020000
RRULE:FREQ=YEARLY;INTERVAL=1;BYDAY=-1SU;BYMONTH=3
END:DAYLIGHT
BEGIN:STANDARD
TZOFFSETFROM:+0200
TZOFFSETTO:+0100
TZNAME:CET
DTSTART:19701025T030000
RRULE:FREQ=YEARLY;INTERVAL=1;BYDAY=-1SU;BYMONTH=10
END:STANDARD
END:VTIMEZONE
BEGIN:VEVENT
DTSTAMP:20260422T124628
DTSTART;TZID=Europe/Berlin:20260224T183500
DTEND;TZID=Europe/Berlin:20260224T200500
UID:Z426A242-20260224T183500@VHSHEILBRONN
SUMMARY:Spanisch A2.4 (Z426A242) 
LOCATION:vhs, Deutschhof, Raum 125, Kirchbrunnenstr. 12, 74072 Heilbronn
END:VEVENT
BEGIN:VEVENT
DTSTAMP:20260422T124628
DTSTART;TZID=Europe/Berlin:20260303T183500
DTEND;TZID=Europe/Berlin:20260303T200500
UID:Z426A242-20260303T183500@VHSHEILBRONN
SUMMARY:Spanisch A2.4 (Z426A242) 
LOCATION:vhs, Deutschhof, Raum 125, Kirchbrunnenstr. 12, 74072 Heilbronn
END:VEVENT
BEGIN:VEVENT
DTSTAMP:20260422T124628
DTSTART;TZID=Europe/Berlin:20260310T183500
DTEND;TZID=Europe/Berlin:20260310T200500
UID:Z426A242-20260310T183500@VHSHEILBRONN
SUMMARY:Spanisch A2.4 (Z426A242) 
LOCATION:vhs, Deutschhof, Raum 125, Kirchbrunnenstr. 12, 74072 Heilbronn
END:VEVENT
BEGIN:VEVENT
DTSTAMP:20260422T124628
DTSTART;TZID=Europe/Berlin:20260317T183500
DTEND;TZID=Europe/Berlin:20260317T200500
UID:Z426A242-20260317T183500@VHSHEILBRONN
SUMMARY:Spanisch A2.4 (Z426A242) 
LOCATION:vhs, Deutschhof, Raum 125, Kirchbrunnenstr. 12, 74072 Heilbronn
END:VEVENT
BEGIN:VEVENT
DTSTAMP:20260422T124628
DTSTART;TZID=Europe/Berlin:20260324T183500
DTEND;TZID=Europe/Berlin:20260324T200500
UID:Z426A242-20260324T183500@VHSHEILBRONN
SUMMARY:Spanisch A2.4 (Z426A242) 
LOCATION:vhs, Deutschhof, Raum 125, Kirchbrunnenstr. 12, 74072 Heilbronn
END:VEVENT
BEGIN:VEVENT
DTSTAMP:20260422T124628
DTSTART;TZID=Europe/Berlin:20260414T183500
DTEND;TZID=Europe/Berlin:20260414T200500
UID:Z426A242-20260414T183500@VHSHEILBRONN
DESCRIPTION:Raumänderung!!
SUMMARY:Spanisch A2.4 (Z426A242) 
LOCATION:vhs, Deutschhof, Raum 111, Kirchbrunnenstr. 12, 74072 Heilbronn
END:VEVENT
BEGIN:VEVENT
DTSTAMP:20260422T124628
DTSTART;TZID=Europe/Berlin:20260421T183500
DTEND;TZID=Europe/Berlin:20260421T200500
UID:Z426A242-20260421T183500@VHSHEILBRONN
SUMMARY:Spanisch A2.4 (Z426A242) 
LOCATION:vhs, Deutschhof, Raum 125, Kirchbrunnenstr. 12, 74072 Heilbronn
END:VEVENT
BEGIN:VEVENT
DTSTAMP:20260422T124628
DTSTART;TZID=Europe/Berlin:20260428T183500
DTEND;TZID=Europe/Berlin:20260428T200500
UID:Z426A242-20260428T183500@VHSHEILBRONN
SUMMARY:Spanisch A2.4 (Z426A242) 
LOCATION:vhs, Deutschhof, Raum 125, Kirchbrunnenstr. 12, 74072 Heilbronn
END:VEVENT
BEGIN:VEVENT
DTSTAMP:20260422T124628
DTSTART;TZID=Europe/Berlin:20260505T183500
DTEND;TZID=Europe/Berlin:20260505T200500
UID:Z426A242-20260505T183500@VHSHEILBRONN
SUMMARY:Spanisch A2.4 (Z426A242) 
LOCATION:vhs, Deutschhof, Raum 125, Kirchbrunnenstr. 12, 74072 Heilbronn
END:VEVENT
BEGIN:VEVENT
DTSTAMP:20260422T124628
DTSTART;TZID=Europe/Berlin:20260512T183500
DTEND;TZID=Europe/Berlin:20260512T200500
UID:Z426A242-20260512T183500@VHSHEILBRONN
SUMMARY:Spanisch A2.4 (Z426A242) 
LOCATION:vhs, Deutschhof, Raum 125, Kirchbrunnenstr. 12, 74072 Heilbronn
END:VEVENT
BEGIN:VEVENT
DTSTAMP:20260422T124628
DTSTART;TZID=Europe/Berlin:20260519T183500
DTEND;TZID=Europe/Berlin:20260519T200500
UID:Z426A242-20260519T183500@VHSHEILBRONN
SUMMARY:Spanisch A2.4 (Z426A242) 
LOCATION:vhs, Deutschhof, Raum 125, Kirchbrunnenstr. 12, 74072 Heilbronn
END:VEVENT
BEGIN:VEVENT
DTSTAMP:20260422T124628
DTSTART;TZID=Europe/Berlin:20260609T183500
DTEND;TZID=Europe/Berlin:20260609T200500
UID:Z426A242-20260609T183500@VHSHEILBRONN
SUMMARY:Spanisch A2.4 (Z426A242) 
LOCATION:vhs, Deutschhof, Raum 125, Kirchbrunnenstr. 12, 74072 Heilbronn
END:VEVENT
BEGIN:VEVENT
DTSTAMP:20260422T124628
DTSTART;TZID=Europe/Berlin:20260616T183500
DTEND;TZID=Europe/Berlin:20260616T200500
UID:Z426A242-20260616T183500@VHSHEILBRONN
SUMMARY:Spanisch A2.4 (Z426A242) 
LOCATION:vhs, Deutschhof, Raum 125, Kirchbrunnenstr. 12, 74072 Heilbronn
END:VEVENT
BEGIN:VEVENT
DTSTAMP:20260422T124628
DTSTART;TZID=Europe/Berlin:20260623T183500
DTEND;TZID=Europe/Berlin:20260623T200500
UID:Z426A242-20260623T183500@VHSHEILBRONN
SUMMARY:Spanisch A2.4 (Z426A242) 
LOCATION:vhs, Deutschhof, Raum 125, Kirchbrunnenstr. 12, 74072 Heilbronn
END:VEVENT
BEGIN:VEVENT
DTSTAMP:20260422T124628
DTSTART;TZID=Europe/Berlin:20260630T183500
DTEND;TZID=Europe/Berlin:20260630T200500
UID:Z426A242-20260630T183500@VHSHEILBRONN
SUMMARY:Spanisch A2.4 (Z426A242) 
LOCATION:vhs, Deutschhof, Raum 125, Kirchbrunnenstr. 12, 74072 Heilbronn
END:VEVENT
END:VCALENDAR