BEGIN:VCALENDAR
VERSION:2.0
PRODID:https://www.kufer.de/kuferweb / DE
METHOD:PUBLISH
CALSCALE:GREGORIAN
X-WR-TIMEZONE:Europe/Berlin
BEGIN:VTIMEZONE
TZID:Europe/Berlin
X-LIC-LOCATION:Europe/Berlin
BEGIN:DAYLIGHT
TZOFFSETFROM:+0100
TZOFFSETTO:+0200
TZNAME:CEST
DTSTART:19700329T020000
RRULE:FREQ=YEARLY;INTERVAL=1;BYDAY=-1SU;BYMONTH=3
END:DAYLIGHT
BEGIN:STANDARD
TZOFFSETFROM:+0200
TZOFFSETTO:+0100
TZNAME:CET
DTSTART:19701025T030000
RRULE:FREQ=YEARLY;INTERVAL=1;BYDAY=-1SU;BYMONTH=10
END:STANDARD
END:VTIMEZONE
BEGIN:VEVENT
DTSTAMP:20260422T122500
DTSTART;TZID=Europe/Berlin:20260302T180000
DTEND;TZID=Europe/Berlin:20260302T190000
UID:Z416A211-20260302T180000@VHSHEILBRONN
SUMMARY:Neuhebräisch A2.1 (Z416A211) 
LOCATION:vhs, Cäcilienstr. 54, Raum 13, Cäcilienstr. 54, 74072 Heilbronn
END:VEVENT
BEGIN:VEVENT
DTSTAMP:20260422T122500
DTSTART;TZID=Europe/Berlin:20260309T180000
DTEND;TZID=Europe/Berlin:20260309T190000
UID:Z416A211-20260309T180000@VHSHEILBRONN
SUMMARY:Neuhebräisch A2.1 (Z416A211) 
LOCATION:vhs, Cäcilienstr. 54, Raum 13, Cäcilienstr. 54, 74072 Heilbronn
END:VEVENT
BEGIN:VEVENT
DTSTAMP:20260422T122500
DTSTART;TZID=Europe/Berlin:20260316T180000
DTEND;TZID=Europe/Berlin:20260316T190000
UID:Z416A211-20260316T180000@VHSHEILBRONN
SUMMARY:Neuhebräisch A2.1 (Z416A211) 
LOCATION:vhs, Cäcilienstr. 54, Raum 13, Cäcilienstr. 54, 74072 Heilbronn
END:VEVENT
BEGIN:VEVENT
DTSTAMP:20260422T122500
DTSTART;TZID=Europe/Berlin:20260323T180000
DTEND;TZID=Europe/Berlin:20260323T193000
UID:Z416A211-20260323T180000@VHSHEILBRONN
SUMMARY:Neuhebräisch A2.1 (Z416A211) 
LOCATION:vhs, Cäcilienstr. 54, Raum 13, Cäcilienstr. 54, 74072 Heilbronn
END:VEVENT
BEGIN:VEVENT
DTSTAMP:20260422T122500
DTSTART;TZID=Europe/Berlin:20260413T180000
DTEND;TZID=Europe/Berlin:20260413T193000
UID:Z416A211-20260413T180000@VHSHEILBRONN
SUMMARY:Neuhebräisch A2.1 (Z416A211) 
LOCATION:vhs, Cäcilienstr. 54, Raum 13, Cäcilienstr. 54, 74072 Heilbronn
END:VEVENT
BEGIN:VEVENT
DTSTAMP:20260422T122500
DTSTART;TZID=Europe/Berlin:20260427T180000
DTEND;TZID=Europe/Berlin:20260427T193000
UID:Z416A211-20260427T180000@VHSHEILBRONN
SUMMARY:Neuhebräisch A2.1 (Z416A211) 
LOCATION:vhs, Cäcilienstr. 54, Raum 13, Cäcilienstr. 54, 74072 Heilbronn
END:VEVENT
BEGIN:VEVENT
DTSTAMP:20260422T122500
DTSTART;TZID=Europe/Berlin:20260504T180000
DTEND;TZID=Europe/Berlin:20260504T193000
UID:Z416A211-20260504T180000@VHSHEILBRONN
SUMMARY:Neuhebräisch A2.1 (Z416A211) 
LOCATION:vhs, Cäcilienstr. 54, Raum 13, Cäcilienstr. 54, 74072 Heilbronn
END:VEVENT
BEGIN:VEVENT
DTSTAMP:20260422T122500
DTSTART;TZID=Europe/Berlin:20260629T180000
DTEND;TZID=Europe/Berlin:20260629T193000
UID:Z416A211-20260629T180000@VHSHEILBRONN
SUMMARY:Neuhebräisch A2.1 (Z416A211) 
LOCATION:vhs, Cäcilienstr. 54, Raum 13, Cäcilienstr. 54, 74072 Heilbronn
END:VEVENT
BEGIN:VEVENT
DTSTAMP:20260422T122500
DTSTART;TZID=Europe/Berlin:20260706T180000
DTEND;TZID=Europe/Berlin:20260706T193000
UID:Z416A211-20260706T180000@VHSHEILBRONN
SUMMARY:Neuhebräisch A2.1 (Z416A211) 
LOCATION:vhs, Cäcilienstr. 54, Raum 13, Cäcilienstr. 54, 74072 Heilbronn
END:VEVENT
BEGIN:VEVENT
DTSTAMP:20260422T122500
DTSTART;TZID=Europe/Berlin:20260713T180000
DTEND;TZID=Europe/Berlin:20260713T193000
UID:Z416A211-20260713T180000@VHSHEILBRONN
SUMMARY:Neuhebräisch A2.1 (Z416A211) 
LOCATION:vhs, Cäcilienstr. 54, Raum 13, Cäcilienstr. 54, 74072 Heilbronn
END:VEVENT
END:VCALENDAR