BEGIN:VCALENDAR
VERSION:2.0
PRODID:https://www.kufer.de/kuferweb / DE
METHOD:PUBLISH
CALSCALE:GREGORIAN
X-WR-TIMEZONE:Europe/Berlin
BEGIN:VTIMEZONE
TZID:Europe/Berlin
X-LIC-LOCATION:Europe/Berlin
BEGIN:DAYLIGHT
TZOFFSETFROM:+0100
TZOFFSETTO:+0200
TZNAME:CEST
DTSTART:19700329T020000
RRULE:FREQ=YEARLY;INTERVAL=1;BYDAY=-1SU;BYMONTH=3
END:DAYLIGHT
BEGIN:STANDARD
TZOFFSETFROM:+0200
TZOFFSETTO:+0100
TZNAME:CET
DTSTART:19701025T030000
RRULE:FREQ=YEARLY;INTERVAL=1;BYDAY=-1SU;BYMONTH=10
END:STANDARD
END:VTIMEZONE
BEGIN:VEVENT
DTSTAMP:20260422T124642
DTSTART;TZID=Europe/Berlin:20260305T180000
DTEND;TZID=Europe/Berlin:20260305T190000
UID:Z416A134-20260305T180000@VHSHEILBRONN
SUMMARY:Neuhebräisch A1.3 (Z416A134) 
LOCATION:vhs, Cäcilienstr. 54, Raum 13, Cäcilienstr. 54, 74072 Heilbronn
END:VEVENT
BEGIN:VEVENT
DTSTAMP:20260422T124642
DTSTART;TZID=Europe/Berlin:20260312T180000
DTEND;TZID=Europe/Berlin:20260312T190000
UID:Z416A134-20260312T180000@VHSHEILBRONN
SUMMARY:Neuhebräisch A1.3 (Z416A134) 
LOCATION:vhs, Cäcilienstr. 54, Raum 13, Cäcilienstr. 54, 74072 Heilbronn
END:VEVENT
BEGIN:VEVENT
DTSTAMP:20260422T124642
DTSTART;TZID=Europe/Berlin:20260319T180000
DTEND;TZID=Europe/Berlin:20260319T190000
UID:Z416A134-20260319T180000@VHSHEILBRONN
SUMMARY:Neuhebräisch A1.3 (Z416A134) 
LOCATION:vhs, Cäcilienstr. 54, Raum 13, Cäcilienstr. 54, 74072 Heilbronn
END:VEVENT
BEGIN:VEVENT
DTSTAMP:20260422T124642
DTSTART;TZID=Europe/Berlin:20260326T180000
DTEND;TZID=Europe/Berlin:20260326T190000
UID:Z416A134-20260326T180000@VHSHEILBRONN
SUMMARY:Neuhebräisch A1.3 (Z416A134) 
LOCATION:vhs, Cäcilienstr. 54, Raum 13, Cäcilienstr. 54, 74072 Heilbronn
END:VEVENT
BEGIN:VEVENT
DTSTAMP:20260422T124642
DTSTART;TZID=Europe/Berlin:20260423T180000
DTEND;TZID=Europe/Berlin:20260423T190000
UID:Z416A134-20260423T180000@VHSHEILBRONN
SUMMARY:Neuhebräisch A1.3 (Z416A134) 
LOCATION:vhs, Cäcilienstr. 54, Raum 13, Cäcilienstr. 54, 74072 Heilbronn
END:VEVENT
BEGIN:VEVENT
DTSTAMP:20260422T124642
DTSTART;TZID=Europe/Berlin:20260430T180000
DTEND;TZID=Europe/Berlin:20260430T190000
UID:Z416A134-20260430T180000@VHSHEILBRONN
SUMMARY:Neuhebräisch A1.3 (Z416A134) 
LOCATION:vhs, Cäcilienstr. 54, Raum 13, Cäcilienstr. 54, 74072 Heilbronn
END:VEVENT
BEGIN:VEVENT
DTSTAMP:20260422T124642
DTSTART;TZID=Europe/Berlin:20260507T180000
DTEND;TZID=Europe/Berlin:20260507T190000
UID:Z416A134-20260507T180000@VHSHEILBRONN
SUMMARY:Neuhebräisch A1.3 (Z416A134) 
LOCATION:vhs, Cäcilienstr. 54, Raum 13, Cäcilienstr. 54, 74072 Heilbronn
END:VEVENT
BEGIN:VEVENT
DTSTAMP:20260422T124642
DTSTART;TZID=Europe/Berlin:20260521T180000
DTEND;TZID=Europe/Berlin:20260521T190000
UID:Z416A134-20260521T180000@VHSHEILBRONN
SUMMARY:Neuhebräisch A1.3 (Z416A134) 
LOCATION:vhs, Cäcilienstr. 54, Raum 13, Cäcilienstr. 54, 74072 Heilbronn
END:VEVENT
BEGIN:VEVENT
DTSTAMP:20260422T124642
DTSTART;TZID=Europe/Berlin:20260611T180000
DTEND;TZID=Europe/Berlin:20260611T190000
UID:Z416A134-20260611T180000@VHSHEILBRONN
SUMMARY:Neuhebräisch A1.3 (Z416A134) 
LOCATION:vhs, Cäcilienstr. 54, Raum 13, Cäcilienstr. 54, 74072 Heilbronn
END:VEVENT
BEGIN:VEVENT
DTSTAMP:20260422T124642
DTSTART;TZID=Europe/Berlin:20260618T180000
DTEND;TZID=Europe/Berlin:20260618T190000
UID:Z416A134-20260618T180000@VHSHEILBRONN
SUMMARY:Neuhebräisch A1.3 (Z416A134) 
LOCATION:vhs, Cäcilienstr. 54, Raum 13, Cäcilienstr. 54, 74072 Heilbronn
END:VEVENT
BEGIN:VEVENT
DTSTAMP:20260422T124642
DTSTART;TZID=Europe/Berlin:20260625T180000
DTEND;TZID=Europe/Berlin:20260625T190000
UID:Z416A134-20260625T180000@VHSHEILBRONN
SUMMARY:Neuhebräisch A1.3 (Z416A134) 
LOCATION:vhs, Cäcilienstr. 54, Raum 13, Cäcilienstr. 54, 74072 Heilbronn
END:VEVENT
BEGIN:VEVENT
DTSTAMP:20260422T124642
DTSTART;TZID=Europe/Berlin:20260702T180000
DTEND;TZID=Europe/Berlin:20260702T190000
UID:Z416A134-20260702T180000@VHSHEILBRONN
DESCRIPTION:Ersatz für Ausfall am 16.04.2026
SUMMARY:Neuhebräisch A1.3 (Z416A134) 
LOCATION:vhs, Cäcilienstr. 54, Raum 13, Cäcilienstr. 54, 74072 Heilbronn
END:VEVENT
END:VCALENDAR