BEGIN:VCALENDAR
VERSION:2.0
PRODID:https://www.kufer.de/kuferweb / DE
METHOD:PUBLISH
CALSCALE:GREGORIAN
X-WR-TIMEZONE:Europe/Berlin
BEGIN:VTIMEZONE
TZID:Europe/Berlin
X-LIC-LOCATION:Europe/Berlin
BEGIN:DAYLIGHT
TZOFFSETFROM:+0100
TZOFFSETTO:+0200
TZNAME:CEST
DTSTART:19700329T020000
RRULE:FREQ=YEARLY;INTERVAL=1;BYDAY=-1SU;BYMONTH=3
END:DAYLIGHT
BEGIN:STANDARD
TZOFFSETFROM:+0200
TZOFFSETTO:+0100
TZNAME:CET
DTSTART:19701025T030000
RRULE:FREQ=YEARLY;INTERVAL=1;BYDAY=-1SU;BYMONTH=10
END:STANDARD
END:VTIMEZONE
BEGIN:VEVENT
DTSTAMP:20260422T122620
DTSTART;TZID=Europe/Berlin:20260422T180000
DTEND;TZID=Europe/Berlin:20260422T193000
UID:Z410A133-20260422T180000@VHSHEILBRONN
SUMMARY:Japanisch A1.3 - Teil 2 (Z410A133) 
LOCATION:Mönchseegymnasium Raum 3, Karlstr. 44, 74072 Heilbronn
END:VEVENT
BEGIN:VEVENT
DTSTAMP:20260422T122620
DTSTART;TZID=Europe/Berlin:20260429T180000
DTEND;TZID=Europe/Berlin:20260429T193000
UID:Z410A133-20260429T180000@VHSHEILBRONN
SUMMARY:Japanisch A1.3 - Teil 2 (Z410A133) 
LOCATION:Mönchseegymnasium Raum 3, Karlstr. 44, 74072 Heilbronn
END:VEVENT
BEGIN:VEVENT
DTSTAMP:20260422T122620
DTSTART;TZID=Europe/Berlin:20260506T180000
DTEND;TZID=Europe/Berlin:20260506T193000
UID:Z410A133-20260506T180000@VHSHEILBRONN
SUMMARY:Japanisch A1.3 - Teil 2 (Z410A133) 
LOCATION:Mönchseegymnasium Raum 3, Karlstr. 44, 74072 Heilbronn
END:VEVENT
BEGIN:VEVENT
DTSTAMP:20260422T122620
DTSTART;TZID=Europe/Berlin:20260513T180000
DTEND;TZID=Europe/Berlin:20260513T193000
UID:Z410A133-20260513T180000@VHSHEILBRONN
SUMMARY:Japanisch A1.3 - Teil 2 (Z410A133) 
LOCATION:Mönchseegymnasium Raum 3, Karlstr. 44, 74072 Heilbronn
END:VEVENT
BEGIN:VEVENT
DTSTAMP:20260422T122620
DTSTART;TZID=Europe/Berlin:20260520T180000
DTEND;TZID=Europe/Berlin:20260520T193000
UID:Z410A133-20260520T180000@VHSHEILBRONN
SUMMARY:Japanisch A1.3 - Teil 2 (Z410A133) 
LOCATION:Mönchseegymnasium Raum 3, Karlstr. 44, 74072 Heilbronn
END:VEVENT
BEGIN:VEVENT
DTSTAMP:20260422T122620
DTSTART;TZID=Europe/Berlin:20260610T180000
DTEND;TZID=Europe/Berlin:20260610T193000
UID:Z410A133-20260610T180000@VHSHEILBRONN
SUMMARY:Japanisch A1.3 - Teil 2 (Z410A133) 
LOCATION:Mönchseegymnasium Raum 3, Karlstr. 44, 74072 Heilbronn
END:VEVENT
BEGIN:VEVENT
DTSTAMP:20260422T122620
DTSTART;TZID=Europe/Berlin:20260617T180000
DTEND;TZID=Europe/Berlin:20260617T193000
UID:Z410A133-20260617T180000@VHSHEILBRONN
SUMMARY:Japanisch A1.3 - Teil 2 (Z410A133) 
LOCATION:Mönchseegymnasium Raum 3, Karlstr. 44, 74072 Heilbronn
END:VEVENT
BEGIN:VEVENT
DTSTAMP:20260422T122620
DTSTART;TZID=Europe/Berlin:20260624T180000
DTEND;TZID=Europe/Berlin:20260624T193000
UID:Z410A133-20260624T180000@VHSHEILBRONN
SUMMARY:Japanisch A1.3 - Teil 2 (Z410A133) 
LOCATION:Mönchseegymnasium Raum 3, Karlstr. 44, 74072 Heilbronn
END:VEVENT
BEGIN:VEVENT
DTSTAMP:20260422T122620
DTSTART;TZID=Europe/Berlin:20260701T180000
DTEND;TZID=Europe/Berlin:20260701T193000
UID:Z410A133-20260701T180000@VHSHEILBRONN
SUMMARY:Japanisch A1.3 - Teil 2 (Z410A133) 
LOCATION:Mönchseegymnasium Raum 3, Karlstr. 44, 74072 Heilbronn
END:VEVENT
BEGIN:VEVENT
DTSTAMP:20260422T122620
DTSTART;TZID=Europe/Berlin:20260708T180000
DTEND;TZID=Europe/Berlin:20260708T193000
UID:Z410A133-20260708T180000@VHSHEILBRONN
SUMMARY:Japanisch A1.3 - Teil 2 (Z410A133) 
LOCATION:Mönchseegymnasium Raum 3, Karlstr. 44, 74072 Heilbronn
END:VEVENT
BEGIN:VEVENT
DTSTAMP:20260422T122620
DTSTART;TZID=Europe/Berlin:20260715T180000
DTEND;TZID=Europe/Berlin:20260715T193000
UID:Z410A133-20260715T180000@VHSHEILBRONN
SUMMARY:Japanisch A1.3 - Teil 2 (Z410A133) 
LOCATION:Mönchseegymnasium Raum 3, Karlstr. 44, 74072 Heilbronn
END:VEVENT
BEGIN:VEVENT
DTSTAMP:20260422T122620
DTSTART;TZID=Europe/Berlin:20260722T180000
DTEND;TZID=Europe/Berlin:20260722T193000
UID:Z410A133-20260722T180000@VHSHEILBRONN
SUMMARY:Japanisch A1.3 - Teil 2 (Z410A133) 
LOCATION:Mönchseegymnasium Raum 3, Karlstr. 44, 74072 Heilbronn
END:VEVENT
BEGIN:VEVENT
DTSTAMP:20260422T122620
DTSTART;TZID=Europe/Berlin:20260729T180000
DTEND;TZID=Europe/Berlin:20260729T193000
UID:Z410A133-20260729T180000@VHSHEILBRONN
SUMMARY:Japanisch A1.3 - Teil 2 (Z410A133) 
LOCATION:Mönchseegymnasium Raum 3, Karlstr. 44, 74072 Heilbronn
END:VEVENT
END:VCALENDAR