BEGIN:VCALENDAR
VERSION:2.0
PRODID:https://www.kufer.de/kuferweb / DE
METHOD:PUBLISH
CALSCALE:GREGORIAN
X-WR-TIMEZONE:Europe/Berlin
BEGIN:VTIMEZONE
TZID:Europe/Berlin
X-LIC-LOCATION:Europe/Berlin
BEGIN:DAYLIGHT
TZOFFSETFROM:+0100
TZOFFSETTO:+0200
TZNAME:CEST
DTSTART:19700329T020000
RRULE:FREQ=YEARLY;INTERVAL=1;BYDAY=-1SU;BYMONTH=3
END:DAYLIGHT
BEGIN:STANDARD
TZOFFSETFROM:+0200
TZOFFSETTO:+0100
TZNAME:CET
DTSTART:19701025T030000
RRULE:FREQ=YEARLY;INTERVAL=1;BYDAY=-1SU;BYMONTH=10
END:STANDARD
END:VTIMEZONE
BEGIN:VEVENT
DTSTAMP:20260422T122619
DTSTART;TZID=Europe/Berlin:20260226T194000
DTEND;TZID=Europe/Berlin:20260226T211000
UID:Z409A354-20260226T194000@VHSHEILBRONN
SUMMARY:Italienisch Conversazione B1 (Z409A354) 
LOCATION:Theodor-Heuss-Gymnasium Raum 106, Gymnasiumstr. 70, 74072 Heilbronn
END:VEVENT
BEGIN:VEVENT
DTSTAMP:20260422T122619
DTSTART;TZID=Europe/Berlin:20260305T194000
DTEND;TZID=Europe/Berlin:20260305T211000
UID:Z409A354-20260305T194000@VHSHEILBRONN
SUMMARY:Italienisch Conversazione B1 (Z409A354) 
LOCATION:Theodor-Heuss-Gymnasium Raum 106, Gymnasiumstr. 70, 74072 Heilbronn
END:VEVENT
BEGIN:VEVENT
DTSTAMP:20260422T122619
DTSTART;TZID=Europe/Berlin:20260312T194000
DTEND;TZID=Europe/Berlin:20260312T211000
UID:Z409A354-20260312T194000@VHSHEILBRONN
SUMMARY:Italienisch Conversazione B1 (Z409A354) 
LOCATION:Theodor-Heuss-Gymnasium Raum 106, Gymnasiumstr. 70, 74072 Heilbronn
END:VEVENT
BEGIN:VEVENT
DTSTAMP:20260422T122619
DTSTART;TZID=Europe/Berlin:20260319T194000
DTEND;TZID=Europe/Berlin:20260319T211000
UID:Z409A354-20260319T194000@VHSHEILBRONN
SUMMARY:Italienisch Conversazione B1 (Z409A354) 
LOCATION:Theodor-Heuss-Gymnasium Raum 106, Gymnasiumstr. 70, 74072 Heilbronn
END:VEVENT
BEGIN:VEVENT
DTSTAMP:20260422T122619
DTSTART;TZID=Europe/Berlin:20260326T194000
DTEND;TZID=Europe/Berlin:20260326T211000
UID:Z409A354-20260326T194000@VHSHEILBRONN
SUMMARY:Italienisch Conversazione B1 (Z409A354) 
LOCATION:Theodor-Heuss-Gymnasium Raum 106, Gymnasiumstr. 70, 74072 Heilbronn
END:VEVENT
BEGIN:VEVENT
DTSTAMP:20260422T122619
DTSTART;TZID=Europe/Berlin:20260416T194000
DTEND;TZID=Europe/Berlin:20260416T211000
UID:Z409A354-20260416T194000@VHSHEILBRONN
SUMMARY:Italienisch Conversazione B1 (Z409A354) 
LOCATION:Theodor-Heuss-Gymnasium Raum 106, Gymnasiumstr. 70, 74072 Heilbronn
END:VEVENT
BEGIN:VEVENT
DTSTAMP:20260422T122619
DTSTART;TZID=Europe/Berlin:20260423T194000
DTEND;TZID=Europe/Berlin:20260423T211000
UID:Z409A354-20260423T194000@VHSHEILBRONN
SUMMARY:Italienisch Conversazione B1 (Z409A354) 
LOCATION:Theodor-Heuss-Gymnasium Raum 106, Gymnasiumstr. 70, 74072 Heilbronn
END:VEVENT
BEGIN:VEVENT
DTSTAMP:20260422T122619
DTSTART;TZID=Europe/Berlin:20260430T194000
DTEND;TZID=Europe/Berlin:20260430T211000
UID:Z409A354-20260430T194000@VHSHEILBRONN
SUMMARY:Italienisch Conversazione B1 (Z409A354) 
LOCATION:Theodor-Heuss-Gymnasium Raum 106, Gymnasiumstr. 70, 74072 Heilbronn
END:VEVENT
BEGIN:VEVENT
DTSTAMP:20260422T122619
DTSTART;TZID=Europe/Berlin:20260507T194000
DTEND;TZID=Europe/Berlin:20260507T211000
UID:Z409A354-20260507T194000@VHSHEILBRONN
SUMMARY:Italienisch Conversazione B1 (Z409A354) 
LOCATION:Theodor-Heuss-Gymnasium Raum 106, Gymnasiumstr. 70, 74072 Heilbronn
END:VEVENT
BEGIN:VEVENT
DTSTAMP:20260422T122619
DTSTART;TZID=Europe/Berlin:20260521T194000
DTEND;TZID=Europe/Berlin:20260521T211000
UID:Z409A354-20260521T194000@VHSHEILBRONN
SUMMARY:Italienisch Conversazione B1 (Z409A354) 
LOCATION:Theodor-Heuss-Gymnasium Raum 106, Gymnasiumstr. 70, 74072 Heilbronn
END:VEVENT
BEGIN:VEVENT
DTSTAMP:20260422T122619
DTSTART;TZID=Europe/Berlin:20260625T194000
DTEND;TZID=Europe/Berlin:20260625T211000
UID:Z409A354-20260625T194000@VHSHEILBRONN
SUMMARY:Italienisch Conversazione B1 (Z409A354) 
LOCATION:Theodor-Heuss-Gymnasium Raum 106, Gymnasiumstr. 70, 74072 Heilbronn
END:VEVENT
BEGIN:VEVENT
DTSTAMP:20260422T122619
DTSTART;TZID=Europe/Berlin:20260702T194000
DTEND;TZID=Europe/Berlin:20260702T211000
UID:Z409A354-20260702T194000@VHSHEILBRONN
SUMMARY:Italienisch Conversazione B1 (Z409A354) 
LOCATION:Theodor-Heuss-Gymnasium Raum 106, Gymnasiumstr. 70, 74072 Heilbronn
END:VEVENT
BEGIN:VEVENT
DTSTAMP:20260422T122619
DTSTART;TZID=Europe/Berlin:20260709T194000
DTEND;TZID=Europe/Berlin:20260709T211000
UID:Z409A354-20260709T194000@VHSHEILBRONN
SUMMARY:Italienisch Conversazione B1 (Z409A354) 
LOCATION:Theodor-Heuss-Gymnasium Raum 106, Gymnasiumstr. 70, 74072 Heilbronn
END:VEVENT
BEGIN:VEVENT
DTSTAMP:20260422T122619
DTSTART;TZID=Europe/Berlin:20260716T194000
DTEND;TZID=Europe/Berlin:20260716T211000
UID:Z409A354-20260716T194000@VHSHEILBRONN
SUMMARY:Italienisch Conversazione B1 (Z409A354) 
LOCATION:Theodor-Heuss-Gymnasium Raum 106, Gymnasiumstr. 70, 74072 Heilbronn
END:VEVENT
END:VCALENDAR