BEGIN:VCALENDAR
VERSION:2.0
PRODID:https://www.kufer.de/kuferweb / DE
METHOD:PUBLISH
CALSCALE:GREGORIAN
X-WR-TIMEZONE:Europe/Berlin
BEGIN:VTIMEZONE
TZID:Europe/Berlin
X-LIC-LOCATION:Europe/Berlin
BEGIN:DAYLIGHT
TZOFFSETFROM:+0100
TZOFFSETTO:+0200
TZNAME:CEST
DTSTART:19700329T020000
RRULE:FREQ=YEARLY;INTERVAL=1;BYDAY=-1SU;BYMONTH=3
END:DAYLIGHT
BEGIN:STANDARD
TZOFFSETFROM:+0200
TZOFFSETTO:+0100
TZNAME:CET
DTSTART:19701025T030000
RRULE:FREQ=YEARLY;INTERVAL=1;BYDAY=-1SU;BYMONTH=10
END:STANDARD
END:VTIMEZONE
BEGIN:VEVENT
DTSTAMP:20260422T122540
DTSTART;TZID=Europe/Berlin:20260306T163500
DTEND;TZID=Europe/Berlin:20260306T180500
UID:Z409A116-20260306T163500@VHSHEILBRONN
SUMMARY:Italienisch für Anfänger/-innen A1.1 (Z409A116) 
LOCATION:Bürgertreff Flein, Ilsfelder Str. 16, 74223 Flein
END:VEVENT
BEGIN:VEVENT
DTSTAMP:20260422T122540
DTSTART;TZID=Europe/Berlin:20260313T163500
DTEND;TZID=Europe/Berlin:20260313T180500
UID:Z409A116-20260313T163500@VHSHEILBRONN
SUMMARY:Italienisch für Anfänger/-innen A1.1 (Z409A116) 
LOCATION:Bürgertreff Flein, Ilsfelder Str. 16, 74223 Flein
END:VEVENT
BEGIN:VEVENT
DTSTAMP:20260422T122540
DTSTART;TZID=Europe/Berlin:20260320T163500
DTEND;TZID=Europe/Berlin:20260320T180500
UID:Z409A116-20260320T163500@VHSHEILBRONN
SUMMARY:Italienisch für Anfänger/-innen A1.1 (Z409A116) 
LOCATION:Bürgertreff Flein, Ilsfelder Str. 16, 74223 Flein
END:VEVENT
BEGIN:VEVENT
DTSTAMP:20260422T122540
DTSTART;TZID=Europe/Berlin:20260327T163500
DTEND;TZID=Europe/Berlin:20260327T180500
UID:Z409A116-20260327T163500@VHSHEILBRONN
SUMMARY:Italienisch für Anfänger/-innen A1.1 (Z409A116) 
LOCATION:Bürgertreff Flein, Ilsfelder Str. 16, 74223 Flein
END:VEVENT
BEGIN:VEVENT
DTSTAMP:20260422T122540
DTSTART;TZID=Europe/Berlin:20260417T163500
DTEND;TZID=Europe/Berlin:20260417T180500
UID:Z409A116-20260417T163500@VHSHEILBRONN
SUMMARY:Italienisch für Anfänger/-innen A1.1 (Z409A116) 
LOCATION:Bürgertreff Flein, Ilsfelder Str. 16, 74223 Flein
END:VEVENT
BEGIN:VEVENT
DTSTAMP:20260422T122540
DTSTART;TZID=Europe/Berlin:20260424T163500
DTEND;TZID=Europe/Berlin:20260424T180500
UID:Z409A116-20260424T163500@VHSHEILBRONN
SUMMARY:Italienisch für Anfänger/-innen A1.1 (Z409A116) 
LOCATION:Bürgertreff Flein, Ilsfelder Str. 16, 74223 Flein
END:VEVENT
BEGIN:VEVENT
DTSTAMP:20260422T122540
DTSTART;TZID=Europe/Berlin:20260508T163500
DTEND;TZID=Europe/Berlin:20260508T180500
UID:Z409A116-20260508T163500@VHSHEILBRONN
SUMMARY:Italienisch für Anfänger/-innen A1.1 (Z409A116) 
LOCATION:Bürgertreff Flein, Ilsfelder Str. 16, 74223 Flein
END:VEVENT
BEGIN:VEVENT
DTSTAMP:20260422T122540
DTSTART;TZID=Europe/Berlin:20260522T163500
DTEND;TZID=Europe/Berlin:20260522T180500
UID:Z409A116-20260522T163500@VHSHEILBRONN
SUMMARY:Italienisch für Anfänger/-innen A1.1 (Z409A116) 
LOCATION:Bürgertreff Flein, Ilsfelder Str. 16, 74223 Flein
END:VEVENT
BEGIN:VEVENT
DTSTAMP:20260422T122540
DTSTART;TZID=Europe/Berlin:20260626T163500
DTEND;TZID=Europe/Berlin:20260626T180500
UID:Z409A116-20260626T163500@VHSHEILBRONN
SUMMARY:Italienisch für Anfänger/-innen A1.1 (Z409A116) 
LOCATION:Bürgertreff Flein, Ilsfelder Str. 16, 74223 Flein
END:VEVENT
BEGIN:VEVENT
DTSTAMP:20260422T122540
DTSTART;TZID=Europe/Berlin:20260703T163500
DTEND;TZID=Europe/Berlin:20260703T180500
UID:Z409A116-20260703T163500@VHSHEILBRONN
SUMMARY:Italienisch für Anfänger/-innen A1.1 (Z409A116) 
LOCATION:Bürgertreff Flein, Ilsfelder Str. 16, 74223 Flein
END:VEVENT
BEGIN:VEVENT
DTSTAMP:20260422T122540
DTSTART;TZID=Europe/Berlin:20260710T163500
DTEND;TZID=Europe/Berlin:20260710T180500
UID:Z409A116-20260710T163500@VHSHEILBRONN
SUMMARY:Italienisch für Anfänger/-innen A1.1 (Z409A116) 
LOCATION:Bürgertreff Flein, Ilsfelder Str. 16, 74223 Flein
END:VEVENT
BEGIN:VEVENT
DTSTAMP:20260422T122540
DTSTART;TZID=Europe/Berlin:20260717T163500
DTEND;TZID=Europe/Berlin:20260717T180500
UID:Z409A116-20260717T163500@VHSHEILBRONN
SUMMARY:Italienisch für Anfänger/-innen A1.1 (Z409A116) 
LOCATION:Bürgertreff Flein, Ilsfelder Str. 16, 74223 Flein
END:VEVENT
END:VCALENDAR