BEGIN:VCALENDAR
VERSION:2.0
PRODID:https://www.kufer.de/kuferweb / DE
METHOD:PUBLISH
CALSCALE:GREGORIAN
X-WR-TIMEZONE:Europe/Berlin
BEGIN:VTIMEZONE
TZID:Europe/Berlin
X-LIC-LOCATION:Europe/Berlin
BEGIN:DAYLIGHT
TZOFFSETFROM:+0100
TZOFFSETTO:+0200
TZNAME:CEST
DTSTART:19700329T020000
RRULE:FREQ=YEARLY;INTERVAL=1;BYDAY=-1SU;BYMONTH=3
END:DAYLIGHT
BEGIN:STANDARD
TZOFFSETFROM:+0200
TZOFFSETTO:+0100
TZNAME:CET
DTSTART:19701025T030000
RRULE:FREQ=YEARLY;INTERVAL=1;BYDAY=-1SU;BYMONTH=10
END:STANDARD
END:VTIMEZONE
BEGIN:VEVENT
DTSTAMP:20260422T122539
DTSTART;TZID=Europe/Berlin:20260223T100500
DTEND;TZID=Europe/Berlin:20260223T113500
UID:Z408A346-20260223T100500@VHSHEILBRONN
SUMMARY:Französisch B1/B2 (Z408A346) 
LOCATION:vhs, Deutschhof, Raum 306, Kirchbrunnenstr. 12, 74072 Heilbronn
END:VEVENT
BEGIN:VEVENT
DTSTAMP:20260422T122539
DTSTART;TZID=Europe/Berlin:20260302T100500
DTEND;TZID=Europe/Berlin:20260302T113500
UID:Z408A346-20260302T100500@VHSHEILBRONN
SUMMARY:Französisch B1/B2 (Z408A346) 
LOCATION:vhs, Deutschhof, Raum 306, Kirchbrunnenstr. 12, 74072 Heilbronn
END:VEVENT
BEGIN:VEVENT
DTSTAMP:20260422T122539
DTSTART;TZID=Europe/Berlin:20260309T100500
DTEND;TZID=Europe/Berlin:20260309T113500
UID:Z408A346-20260309T100500@VHSHEILBRONN
SUMMARY:Französisch B1/B2 (Z408A346) 
LOCATION:vhs, Deutschhof, Raum 306, Kirchbrunnenstr. 12, 74072 Heilbronn
END:VEVENT
BEGIN:VEVENT
DTSTAMP:20260422T122539
DTSTART;TZID=Europe/Berlin:20260316T100500
DTEND;TZID=Europe/Berlin:20260316T113500
UID:Z408A346-20260316T100500@VHSHEILBRONN
SUMMARY:Französisch B1/B2 (Z408A346) 
LOCATION:vhs, Deutschhof, Raum 306, Kirchbrunnenstr. 12, 74072 Heilbronn
END:VEVENT
BEGIN:VEVENT
DTSTAMP:20260422T122539
DTSTART;TZID=Europe/Berlin:20260323T100500
DTEND;TZID=Europe/Berlin:20260323T113500
UID:Z408A346-20260323T100500@VHSHEILBRONN
SUMMARY:Französisch B1/B2 (Z408A346) 
LOCATION:vhs, Deutschhof, Raum 306, Kirchbrunnenstr. 12, 74072 Heilbronn
END:VEVENT
BEGIN:VEVENT
DTSTAMP:20260422T122539
DTSTART;TZID=Europe/Berlin:20260413T100500
DTEND;TZID=Europe/Berlin:20260413T113500
UID:Z408A346-20260413T100500@VHSHEILBRONN
SUMMARY:Französisch B1/B2 (Z408A346) 
LOCATION:vhs, Deutschhof, Raum 306, Kirchbrunnenstr. 12, 74072 Heilbronn
END:VEVENT
BEGIN:VEVENT
DTSTAMP:20260422T122539
DTSTART;TZID=Europe/Berlin:20260420T100500
DTEND;TZID=Europe/Berlin:20260420T113500
UID:Z408A346-20260420T100500@VHSHEILBRONN
SUMMARY:Französisch B1/B2 (Z408A346) 
LOCATION:vhs, Deutschhof, Raum 306, Kirchbrunnenstr. 12, 74072 Heilbronn
END:VEVENT
BEGIN:VEVENT
DTSTAMP:20260422T122539
DTSTART;TZID=Europe/Berlin:20260427T100500
DTEND;TZID=Europe/Berlin:20260427T113500
UID:Z408A346-20260427T100500@VHSHEILBRONN
SUMMARY:Französisch B1/B2 (Z408A346) 
LOCATION:vhs, Deutschhof, Raum 306, Kirchbrunnenstr. 12, 74072 Heilbronn
END:VEVENT
BEGIN:VEVENT
DTSTAMP:20260422T122539
DTSTART;TZID=Europe/Berlin:20260504T100500
DTEND;TZID=Europe/Berlin:20260504T113500
UID:Z408A346-20260504T100500@VHSHEILBRONN
SUMMARY:Französisch B1/B2 (Z408A346) 
LOCATION:vhs, Deutschhof, Raum 306, Kirchbrunnenstr. 12, 74072 Heilbronn
END:VEVENT
BEGIN:VEVENT
DTSTAMP:20260422T122539
DTSTART;TZID=Europe/Berlin:20260511T100500
DTEND;TZID=Europe/Berlin:20260511T113500
UID:Z408A346-20260511T100500@VHSHEILBRONN
SUMMARY:Französisch B1/B2 (Z408A346) 
LOCATION:vhs, Deutschhof, Raum 306, Kirchbrunnenstr. 12, 74072 Heilbronn
END:VEVENT
BEGIN:VEVENT
DTSTAMP:20260422T122539
DTSTART;TZID=Europe/Berlin:20260518T100500
DTEND;TZID=Europe/Berlin:20260518T113500
UID:Z408A346-20260518T100500@VHSHEILBRONN
SUMMARY:Französisch B1/B2 (Z408A346) 
LOCATION:vhs, Deutschhof, Raum 306, Kirchbrunnenstr. 12, 74072 Heilbronn
END:VEVENT
BEGIN:VEVENT
DTSTAMP:20260422T122539
DTSTART;TZID=Europe/Berlin:20260608T100500
DTEND;TZID=Europe/Berlin:20260608T113500
UID:Z408A346-20260608T100500@VHSHEILBRONN
SUMMARY:Französisch B1/B2 (Z408A346) 
LOCATION:vhs, Deutschhof, Raum 306, Kirchbrunnenstr. 12, 74072 Heilbronn
END:VEVENT
BEGIN:VEVENT
DTSTAMP:20260422T122539
DTSTART;TZID=Europe/Berlin:20260615T100500
DTEND;TZID=Europe/Berlin:20260615T113500
UID:Z408A346-20260615T100500@VHSHEILBRONN
SUMMARY:Französisch B1/B2 (Z408A346) 
LOCATION:vhs, Deutschhof, Raum 306, Kirchbrunnenstr. 12, 74072 Heilbronn
END:VEVENT
BEGIN:VEVENT
DTSTAMP:20260422T122539
DTSTART;TZID=Europe/Berlin:20260622T100500
DTEND;TZID=Europe/Berlin:20260622T113500
UID:Z408A346-20260622T100500@VHSHEILBRONN
SUMMARY:Französisch B1/B2 (Z408A346) 
LOCATION:vhs, Deutschhof, Raum 306, Kirchbrunnenstr. 12, 74072 Heilbronn
END:VEVENT
END:VCALENDAR