BEGIN:VCALENDAR
VERSION:2.0
PRODID:https://www.kufer.de/kuferweb / DE
METHOD:PUBLISH
CALSCALE:GREGORIAN
X-WR-TIMEZONE:Europe/Berlin
BEGIN:VTIMEZONE
TZID:Europe/Berlin
X-LIC-LOCATION:Europe/Berlin
BEGIN:DAYLIGHT
TZOFFSETFROM:+0100
TZOFFSETTO:+0200
TZNAME:CEST
DTSTART:19700329T020000
RRULE:FREQ=YEARLY;INTERVAL=1;BYDAY=-1SU;BYMONTH=3
END:DAYLIGHT
BEGIN:STANDARD
TZOFFSETFROM:+0200
TZOFFSETTO:+0100
TZNAME:CET
DTSTART:19701025T030000
RRULE:FREQ=YEARLY;INTERVAL=1;BYDAY=-1SU;BYMONTH=10
END:STANDARD
END:VTIMEZONE
BEGIN:VEVENT
DTSTAMP:20260422T124643
DTSTART;TZID=Europe/Berlin:20260303T194500
DTEND;TZID=Europe/Berlin:20260303T211500
UID:Z408A252-20260303T194500@VHSHEILBRONN
SUMMARY:Französisch Conversation A2 in der Kleingruppe -14-tägig (Z408A252) 
LOCATION:Robert-Bosch-Str. 54, vhs-Raum, Robert-Bosch-Straße 54, 74081 Heilbronn
END:VEVENT
BEGIN:VEVENT
DTSTAMP:20260422T124643
DTSTART;TZID=Europe/Berlin:20260317T194500
DTEND;TZID=Europe/Berlin:20260317T211500
UID:Z408A252-20260317T194500@VHSHEILBRONN
SUMMARY:Französisch Conversation A2 in der Kleingruppe -14-tägig (Z408A252) 
LOCATION:Robert-Bosch-Str. 54, vhs-Raum, Robert-Bosch-Straße 54, 74081 Heilbronn
END:VEVENT
BEGIN:VEVENT
DTSTAMP:20260422T124643
DTSTART;TZID=Europe/Berlin:20260414T194500
DTEND;TZID=Europe/Berlin:20260414T211500
UID:Z408A252-20260414T194500@VHSHEILBRONN
SUMMARY:Französisch Conversation A2 in der Kleingruppe -14-tägig (Z408A252) 
LOCATION:Robert-Bosch-Str. 54, vhs-Raum, Robert-Bosch-Straße 54, 74081 Heilbronn
END:VEVENT
BEGIN:VEVENT
DTSTAMP:20260422T124643
DTSTART;TZID=Europe/Berlin:20260428T194500
DTEND;TZID=Europe/Berlin:20260428T211500
UID:Z408A252-20260428T194500@VHSHEILBRONN
SUMMARY:Französisch Conversation A2 in der Kleingruppe -14-tägig (Z408A252) 
LOCATION:Robert-Bosch-Str. 54, vhs-Raum, Robert-Bosch-Straße 54, 74081 Heilbronn
END:VEVENT
BEGIN:VEVENT
DTSTAMP:20260422T124643
DTSTART;TZID=Europe/Berlin:20260512T194500
DTEND;TZID=Europe/Berlin:20260512T211500
UID:Z408A252-20260512T194500@VHSHEILBRONN
SUMMARY:Französisch Conversation A2 in der Kleingruppe -14-tägig (Z408A252) 
LOCATION:Robert-Bosch-Str. 54, vhs-Raum, Robert-Bosch-Straße 54, 74081 Heilbronn
END:VEVENT
BEGIN:VEVENT
DTSTAMP:20260422T124643
DTSTART;TZID=Europe/Berlin:20260609T194500
DTEND;TZID=Europe/Berlin:20260609T211500
UID:Z408A252-20260609T194500@VHSHEILBRONN
SUMMARY:Französisch Conversation A2 in der Kleingruppe -14-tägig (Z408A252) 
LOCATION:Robert-Bosch-Str. 54, vhs-Raum, Robert-Bosch-Straße 54, 74081 Heilbronn
END:VEVENT
BEGIN:VEVENT
DTSTAMP:20260422T124643
DTSTART;TZID=Europe/Berlin:20260623T194500
DTEND;TZID=Europe/Berlin:20260623T211500
UID:Z408A252-20260623T194500@VHSHEILBRONN
SUMMARY:Französisch Conversation A2 in der Kleingruppe -14-tägig (Z408A252) 
LOCATION:Robert-Bosch-Str. 54, vhs-Raum, Robert-Bosch-Straße 54, 74081 Heilbronn
END:VEVENT
END:VCALENDAR