BEGIN:VCALENDAR
VERSION:2.0
PRODID:https://www.kufer.de/kuferweb / DE
METHOD:PUBLISH
CALSCALE:GREGORIAN
X-WR-TIMEZONE:Europe/Berlin
BEGIN:VTIMEZONE
TZID:Europe/Berlin
X-LIC-LOCATION:Europe/Berlin
BEGIN:DAYLIGHT
TZOFFSETFROM:+0100
TZOFFSETTO:+0200
TZNAME:CEST
DTSTART:19700329T020000
RRULE:FREQ=YEARLY;INTERVAL=1;BYDAY=-1SU;BYMONTH=3
END:DAYLIGHT
BEGIN:STANDARD
TZOFFSETFROM:+0200
TZOFFSETTO:+0100
TZNAME:CET
DTSTART:19701025T030000
RRULE:FREQ=YEARLY;INTERVAL=1;BYDAY=-1SU;BYMONTH=10
END:STANDARD
END:VTIMEZONE
BEGIN:VEVENT
DTSTAMP:20260422T124641
DTSTART;TZID=Europe/Berlin:20260223T171500
DTEND;TZID=Europe/Berlin:20260223T184500
UID:Z408A142-20260223T171500@VHSHEILBRONN
SUMMARY:Französisch  A1.4 (Z408A142) 
LOCATION:vhs, Deutschhof, Raum 205, Kirchbrunnenstr. 12, 74072 Heilbronn
END:VEVENT
BEGIN:VEVENT
DTSTAMP:20260422T124641
DTSTART;TZID=Europe/Berlin:20260302T171500
DTEND;TZID=Europe/Berlin:20260302T184500
UID:Z408A142-20260302T171500@VHSHEILBRONN
SUMMARY:Französisch  A1.4 (Z408A142) 
LOCATION:vhs, Deutschhof, Raum 205, Kirchbrunnenstr. 12, 74072 Heilbronn
END:VEVENT
BEGIN:VEVENT
DTSTAMP:20260422T124641
DTSTART;TZID=Europe/Berlin:20260309T171500
DTEND;TZID=Europe/Berlin:20260309T184500
UID:Z408A142-20260309T171500@VHSHEILBRONN
SUMMARY:Französisch  A1.4 (Z408A142) 
LOCATION:vhs, Deutschhof, Raum 205, Kirchbrunnenstr. 12, 74072 Heilbronn
END:VEVENT
BEGIN:VEVENT
DTSTAMP:20260422T124641
DTSTART;TZID=Europe/Berlin:20260316T171500
DTEND;TZID=Europe/Berlin:20260316T184500
UID:Z408A142-20260316T171500@VHSHEILBRONN
SUMMARY:Französisch  A1.4 (Z408A142) 
LOCATION:vhs, Deutschhof, Raum 205, Kirchbrunnenstr. 12, 74072 Heilbronn
END:VEVENT
BEGIN:VEVENT
DTSTAMP:20260422T124641
DTSTART;TZID=Europe/Berlin:20260323T171500
DTEND;TZID=Europe/Berlin:20260323T184500
UID:Z408A142-20260323T171500@VHSHEILBRONN
SUMMARY:Französisch  A1.4 (Z408A142) 
LOCATION:vhs, Deutschhof, Raum 205, Kirchbrunnenstr. 12, 74072 Heilbronn
END:VEVENT
BEGIN:VEVENT
DTSTAMP:20260422T124641
DTSTART;TZID=Europe/Berlin:20260413T171500
DTEND;TZID=Europe/Berlin:20260413T184500
UID:Z408A142-20260413T171500@VHSHEILBRONN
SUMMARY:Französisch  A1.4 (Z408A142) 
LOCATION:vhs, Deutschhof, Raum 205, Kirchbrunnenstr. 12, 74072 Heilbronn
END:VEVENT
BEGIN:VEVENT
DTSTAMP:20260422T124641
DTSTART;TZID=Europe/Berlin:20260427T171500
DTEND;TZID=Europe/Berlin:20260427T184500
UID:Z408A142-20260427T171500@VHSHEILBRONN
SUMMARY:Französisch  A1.4 (Z408A142) 
LOCATION:vhs, Deutschhof, Raum 205, Kirchbrunnenstr. 12, 74072 Heilbronn
END:VEVENT
BEGIN:VEVENT
DTSTAMP:20260422T124641
DTSTART;TZID=Europe/Berlin:20260504T171500
DTEND;TZID=Europe/Berlin:20260504T184500
UID:Z408A142-20260504T171500@VHSHEILBRONN
SUMMARY:Französisch  A1.4 (Z408A142) 
LOCATION:vhs, Deutschhof, Raum 205, Kirchbrunnenstr. 12, 74072 Heilbronn
END:VEVENT
BEGIN:VEVENT
DTSTAMP:20260422T124641
DTSTART;TZID=Europe/Berlin:20260511T171500
DTEND;TZID=Europe/Berlin:20260511T184500
UID:Z408A142-20260511T171500@VHSHEILBRONN
SUMMARY:Französisch  A1.4 (Z408A142) 
LOCATION:vhs, Deutschhof, Raum 205, Kirchbrunnenstr. 12, 74072 Heilbronn
END:VEVENT
BEGIN:VEVENT
DTSTAMP:20260422T124641
DTSTART;TZID=Europe/Berlin:20260518T171500
DTEND;TZID=Europe/Berlin:20260518T184500
UID:Z408A142-20260518T171500@VHSHEILBRONN
SUMMARY:Französisch  A1.4 (Z408A142) 
LOCATION:vhs, Deutschhof, Raum 205, Kirchbrunnenstr. 12, 74072 Heilbronn
END:VEVENT
BEGIN:VEVENT
DTSTAMP:20260422T124641
DTSTART;TZID=Europe/Berlin:20260608T171500
DTEND;TZID=Europe/Berlin:20260608T184500
UID:Z408A142-20260608T171500@VHSHEILBRONN
SUMMARY:Französisch  A1.4 (Z408A142) 
LOCATION:vhs, Deutschhof, Raum 205, Kirchbrunnenstr. 12, 74072 Heilbronn
END:VEVENT
BEGIN:VEVENT
DTSTAMP:20260422T124641
DTSTART;TZID=Europe/Berlin:20260615T171500
DTEND;TZID=Europe/Berlin:20260615T184500
UID:Z408A142-20260615T171500@VHSHEILBRONN
SUMMARY:Französisch  A1.4 (Z408A142) 
LOCATION:vhs, Deutschhof, Raum 205, Kirchbrunnenstr. 12, 74072 Heilbronn
END:VEVENT
BEGIN:VEVENT
DTSTAMP:20260422T124641
DTSTART;TZID=Europe/Berlin:20260622T171500
DTEND;TZID=Europe/Berlin:20260622T184500
UID:Z408A142-20260622T171500@VHSHEILBRONN
SUMMARY:Französisch  A1.4 (Z408A142) 
LOCATION:vhs, Deutschhof, Raum 205, Kirchbrunnenstr. 12, 74072 Heilbronn
END:VEVENT
BEGIN:VEVENT
DTSTAMP:20260422T124641
DTSTART;TZID=Europe/Berlin:20260629T171500
DTEND;TZID=Europe/Berlin:20260629T184500
UID:Z408A142-20260629T171500@VHSHEILBRONN
SUMMARY:Französisch  A1.4 (Z408A142) 
LOCATION:vhs, Deutschhof, Raum 205, Kirchbrunnenstr. 12, 74072 Heilbronn
END:VEVENT
BEGIN:VEVENT
DTSTAMP:20260422T124641
DTSTART;TZID=Europe/Berlin:20260706T171500
DTEND;TZID=Europe/Berlin:20260706T184500
UID:Z408A142-20260706T171500@VHSHEILBRONN
SUMMARY:Französisch  A1.4 (Z408A142) 
LOCATION:vhs, Deutschhof, Raum 205, Kirchbrunnenstr. 12, 74072 Heilbronn
END:VEVENT
END:VCALENDAR