BEGIN:VCALENDAR
VERSION:2.0
PRODID:https://www.kufer.de/kuferweb / DE
METHOD:PUBLISH
CALSCALE:GREGORIAN
X-WR-TIMEZONE:Europe/Berlin
BEGIN:VTIMEZONE
TZID:Europe/Berlin
X-LIC-LOCATION:Europe/Berlin
BEGIN:DAYLIGHT
TZOFFSETFROM:+0100
TZOFFSETTO:+0200
TZNAME:CEST
DTSTART:19700329T020000
RRULE:FREQ=YEARLY;INTERVAL=1;BYDAY=-1SU;BYMONTH=3
END:DAYLIGHT
BEGIN:STANDARD
TZOFFSETFROM:+0200
TZOFFSETTO:+0100
TZNAME:CET
DTSTART:19701025T030000
RRULE:FREQ=YEARLY;INTERVAL=1;BYDAY=-1SU;BYMONTH=10
END:STANDARD
END:VTIMEZONE
BEGIN:VEVENT
DTSTAMP:20260422T122458
DTSTART;TZID=Europe/Berlin:20260311T142000
DTEND;TZID=Europe/Berlin:20260311T155000
UID:Z406A335-20260311T142000@VHSHEILBRONN
SUMMARY:Englisch B1.3 - langsames Tempo (Z406A335) 
LOCATION:Bürgertreff Flein, Ilsfelder Str. 16, 74223 Flein
END:VEVENT
BEGIN:VEVENT
DTSTAMP:20260422T122458
DTSTART;TZID=Europe/Berlin:20260318T142000
DTEND;TZID=Europe/Berlin:20260318T155000
UID:Z406A335-20260318T142000@VHSHEILBRONN
SUMMARY:Englisch B1.3 - langsames Tempo (Z406A335) 
LOCATION:Bürgertreff Flein, Ilsfelder Str. 16, 74223 Flein
END:VEVENT
BEGIN:VEVENT
DTSTAMP:20260422T122458
DTSTART;TZID=Europe/Berlin:20260325T142000
DTEND;TZID=Europe/Berlin:20260325T155000
UID:Z406A335-20260325T142000@VHSHEILBRONN
SUMMARY:Englisch B1.3 - langsames Tempo (Z406A335) 
LOCATION:Bürgertreff Flein, Ilsfelder Str. 16, 74223 Flein
END:VEVENT
BEGIN:VEVENT
DTSTAMP:20260422T122458
DTSTART;TZID=Europe/Berlin:20260415T142000
DTEND;TZID=Europe/Berlin:20260415T155000
UID:Z406A335-20260415T142000@VHSHEILBRONN
SUMMARY:Englisch B1.3 - langsames Tempo (Z406A335) 
LOCATION:Bürgertreff Flein, Ilsfelder Str. 16, 74223 Flein
END:VEVENT
BEGIN:VEVENT
DTSTAMP:20260422T122458
DTSTART;TZID=Europe/Berlin:20260422T142000
DTEND;TZID=Europe/Berlin:20260422T155000
UID:Z406A335-20260422T142000@VHSHEILBRONN
SUMMARY:Englisch B1.3 - langsames Tempo (Z406A335) 
LOCATION:Bürgertreff Flein, Ilsfelder Str. 16, 74223 Flein
END:VEVENT
BEGIN:VEVENT
DTSTAMP:20260422T122458
DTSTART;TZID=Europe/Berlin:20260429T142000
DTEND;TZID=Europe/Berlin:20260429T155000
UID:Z406A335-20260429T142000@VHSHEILBRONN
SUMMARY:Englisch B1.3 - langsames Tempo (Z406A335) 
LOCATION:Bürgertreff Flein, Ilsfelder Str. 16, 74223 Flein
END:VEVENT
BEGIN:VEVENT
DTSTAMP:20260422T122458
DTSTART;TZID=Europe/Berlin:20260506T142000
DTEND;TZID=Europe/Berlin:20260506T155000
UID:Z406A335-20260506T142000@VHSHEILBRONN
SUMMARY:Englisch B1.3 - langsames Tempo (Z406A335) 
LOCATION:Bürgertreff Flein, Ilsfelder Str. 16, 74223 Flein
END:VEVENT
BEGIN:VEVENT
DTSTAMP:20260422T122458
DTSTART;TZID=Europe/Berlin:20260513T142000
DTEND;TZID=Europe/Berlin:20260513T155000
UID:Z406A335-20260513T142000@VHSHEILBRONN
SUMMARY:Englisch B1.3 - langsames Tempo (Z406A335) 
LOCATION:Bürgertreff Flein, Ilsfelder Str. 16, 74223 Flein
END:VEVENT
BEGIN:VEVENT
DTSTAMP:20260422T122458
DTSTART;TZID=Europe/Berlin:20260520T142000
DTEND;TZID=Europe/Berlin:20260520T155000
UID:Z406A335-20260520T142000@VHSHEILBRONN
SUMMARY:Englisch B1.3 - langsames Tempo (Z406A335) 
LOCATION:Bürgertreff Flein, Ilsfelder Str. 16, 74223 Flein
END:VEVENT
BEGIN:VEVENT
DTSTAMP:20260422T122458
DTSTART;TZID=Europe/Berlin:20260610T142000
DTEND;TZID=Europe/Berlin:20260610T155000
UID:Z406A335-20260610T142000@VHSHEILBRONN
SUMMARY:Englisch B1.3 - langsames Tempo (Z406A335) 
LOCATION:Bürgertreff Flein, Ilsfelder Str. 16, 74223 Flein
END:VEVENT
BEGIN:VEVENT
DTSTAMP:20260422T122458
DTSTART;TZID=Europe/Berlin:20260617T142000
DTEND;TZID=Europe/Berlin:20260617T155000
UID:Z406A335-20260617T142000@VHSHEILBRONN
SUMMARY:Englisch B1.3 - langsames Tempo (Z406A335) 
LOCATION:Bürgertreff Flein, Ilsfelder Str. 16, 74223 Flein
END:VEVENT
BEGIN:VEVENT
DTSTAMP:20260422T122458
DTSTART;TZID=Europe/Berlin:20260624T142000
DTEND;TZID=Europe/Berlin:20260624T155000
UID:Z406A335-20260624T142000@VHSHEILBRONN
SUMMARY:Englisch B1.3 - langsames Tempo (Z406A335) 
LOCATION:Bürgertreff Flein, Ilsfelder Str. 16, 74223 Flein
END:VEVENT
BEGIN:VEVENT
DTSTAMP:20260422T122458
DTSTART;TZID=Europe/Berlin:20260701T142000
DTEND;TZID=Europe/Berlin:20260701T155000
UID:Z406A335-20260701T142000@VHSHEILBRONN
SUMMARY:Englisch B1.3 - langsames Tempo (Z406A335) 
LOCATION:Bürgertreff Flein, Ilsfelder Str. 16, 74223 Flein
END:VEVENT
BEGIN:VEVENT
DTSTAMP:20260422T122458
DTSTART;TZID=Europe/Berlin:20260708T142000
DTEND;TZID=Europe/Berlin:20260708T155000
UID:Z406A335-20260708T142000@VHSHEILBRONN
SUMMARY:Englisch B1.3 - langsames Tempo (Z406A335) 
LOCATION:Bürgertreff Flein, Ilsfelder Str. 16, 74223 Flein
END:VEVENT
END:VCALENDAR