BEGIN:VCALENDAR
VERSION:2.0
PRODID:https://www.kufer.de/kuferweb / DE
METHOD:PUBLISH
CALSCALE:GREGORIAN
X-WR-TIMEZONE:Europe/Berlin
BEGIN:VTIMEZONE
TZID:Europe/Berlin
X-LIC-LOCATION:Europe/Berlin
BEGIN:DAYLIGHT
TZOFFSETFROM:+0100
TZOFFSETTO:+0200
TZNAME:CEST
DTSTART:19700329T020000
RRULE:FREQ=YEARLY;INTERVAL=1;BYDAY=-1SU;BYMONTH=3
END:DAYLIGHT
BEGIN:STANDARD
TZOFFSETFROM:+0200
TZOFFSETTO:+0100
TZNAME:CET
DTSTART:19701025T030000
RRULE:FREQ=YEARLY;INTERVAL=1;BYDAY=-1SU;BYMONTH=10
END:STANDARD
END:VTIMEZONE
BEGIN:VEVENT
DTSTAMP:20260422T122622
DTSTART;TZID=Europe/Berlin:20260608T170000
DTEND;TZID=Europe/Berlin:20260608T180000
UID:Z406A071-20260608T170000@VHSHEILBRONN
SUMMARY:Einfach Englisch lernen - Inklusiver Sprachkurs (Z406A071) 
LOCATION:vhs, Deutschhof, Raum 111, Kirchbrunnenstr. 12, 74072 Heilbronn
END:VEVENT
BEGIN:VEVENT
DTSTAMP:20260422T122622
DTSTART;TZID=Europe/Berlin:20260622T170000
DTEND;TZID=Europe/Berlin:20260622T180000
UID:Z406A071-20260622T170000@VHSHEILBRONN
SUMMARY:Einfach Englisch lernen - Inklusiver Sprachkurs (Z406A071) 
LOCATION:vhs, Deutschhof, Raum 111, Kirchbrunnenstr. 12, 74072 Heilbronn
END:VEVENT
BEGIN:VEVENT
DTSTAMP:20260422T122622
DTSTART;TZID=Europe/Berlin:20260706T170000
DTEND;TZID=Europe/Berlin:20260706T180000
UID:Z406A071-20260706T170000@VHSHEILBRONN
SUMMARY:Einfach Englisch lernen - Inklusiver Sprachkurs (Z406A071) 
LOCATION:vhs, Deutschhof, Raum 111, Kirchbrunnenstr. 12, 74072 Heilbronn
END:VEVENT
BEGIN:VEVENT
DTSTAMP:20260422T122622
DTSTART;TZID=Europe/Berlin:20260720T170000
DTEND;TZID=Europe/Berlin:20260720T180000
UID:Z406A071-20260720T170000@VHSHEILBRONN
SUMMARY:Einfach Englisch lernen - Inklusiver Sprachkurs (Z406A071) 
LOCATION:vhs, Deutschhof, Raum 111, Kirchbrunnenstr. 12, 74072 Heilbronn
END:VEVENT
BEGIN:VEVENT
DTSTAMP:20260422T122622
DTSTART;TZID=Europe/Berlin:20260914T170000
DTEND;TZID=Europe/Berlin:20260914T180000
UID:Z406A071-20260914T170000@VHSHEILBRONN
SUMMARY:Einfach Englisch lernen - Inklusiver Sprachkurs (Z406A071) 
LOCATION:vhs, Deutschhof, Raum 111, Kirchbrunnenstr. 12, 74072 Heilbronn
END:VEVENT
BEGIN:VEVENT
DTSTAMP:20260422T122622
DTSTART;TZID=Europe/Berlin:20260928T170000
DTEND;TZID=Europe/Berlin:20260928T180000
UID:Z406A071-20260928T170000@VHSHEILBRONN
SUMMARY:Einfach Englisch lernen - Inklusiver Sprachkurs (Z406A071) 
LOCATION:vhs, Deutschhof, Raum 111, Kirchbrunnenstr. 12, 74072 Heilbronn
END:VEVENT
BEGIN:VEVENT
DTSTAMP:20260422T122622
DTSTART;TZID=Europe/Berlin:20261012T170000
DTEND;TZID=Europe/Berlin:20261012T180000
UID:Z406A071-20261012T170000@VHSHEILBRONN
SUMMARY:Einfach Englisch lernen - Inklusiver Sprachkurs (Z406A071) 
LOCATION:vhs, Deutschhof, Raum 111, Kirchbrunnenstr. 12, 74072 Heilbronn
END:VEVENT
BEGIN:VEVENT
DTSTAMP:20260422T122622
DTSTART;TZID=Europe/Berlin:20261109T170000
DTEND;TZID=Europe/Berlin:20261109T180000
UID:Z406A071-20261109T170000@VHSHEILBRONN
SUMMARY:Einfach Englisch lernen - Inklusiver Sprachkurs (Z406A071) 
LOCATION:vhs, Deutschhof, Raum 111, Kirchbrunnenstr. 12, 74072 Heilbronn
END:VEVENT
BEGIN:VEVENT
DTSTAMP:20260422T122622
DTSTART;TZID=Europe/Berlin:20261123T170000
DTEND;TZID=Europe/Berlin:20261123T180000
UID:Z406A071-20261123T170000@VHSHEILBRONN
SUMMARY:Einfach Englisch lernen - Inklusiver Sprachkurs (Z406A071) 
LOCATION:vhs, Deutschhof, Raum 111, Kirchbrunnenstr. 12, 74072 Heilbronn
END:VEVENT
BEGIN:VEVENT
DTSTAMP:20260422T122622
DTSTART;TZID=Europe/Berlin:20261207T170000
DTEND;TZID=Europe/Berlin:20261207T180000
UID:Z406A071-20261207T170000@VHSHEILBRONN
SUMMARY:Einfach Englisch lernen - Inklusiver Sprachkurs (Z406A071) 
LOCATION:vhs, Deutschhof, Raum 111, Kirchbrunnenstr. 12, 74072 Heilbronn
END:VEVENT
BEGIN:VEVENT
DTSTAMP:20260422T122622
DTSTART;TZID=Europe/Berlin:20261221T170000
DTEND;TZID=Europe/Berlin:20261221T180000
UID:Z406A071-20261221T170000@VHSHEILBRONN
SUMMARY:Einfach Englisch lernen - Inklusiver Sprachkurs (Z406A071) 
LOCATION:vhs, Deutschhof, Raum 111, Kirchbrunnenstr. 12, 74072 Heilbronn
END:VEVENT
BEGIN:VEVENT
DTSTAMP:20260422T122622
DTSTART;TZID=Europe/Berlin:20270118T170000
DTEND;TZID=Europe/Berlin:20270118T180000
UID:Z406A071-20270118T170000@VHSHEILBRONN
SUMMARY:Einfach Englisch lernen - Inklusiver Sprachkurs (Z406A071) 
LOCATION:vhs, Deutschhof, Raum 111, Kirchbrunnenstr. 12, 74072 Heilbronn
END:VEVENT
BEGIN:VEVENT
DTSTAMP:20260422T122622
DTSTART;TZID=Europe/Berlin:20270201T170000
DTEND;TZID=Europe/Berlin:20270201T180000
UID:Z406A071-20270201T170000@VHSHEILBRONN
SUMMARY:Einfach Englisch lernen - Inklusiver Sprachkurs (Z406A071) 
LOCATION:vhs, Deutschhof, Raum 111, Kirchbrunnenstr. 12, 74072 Heilbronn
END:VEVENT
BEGIN:VEVENT
DTSTAMP:20260422T122622
DTSTART;TZID=Europe/Berlin:20270215T170000
DTEND;TZID=Europe/Berlin:20270215T180000
UID:Z406A071-20270215T170000@VHSHEILBRONN
SUMMARY:Einfach Englisch lernen - Inklusiver Sprachkurs (Z406A071) 
LOCATION:vhs, Deutschhof, Raum 111, Kirchbrunnenstr. 12, 74072 Heilbronn
END:VEVENT
BEGIN:VEVENT
DTSTAMP:20260422T122622
DTSTART;TZID=Europe/Berlin:20270301T170000
DTEND;TZID=Europe/Berlin:20270301T180000
UID:Z406A071-20270301T170000@VHSHEILBRONN
SUMMARY:Einfach Englisch lernen - Inklusiver Sprachkurs (Z406A071) 
LOCATION:vhs, Deutschhof, Raum 111, Kirchbrunnenstr. 12, 74072 Heilbronn
END:VEVENT
BEGIN:VEVENT
DTSTAMP:20260422T122622
DTSTART;TZID=Europe/Berlin:20270315T170000
DTEND;TZID=Europe/Berlin:20270315T180000
UID:Z406A071-20270315T170000@VHSHEILBRONN
SUMMARY:Einfach Englisch lernen - Inklusiver Sprachkurs (Z406A071) 
LOCATION:vhs, Deutschhof, Raum 111, Kirchbrunnenstr. 12, 74072 Heilbronn
END:VEVENT
BEGIN:VEVENT
DTSTAMP:20260422T122622
DTSTART;TZID=Europe/Berlin:20270412T170000
DTEND;TZID=Europe/Berlin:20270412T180000
UID:Z406A071-20270412T170000@VHSHEILBRONN
SUMMARY:Einfach Englisch lernen - Inklusiver Sprachkurs (Z406A071) 
LOCATION:vhs, Deutschhof, Raum 111, Kirchbrunnenstr. 12, 74072 Heilbronn
END:VEVENT
END:VCALENDAR