BEGIN:VCALENDAR
VERSION:2.0
PRODID:https://www.kufer.de/kuferweb / DE
METHOD:PUBLISH
CALSCALE:GREGORIAN
X-WR-TIMEZONE:Europe/Berlin
BEGIN:VTIMEZONE
TZID:Europe/Berlin
X-LIC-LOCATION:Europe/Berlin
BEGIN:DAYLIGHT
TZOFFSETFROM:+0100
TZOFFSETTO:+0200
TZNAME:CEST
DTSTART:19700329T020000
RRULE:FREQ=YEARLY;INTERVAL=1;BYDAY=-1SU;BYMONTH=3
END:DAYLIGHT
BEGIN:STANDARD
TZOFFSETFROM:+0200
TZOFFSETTO:+0100
TZNAME:CET
DTSTART:19701025T030000
RRULE:FREQ=YEARLY;INTERVAL=1;BYDAY=-1SU;BYMONTH=10
END:STANDARD
END:VTIMEZONE
BEGIN:VEVENT
DTSTAMP:20260422T124639
DTSTART;TZID=Europe/Berlin:20260515T184500
DTEND;TZID=Europe/Berlin:20260515T194500
UID:Z335A402-20260515T184500@VHSHEILBRONN
SUMMARY:Indoorcycling - Die besondere Art des Bikens (Z335A402) 
LOCATION:TSG Heilbronn - Bewegungszentrum, Nr. 3, Hofwiesenstr. 40, 74081 Heilbronn
END:VEVENT
BEGIN:VEVENT
DTSTAMP:20260422T124639
DTSTART;TZID=Europe/Berlin:20260522T184500
DTEND;TZID=Europe/Berlin:20260522T194500
UID:Z335A402-20260522T184500@VHSHEILBRONN
SUMMARY:Indoorcycling - Die besondere Art des Bikens (Z335A402) 
LOCATION:TSG Heilbronn - Bewegungszentrum, Nr. 3, Hofwiesenstr. 40, 74081 Heilbronn
END:VEVENT
BEGIN:VEVENT
DTSTAMP:20260422T124639
DTSTART;TZID=Europe/Berlin:20260612T184500
DTEND;TZID=Europe/Berlin:20260612T194500
UID:Z335A402-20260612T184500@VHSHEILBRONN
SUMMARY:Indoorcycling - Die besondere Art des Bikens (Z335A402) 
LOCATION:TSG Heilbronn - Bewegungszentrum, Nr. 3, Hofwiesenstr. 40, 74081 Heilbronn
END:VEVENT
BEGIN:VEVENT
DTSTAMP:20260422T124639
DTSTART;TZID=Europe/Berlin:20260619T184500
DTEND;TZID=Europe/Berlin:20260619T194500
UID:Z335A402-20260619T184500@VHSHEILBRONN
SUMMARY:Indoorcycling - Die besondere Art des Bikens (Z335A402) 
LOCATION:TSG Heilbronn - Bewegungszentrum, Nr. 3, Hofwiesenstr. 40, 74081 Heilbronn
END:VEVENT
BEGIN:VEVENT
DTSTAMP:20260422T124639
DTSTART;TZID=Europe/Berlin:20260626T184500
DTEND;TZID=Europe/Berlin:20260626T194500
UID:Z335A402-20260626T184500@VHSHEILBRONN
SUMMARY:Indoorcycling - Die besondere Art des Bikens (Z335A402) 
LOCATION:TSG Heilbronn - Bewegungszentrum, Nr. 3, Hofwiesenstr. 40, 74081 Heilbronn
END:VEVENT
BEGIN:VEVENT
DTSTAMP:20260422T124639
DTSTART;TZID=Europe/Berlin:20260703T184500
DTEND;TZID=Europe/Berlin:20260703T194500
UID:Z335A402-20260703T184500@VHSHEILBRONN
SUMMARY:Indoorcycling - Die besondere Art des Bikens (Z335A402) 
LOCATION:TSG Heilbronn - Bewegungszentrum, Nr. 3, Hofwiesenstr. 40, 74081 Heilbronn
END:VEVENT
BEGIN:VEVENT
DTSTAMP:20260422T124639
DTSTART;TZID=Europe/Berlin:20260710T184500
DTEND;TZID=Europe/Berlin:20260710T194500
UID:Z335A402-20260710T184500@VHSHEILBRONN
SUMMARY:Indoorcycling - Die besondere Art des Bikens (Z335A402) 
LOCATION:TSG Heilbronn - Bewegungszentrum, Nr. 3, Hofwiesenstr. 40, 74081 Heilbronn
END:VEVENT
BEGIN:VEVENT
DTSTAMP:20260422T124639
DTSTART;TZID=Europe/Berlin:20260717T184500
DTEND;TZID=Europe/Berlin:20260717T194500
UID:Z335A402-20260717T184500@VHSHEILBRONN
SUMMARY:Indoorcycling - Die besondere Art des Bikens (Z335A402) 
LOCATION:TSG Heilbronn - Bewegungszentrum, Nr. 3, Hofwiesenstr. 40, 74081 Heilbronn
END:VEVENT
BEGIN:VEVENT
DTSTAMP:20260422T124639
DTSTART;TZID=Europe/Berlin:20260724T184500
DTEND;TZID=Europe/Berlin:20260724T194500
UID:Z335A402-20260724T184500@VHSHEILBRONN
SUMMARY:Indoorcycling - Die besondere Art des Bikens (Z335A402) 
LOCATION:TSG Heilbronn - Bewegungszentrum, Nr. 3, Hofwiesenstr. 40, 74081 Heilbronn
END:VEVENT
END:VCALENDAR