BEGIN:VCALENDAR
VERSION:2.0
PRODID:https://www.kufer.de/kuferweb / DE
METHOD:PUBLISH
CALSCALE:GREGORIAN
X-WR-TIMEZONE:Europe/Berlin
BEGIN:VTIMEZONE
TZID:Europe/Berlin
X-LIC-LOCATION:Europe/Berlin
BEGIN:DAYLIGHT
TZOFFSETFROM:+0100
TZOFFSETTO:+0200
TZNAME:CEST
DTSTART:19700329T020000
RRULE:FREQ=YEARLY;INTERVAL=1;BYDAY=-1SU;BYMONTH=3
END:DAYLIGHT
BEGIN:STANDARD
TZOFFSETFROM:+0200
TZOFFSETTO:+0100
TZNAME:CET
DTSTART:19701025T030000
RRULE:FREQ=YEARLY;INTERVAL=1;BYDAY=-1SU;BYMONTH=10
END:STANDARD
END:VTIMEZONE
BEGIN:VEVENT
DTSTAMP:20260422T122500
DTSTART;TZID=Europe/Berlin:20260507T190000
DTEND;TZID=Europe/Berlin:20260507T200000
UID:Z335A302-20260507T190000@VHSHEILBRONN
SUMMARY:Indoorcycling - Die besondere Art des Bikens (Z335A302) 
LOCATION:TSG Heilbronn - Bewegungszentrum, Nr. 3, Hofwiesenstr. 40, 74081 Heilbronn
END:VEVENT
BEGIN:VEVENT
DTSTAMP:20260422T122500
DTSTART;TZID=Europe/Berlin:20260521T190000
DTEND;TZID=Europe/Berlin:20260521T200000
UID:Z335A302-20260521T190000@VHSHEILBRONN
SUMMARY:Indoorcycling - Die besondere Art des Bikens (Z335A302) 
LOCATION:TSG Heilbronn - Bewegungszentrum, Nr. 3, Hofwiesenstr. 40, 74081 Heilbronn
END:VEVENT
BEGIN:VEVENT
DTSTAMP:20260422T122500
DTSTART;TZID=Europe/Berlin:20260611T190000
DTEND;TZID=Europe/Berlin:20260611T200000
UID:Z335A302-20260611T190000@VHSHEILBRONN
SUMMARY:Indoorcycling - Die besondere Art des Bikens (Z335A302) 
LOCATION:TSG Heilbronn - Bewegungszentrum, Nr. 3, Hofwiesenstr. 40, 74081 Heilbronn
END:VEVENT
BEGIN:VEVENT
DTSTAMP:20260422T122500
DTSTART;TZID=Europe/Berlin:20260618T190000
DTEND;TZID=Europe/Berlin:20260618T200000
UID:Z335A302-20260618T190000@VHSHEILBRONN
SUMMARY:Indoorcycling - Die besondere Art des Bikens (Z335A302) 
LOCATION:TSG Heilbronn - Bewegungszentrum, Nr. 3, Hofwiesenstr. 40, 74081 Heilbronn
END:VEVENT
BEGIN:VEVENT
DTSTAMP:20260422T122500
DTSTART;TZID=Europe/Berlin:20260625T190000
DTEND;TZID=Europe/Berlin:20260625T200000
UID:Z335A302-20260625T190000@VHSHEILBRONN
SUMMARY:Indoorcycling - Die besondere Art des Bikens (Z335A302) 
LOCATION:TSG Heilbronn - Bewegungszentrum, Nr. 3, Hofwiesenstr. 40, 74081 Heilbronn
END:VEVENT
BEGIN:VEVENT
DTSTAMP:20260422T122500
DTSTART;TZID=Europe/Berlin:20260702T190000
DTEND;TZID=Europe/Berlin:20260702T200000
UID:Z335A302-20260702T190000@VHSHEILBRONN
SUMMARY:Indoorcycling - Die besondere Art des Bikens (Z335A302) 
LOCATION:TSG Heilbronn - Bewegungszentrum, Nr. 3, Hofwiesenstr. 40, 74081 Heilbronn
END:VEVENT
BEGIN:VEVENT
DTSTAMP:20260422T122500
DTSTART;TZID=Europe/Berlin:20260709T190000
DTEND;TZID=Europe/Berlin:20260709T200000
UID:Z335A302-20260709T190000@VHSHEILBRONN
SUMMARY:Indoorcycling - Die besondere Art des Bikens (Z335A302) 
LOCATION:TSG Heilbronn - Bewegungszentrum, Nr. 3, Hofwiesenstr. 40, 74081 Heilbronn
END:VEVENT
BEGIN:VEVENT
DTSTAMP:20260422T122500
DTSTART;TZID=Europe/Berlin:20260716T190000
DTEND;TZID=Europe/Berlin:20260716T200000
UID:Z335A302-20260716T190000@VHSHEILBRONN
SUMMARY:Indoorcycling - Die besondere Art des Bikens (Z335A302) 
LOCATION:TSG Heilbronn - Bewegungszentrum, Nr. 3, Hofwiesenstr. 40, 74081 Heilbronn
END:VEVENT
BEGIN:VEVENT
DTSTAMP:20260422T122500
DTSTART;TZID=Europe/Berlin:20260723T190000
DTEND;TZID=Europe/Berlin:20260723T200000
UID:Z335A302-20260723T190000@VHSHEILBRONN
SUMMARY:Indoorcycling - Die besondere Art des Bikens (Z335A302) 
LOCATION:TSG Heilbronn - Bewegungszentrum, Nr. 3, Hofwiesenstr. 40, 74081 Heilbronn
END:VEVENT
END:VCALENDAR