BEGIN:VCALENDAR
VERSION:2.0
PRODID:https://www.kufer.de/kuferweb / DE
METHOD:PUBLISH
CALSCALE:GREGORIAN
X-WR-TIMEZONE:Europe/Berlin
BEGIN:VTIMEZONE
TZID:Europe/Berlin
X-LIC-LOCATION:Europe/Berlin
BEGIN:DAYLIGHT
TZOFFSETFROM:+0100
TZOFFSETTO:+0200
TZNAME:CEST
DTSTART:19700329T020000
RRULE:FREQ=YEARLY;INTERVAL=1;BYDAY=-1SU;BYMONTH=3
END:DAYLIGHT
BEGIN:STANDARD
TZOFFSETFROM:+0200
TZOFFSETTO:+0100
TZNAME:CET
DTSTART:19701025T030000
RRULE:FREQ=YEARLY;INTERVAL=1;BYDAY=-1SU;BYMONTH=10
END:STANDARD
END:VTIMEZONE
BEGIN:VEVENT
DTSTAMP:20260422T122501
DTSTART;TZID=Europe/Berlin:20260513T183000
DTEND;TZID=Europe/Berlin:20260513T193000
UID:Z335A202-20260513T183000@VHSHEILBRONN
SUMMARY:Indoorcycling - Die besondere Art des Bikens (Z335A202) 
LOCATION:TSG Heilbronn - Bewegungszentrum, Nr. 3, Hofwiesenstr. 40, 74081 Heilbronn
END:VEVENT
BEGIN:VEVENT
DTSTAMP:20260422T122501
DTSTART;TZID=Europe/Berlin:20260520T183000
DTEND;TZID=Europe/Berlin:20260520T193000
UID:Z335A202-20260520T183000@VHSHEILBRONN
SUMMARY:Indoorcycling - Die besondere Art des Bikens (Z335A202) 
LOCATION:TSG Heilbronn - Bewegungszentrum, Nr. 3, Hofwiesenstr. 40, 74081 Heilbronn
END:VEVENT
BEGIN:VEVENT
DTSTAMP:20260422T122501
DTSTART;TZID=Europe/Berlin:20260610T183000
DTEND;TZID=Europe/Berlin:20260610T193000
UID:Z335A202-20260610T183000@VHSHEILBRONN
SUMMARY:Indoorcycling - Die besondere Art des Bikens (Z335A202) 
LOCATION:TSG Heilbronn - Bewegungszentrum, Nr. 3, Hofwiesenstr. 40, 74081 Heilbronn
END:VEVENT
BEGIN:VEVENT
DTSTAMP:20260422T122501
DTSTART;TZID=Europe/Berlin:20260617T183000
DTEND;TZID=Europe/Berlin:20260617T193000
UID:Z335A202-20260617T183000@VHSHEILBRONN
SUMMARY:Indoorcycling - Die besondere Art des Bikens (Z335A202) 
LOCATION:TSG Heilbronn - Bewegungszentrum, Nr. 3, Hofwiesenstr. 40, 74081 Heilbronn
END:VEVENT
BEGIN:VEVENT
DTSTAMP:20260422T122501
DTSTART;TZID=Europe/Berlin:20260624T183000
DTEND;TZID=Europe/Berlin:20260624T193000
UID:Z335A202-20260624T183000@VHSHEILBRONN
SUMMARY:Indoorcycling - Die besondere Art des Bikens (Z335A202) 
LOCATION:TSG Heilbronn - Bewegungszentrum, Nr. 3, Hofwiesenstr. 40, 74081 Heilbronn
END:VEVENT
BEGIN:VEVENT
DTSTAMP:20260422T122501
DTSTART;TZID=Europe/Berlin:20260701T183000
DTEND;TZID=Europe/Berlin:20260701T193000
UID:Z335A202-20260701T183000@VHSHEILBRONN
SUMMARY:Indoorcycling - Die besondere Art des Bikens (Z335A202) 
LOCATION:TSG Heilbronn - Bewegungszentrum, Nr. 3, Hofwiesenstr. 40, 74081 Heilbronn
END:VEVENT
BEGIN:VEVENT
DTSTAMP:20260422T122501
DTSTART;TZID=Europe/Berlin:20260708T183000
DTEND;TZID=Europe/Berlin:20260708T193000
UID:Z335A202-20260708T183000@VHSHEILBRONN
SUMMARY:Indoorcycling - Die besondere Art des Bikens (Z335A202) 
LOCATION:TSG Heilbronn - Bewegungszentrum, Nr. 3, Hofwiesenstr. 40, 74081 Heilbronn
END:VEVENT
BEGIN:VEVENT
DTSTAMP:20260422T122501
DTSTART;TZID=Europe/Berlin:20260715T183000
DTEND;TZID=Europe/Berlin:20260715T193000
UID:Z335A202-20260715T183000@VHSHEILBRONN
SUMMARY:Indoorcycling - Die besondere Art des Bikens (Z335A202) 
LOCATION:TSG Heilbronn - Bewegungszentrum, Nr. 3, Hofwiesenstr. 40, 74081 Heilbronn
END:VEVENT
BEGIN:VEVENT
DTSTAMP:20260422T122501
DTSTART;TZID=Europe/Berlin:20260722T183000
DTEND;TZID=Europe/Berlin:20260722T193000
UID:Z335A202-20260722T183000@VHSHEILBRONN
SUMMARY:Indoorcycling - Die besondere Art des Bikens (Z335A202) 
LOCATION:TSG Heilbronn - Bewegungszentrum, Nr. 3, Hofwiesenstr. 40, 74081 Heilbronn
END:VEVENT
END:VCALENDAR