BEGIN:VCALENDAR
VERSION:2.0
PRODID:https://www.kufer.de/kuferweb / DE
METHOD:PUBLISH
CALSCALE:GREGORIAN
X-WR-TIMEZONE:Europe/Berlin
BEGIN:VTIMEZONE
TZID:Europe/Berlin
X-LIC-LOCATION:Europe/Berlin
BEGIN:DAYLIGHT
TZOFFSETFROM:+0100
TZOFFSETTO:+0200
TZNAME:CEST
DTSTART:19700329T020000
RRULE:FREQ=YEARLY;INTERVAL=1;BYDAY=-1SU;BYMONTH=3
END:DAYLIGHT
BEGIN:STANDARD
TZOFFSETFROM:+0200
TZOFFSETTO:+0100
TZNAME:CET
DTSTART:19701025T030000
RRULE:FREQ=YEARLY;INTERVAL=1;BYDAY=-1SU;BYMONTH=10
END:STANDARD
END:VTIMEZONE
BEGIN:VEVENT
DTSTAMP:20260422T124631
DTSTART;TZID=Europe/Berlin:20260227T184500
DTEND;TZID=Europe/Berlin:20260227T194500
UID:Z331A404-20260227T184500@VHSHEILBRONN
SUMMARY:Fitnessmix mit Faszientraining (Z331A404) 
LOCATION:Kaybergschule, Mehrzweckraum, Schulstr. 37, 74235 Erlenbach
END:VEVENT
BEGIN:VEVENT
DTSTAMP:20260422T124631
DTSTART;TZID=Europe/Berlin:20260306T184500
DTEND;TZID=Europe/Berlin:20260306T194500
UID:Z331A404-20260306T184500@VHSHEILBRONN
SUMMARY:Fitnessmix mit Faszientraining (Z331A404) 
LOCATION:Kaybergschule, Mehrzweckraum, Schulstr. 37, 74235 Erlenbach
END:VEVENT
BEGIN:VEVENT
DTSTAMP:20260422T124631
DTSTART;TZID=Europe/Berlin:20260320T184500
DTEND;TZID=Europe/Berlin:20260320T194500
UID:Z331A404-20260320T184500@VHSHEILBRONN
SUMMARY:Fitnessmix mit Faszientraining (Z331A404) 
LOCATION:Kaybergschule, Mehrzweckraum, Schulstr. 37, 74235 Erlenbach
END:VEVENT
BEGIN:VEVENT
DTSTAMP:20260422T124631
DTSTART;TZID=Europe/Berlin:20260417T184500
DTEND;TZID=Europe/Berlin:20260417T194500
UID:Z331A404-20260417T184500@VHSHEILBRONN
SUMMARY:Fitnessmix mit Faszientraining (Z331A404) 
LOCATION:Kaybergschule, Mehrzweckraum, Schulstr. 37, 74235 Erlenbach
END:VEVENT
BEGIN:VEVENT
DTSTAMP:20260422T124631
DTSTART;TZID=Europe/Berlin:20260424T184500
DTEND;TZID=Europe/Berlin:20260424T194500
UID:Z331A404-20260424T184500@VHSHEILBRONN
SUMMARY:Fitnessmix mit Faszientraining (Z331A404) 
LOCATION:Kaybergschule, Mehrzweckraum, Schulstr. 37, 74235 Erlenbach
END:VEVENT
BEGIN:VEVENT
DTSTAMP:20260422T124631
DTSTART;TZID=Europe/Berlin:20260612T184500
DTEND;TZID=Europe/Berlin:20260612T194500
UID:Z331A404-20260612T184500@VHSHEILBRONN
SUMMARY:Fitnessmix mit Faszientraining (Z331A404) 
LOCATION:Kaybergschule, Mehrzweckraum, Schulstr. 37, 74235 Erlenbach
END:VEVENT
BEGIN:VEVENT
DTSTAMP:20260422T124631
DTSTART;TZID=Europe/Berlin:20260626T184500
DTEND;TZID=Europe/Berlin:20260626T194500
UID:Z331A404-20260626T184500@VHSHEILBRONN
SUMMARY:Fitnessmix mit Faszientraining (Z331A404) 
LOCATION:Kaybergschule, Mehrzweckraum, Schulstr. 37, 74235 Erlenbach
END:VEVENT
BEGIN:VEVENT
DTSTAMP:20260422T124631
DTSTART;TZID=Europe/Berlin:20260703T184500
DTEND;TZID=Europe/Berlin:20260703T194500
UID:Z331A404-20260703T184500@VHSHEILBRONN
SUMMARY:Fitnessmix mit Faszientraining (Z331A404) 
LOCATION:Kaybergschule, Mehrzweckraum, Schulstr. 37, 74235 Erlenbach
END:VEVENT
BEGIN:VEVENT
DTSTAMP:20260422T124631
DTSTART;TZID=Europe/Berlin:20260710T184500
DTEND;TZID=Europe/Berlin:20260710T194500
UID:Z331A404-20260710T184500@VHSHEILBRONN
SUMMARY:Fitnessmix mit Faszientraining (Z331A404) 
LOCATION:Kaybergschule, Mehrzweckraum, Schulstr. 37, 74235 Erlenbach
END:VEVENT
END:VCALENDAR