BEGIN:VCALENDAR
VERSION:2.0
PRODID:https://www.kufer.de/kuferweb / DE
METHOD:PUBLISH
CALSCALE:GREGORIAN
X-WR-TIMEZONE:Europe/Berlin
BEGIN:VTIMEZONE
TZID:Europe/Berlin
X-LIC-LOCATION:Europe/Berlin
BEGIN:DAYLIGHT
TZOFFSETFROM:+0100
TZOFFSETTO:+0200
TZNAME:CEST
DTSTART:19700329T020000
RRULE:FREQ=YEARLY;INTERVAL=1;BYDAY=-1SU;BYMONTH=3
END:DAYLIGHT
BEGIN:STANDARD
TZOFFSETFROM:+0200
TZOFFSETTO:+0100
TZNAME:CET
DTSTART:19701025T030000
RRULE:FREQ=YEARLY;INTERVAL=1;BYDAY=-1SU;BYMONTH=10
END:STANDARD
END:VTIMEZONE
BEGIN:VEVENT
DTSTAMP:20260422T124631
DTSTART;TZID=Europe/Berlin:20260225T180000
DTEND;TZID=Europe/Berlin:20260225T190000
UID:Z331A201-20260225T180000@VHSHEILBRONN
SUMMARY:Fitnessmix Stärkung von Kondition und Muskelkraft (Z331A201) 
LOCATION:vhs, Deutschhof, Raum 121/Gesundheit und Bewegung, Kirchbrunnenstr. 12, 74072 Heilbronn
END:VEVENT
BEGIN:VEVENT
DTSTAMP:20260422T124631
DTSTART;TZID=Europe/Berlin:20260304T180000
DTEND;TZID=Europe/Berlin:20260304T190000
UID:Z331A201-20260304T180000@VHSHEILBRONN
SUMMARY:Fitnessmix Stärkung von Kondition und Muskelkraft (Z331A201) 
LOCATION:vhs, Deutschhof, Raum 121/Gesundheit und Bewegung, Kirchbrunnenstr. 12, 74072 Heilbronn
END:VEVENT
BEGIN:VEVENT
DTSTAMP:20260422T124631
DTSTART;TZID=Europe/Berlin:20260311T180000
DTEND;TZID=Europe/Berlin:20260311T190000
UID:Z331A201-20260311T180000@VHSHEILBRONN
SUMMARY:Fitnessmix Stärkung von Kondition und Muskelkraft (Z331A201) 
LOCATION:vhs, Deutschhof, Raum 121/Gesundheit und Bewegung, Kirchbrunnenstr. 12, 74072 Heilbronn
END:VEVENT
BEGIN:VEVENT
DTSTAMP:20260422T124631
DTSTART;TZID=Europe/Berlin:20260318T180000
DTEND;TZID=Europe/Berlin:20260318T190000
UID:Z331A201-20260318T180000@VHSHEILBRONN
SUMMARY:Fitnessmix Stärkung von Kondition und Muskelkraft (Z331A201) 
LOCATION:vhs, Deutschhof, Raum 121/Gesundheit und Bewegung, Kirchbrunnenstr. 12, 74072 Heilbronn
END:VEVENT
BEGIN:VEVENT
DTSTAMP:20260422T124631
DTSTART;TZID=Europe/Berlin:20260325T180000
DTEND;TZID=Europe/Berlin:20260325T190000
UID:Z331A201-20260325T180000@VHSHEILBRONN
SUMMARY:Fitnessmix Stärkung von Kondition und Muskelkraft (Z331A201) 
LOCATION:vhs, Deutschhof, Raum 121/Gesundheit und Bewegung, Kirchbrunnenstr. 12, 74072 Heilbronn
END:VEVENT
BEGIN:VEVENT
DTSTAMP:20260422T124631
DTSTART;TZID=Europe/Berlin:20260415T180000
DTEND;TZID=Europe/Berlin:20260415T190000
UID:Z331A201-20260415T180000@VHSHEILBRONN
SUMMARY:Fitnessmix Stärkung von Kondition und Muskelkraft (Z331A201) 
LOCATION:vhs, Deutschhof, Raum 121/Gesundheit und Bewegung, Kirchbrunnenstr. 12, 74072 Heilbronn
END:VEVENT
BEGIN:VEVENT
DTSTAMP:20260422T124631
DTSTART;TZID=Europe/Berlin:20260422T180000
DTEND;TZID=Europe/Berlin:20260422T190000
UID:Z331A201-20260422T180000@VHSHEILBRONN
SUMMARY:Fitnessmix Stärkung von Kondition und Muskelkraft (Z331A201) 
LOCATION:vhs, Deutschhof, Raum 121/Gesundheit und Bewegung, Kirchbrunnenstr. 12, 74072 Heilbronn
END:VEVENT
BEGIN:VEVENT
DTSTAMP:20260422T124631
DTSTART;TZID=Europe/Berlin:20260429T180000
DTEND;TZID=Europe/Berlin:20260429T190000
UID:Z331A201-20260429T180000@VHSHEILBRONN
SUMMARY:Fitnessmix Stärkung von Kondition und Muskelkraft (Z331A201) 
LOCATION:vhs, Deutschhof, Raum 121/Gesundheit und Bewegung, Kirchbrunnenstr. 12, 74072 Heilbronn
END:VEVENT
BEGIN:VEVENT
DTSTAMP:20260422T124631
DTSTART;TZID=Europe/Berlin:20260506T180000
DTEND;TZID=Europe/Berlin:20260506T190000
UID:Z331A201-20260506T180000@VHSHEILBRONN
SUMMARY:Fitnessmix Stärkung von Kondition und Muskelkraft (Z331A201) 
LOCATION:vhs, Deutschhof, Raum 121/Gesundheit und Bewegung, Kirchbrunnenstr. 12, 74072 Heilbronn
END:VEVENT
BEGIN:VEVENT
DTSTAMP:20260422T124631
DTSTART;TZID=Europe/Berlin:20260513T180000
DTEND;TZID=Europe/Berlin:20260513T190000
UID:Z331A201-20260513T180000@VHSHEILBRONN
SUMMARY:Fitnessmix Stärkung von Kondition und Muskelkraft (Z331A201) 
LOCATION:vhs, Deutschhof, Raum 121/Gesundheit und Bewegung, Kirchbrunnenstr. 12, 74072 Heilbronn
END:VEVENT
BEGIN:VEVENT
DTSTAMP:20260422T124631
DTSTART;TZID=Europe/Berlin:20260520T180000
DTEND;TZID=Europe/Berlin:20260520T190000
UID:Z331A201-20260520T180000@VHSHEILBRONN
SUMMARY:Fitnessmix Stärkung von Kondition und Muskelkraft (Z331A201) 
LOCATION:vhs, Deutschhof, Raum 121/Gesundheit und Bewegung, Kirchbrunnenstr. 12, 74072 Heilbronn
END:VEVENT
BEGIN:VEVENT
DTSTAMP:20260422T124631
DTSTART;TZID=Europe/Berlin:20260610T180000
DTEND;TZID=Europe/Berlin:20260610T190000
UID:Z331A201-20260610T180000@VHSHEILBRONN
SUMMARY:Fitnessmix Stärkung von Kondition und Muskelkraft (Z331A201) 
LOCATION:vhs, Deutschhof, Raum 121/Gesundheit und Bewegung, Kirchbrunnenstr. 12, 74072 Heilbronn
END:VEVENT
BEGIN:VEVENT
DTSTAMP:20260422T124631
DTSTART;TZID=Europe/Berlin:20260617T180000
DTEND;TZID=Europe/Berlin:20260617T190000
UID:Z331A201-20260617T180000@VHSHEILBRONN
SUMMARY:Fitnessmix Stärkung von Kondition und Muskelkraft (Z331A201) 
LOCATION:vhs, Deutschhof, Raum 121/Gesundheit und Bewegung, Kirchbrunnenstr. 12, 74072 Heilbronn
END:VEVENT
BEGIN:VEVENT
DTSTAMP:20260422T124631
DTSTART;TZID=Europe/Berlin:20260624T180000
DTEND;TZID=Europe/Berlin:20260624T190000
UID:Z331A201-20260624T180000@VHSHEILBRONN
SUMMARY:Fitnessmix Stärkung von Kondition und Muskelkraft (Z331A201) 
LOCATION:vhs, Deutschhof, Raum 121/Gesundheit und Bewegung, Kirchbrunnenstr. 12, 74072 Heilbronn
END:VEVENT
BEGIN:VEVENT
DTSTAMP:20260422T124631
DTSTART;TZID=Europe/Berlin:20260701T180000
DTEND;TZID=Europe/Berlin:20260701T190000
UID:Z331A201-20260701T180000@VHSHEILBRONN
SUMMARY:Fitnessmix Stärkung von Kondition und Muskelkraft (Z331A201) 
LOCATION:vhs, Deutschhof, Raum 121/Gesundheit und Bewegung, Kirchbrunnenstr. 12, 74072 Heilbronn
END:VEVENT
END:VCALENDAR