BEGIN:VCALENDAR
VERSION:2.0
PRODID:https://www.kufer.de/kuferweb / DE
METHOD:PUBLISH
CALSCALE:GREGORIAN
X-WR-TIMEZONE:Europe/Berlin
BEGIN:VTIMEZONE
TZID:Europe/Berlin
X-LIC-LOCATION:Europe/Berlin
BEGIN:DAYLIGHT
TZOFFSETFROM:+0100
TZOFFSETTO:+0200
TZNAME:CEST
DTSTART:19700329T020000
RRULE:FREQ=YEARLY;INTERVAL=1;BYDAY=-1SU;BYMONTH=3
END:DAYLIGHT
BEGIN:STANDARD
TZOFFSETFROM:+0200
TZOFFSETTO:+0100
TZNAME:CET
DTSTART:19701025T030000
RRULE:FREQ=YEARLY;INTERVAL=1;BYDAY=-1SU;BYMONTH=10
END:STANDARD
END:VTIMEZONE
BEGIN:VEVENT
DTSTAMP:20260422T123043
DTSTART;TZID=Europe/Berlin:20260416T191000
DTEND;TZID=Europe/Berlin:20260416T201000
UID:Z322A553-20260416T191000@VHSHEILBRONN
SUMMARY:twerXout® - rhythmisch fit (Z322A553) 
LOCATION:vhs, Deutschhof, Raum E28/ Gesundheit und Bewegung, Kirchbrunnenstr. 12, 74072 Heilbronn
END:VEVENT
BEGIN:VEVENT
DTSTAMP:20260422T123043
DTSTART;TZID=Europe/Berlin:20260423T191000
DTEND;TZID=Europe/Berlin:20260423T201000
UID:Z322A553-20260423T191000@VHSHEILBRONN
SUMMARY:twerXout® - rhythmisch fit (Z322A553) 
LOCATION:vhs, Deutschhof, Raum E28/ Gesundheit und Bewegung, Kirchbrunnenstr. 12, 74072 Heilbronn
END:VEVENT
BEGIN:VEVENT
DTSTAMP:20260422T123043
DTSTART;TZID=Europe/Berlin:20260430T191000
DTEND;TZID=Europe/Berlin:20260430T201000
UID:Z322A553-20260430T191000@VHSHEILBRONN
SUMMARY:twerXout® - rhythmisch fit (Z322A553) 
LOCATION:vhs, Deutschhof, Raum E28/ Gesundheit und Bewegung, Kirchbrunnenstr. 12, 74072 Heilbronn
END:VEVENT
BEGIN:VEVENT
DTSTAMP:20260422T123043
DTSTART;TZID=Europe/Berlin:20260507T191000
DTEND;TZID=Europe/Berlin:20260507T201000
UID:Z322A553-20260507T191000@VHSHEILBRONN
SUMMARY:twerXout® - rhythmisch fit (Z322A553) 
LOCATION:vhs, Deutschhof, Raum E28/ Gesundheit und Bewegung, Kirchbrunnenstr. 12, 74072 Heilbronn
END:VEVENT
BEGIN:VEVENT
DTSTAMP:20260422T123043
DTSTART;TZID=Europe/Berlin:20260521T191000
DTEND;TZID=Europe/Berlin:20260521T201000
UID:Z322A553-20260521T191000@VHSHEILBRONN
SUMMARY:twerXout® - rhythmisch fit (Z322A553) 
LOCATION:vhs, Deutschhof, Raum E28/ Gesundheit und Bewegung, Kirchbrunnenstr. 12, 74072 Heilbronn
END:VEVENT
BEGIN:VEVENT
DTSTAMP:20260422T123043
DTSTART;TZID=Europe/Berlin:20260611T191000
DTEND;TZID=Europe/Berlin:20260611T201000
UID:Z322A553-20260611T191000@VHSHEILBRONN
SUMMARY:twerXout® - rhythmisch fit (Z322A553) 
LOCATION:vhs, Deutschhof, Raum E28/ Gesundheit und Bewegung, Kirchbrunnenstr. 12, 74072 Heilbronn
END:VEVENT
BEGIN:VEVENT
DTSTAMP:20260422T123043
DTSTART;TZID=Europe/Berlin:20260618T191000
DTEND;TZID=Europe/Berlin:20260618T201000
UID:Z322A553-20260618T191000@VHSHEILBRONN
SUMMARY:twerXout® - rhythmisch fit (Z322A553) 
LOCATION:vhs, Deutschhof, Raum E28/ Gesundheit und Bewegung, Kirchbrunnenstr. 12, 74072 Heilbronn
END:VEVENT
BEGIN:VEVENT
DTSTAMP:20260422T123043
DTSTART;TZID=Europe/Berlin:20260625T191000
DTEND;TZID=Europe/Berlin:20260625T201000
UID:Z322A553-20260625T191000@VHSHEILBRONN
SUMMARY:twerXout® - rhythmisch fit (Z322A553) 
LOCATION:vhs, Deutschhof, Raum E28/ Gesundheit und Bewegung, Kirchbrunnenstr. 12, 74072 Heilbronn
END:VEVENT
BEGIN:VEVENT
DTSTAMP:20260422T123043
DTSTART;TZID=Europe/Berlin:20260702T191000
DTEND;TZID=Europe/Berlin:20260702T201000
UID:Z322A553-20260702T191000@VHSHEILBRONN
SUMMARY:twerXout® - rhythmisch fit (Z322A553) 
LOCATION:vhs, Deutschhof, Raum E28/ Gesundheit und Bewegung, Kirchbrunnenstr. 12, 74072 Heilbronn
END:VEVENT
BEGIN:VEVENT
DTSTAMP:20260422T123043
DTSTART;TZID=Europe/Berlin:20260709T191000
DTEND;TZID=Europe/Berlin:20260709T201000
UID:Z322A553-20260709T191000@VHSHEILBRONN
SUMMARY:twerXout® - rhythmisch fit (Z322A553) 
LOCATION:vhs, Deutschhof, Raum E28/ Gesundheit und Bewegung, Kirchbrunnenstr. 12, 74072 Heilbronn
END:VEVENT
END:VCALENDAR