BEGIN:VCALENDAR
VERSION:2.0
PRODID:https://www.kufer.de/kuferweb / DE
METHOD:PUBLISH
CALSCALE:GREGORIAN
X-WR-TIMEZONE:Europe/Berlin
BEGIN:VTIMEZONE
TZID:Europe/Berlin
X-LIC-LOCATION:Europe/Berlin
BEGIN:DAYLIGHT
TZOFFSETFROM:+0100
TZOFFSETTO:+0200
TZNAME:CEST
DTSTART:19700329T020000
RRULE:FREQ=YEARLY;INTERVAL=1;BYDAY=-1SU;BYMONTH=3
END:DAYLIGHT
BEGIN:STANDARD
TZOFFSETFROM:+0200
TZOFFSETTO:+0100
TZNAME:CET
DTSTART:19701025T030000
RRULE:FREQ=YEARLY;INTERVAL=1;BYDAY=-1SU;BYMONTH=10
END:STANDARD
END:VTIMEZONE
BEGIN:VEVENT
DTSTAMP:20260422T122459
DTSTART;TZID=Europe/Berlin:20260504T163000
DTEND;TZID=Europe/Berlin:20260504T171500
UID:Z320A040-20260504T163000@VHSHEILBRONN
SUMMARY:Bewegt in den Feierabend (Z320A040) 
LOCATION:vhs, Deutschhof, Raum 121/Gesundheit und Bewegung, Kirchbrunnenstr. 12, 74072 Heilbronn
END:VEVENT
BEGIN:VEVENT
DTSTAMP:20260422T122459
DTSTART;TZID=Europe/Berlin:20260511T163000
DTEND;TZID=Europe/Berlin:20260511T171500
UID:Z320A040-20260511T163000@VHSHEILBRONN
SUMMARY:Bewegt in den Feierabend (Z320A040) 
LOCATION:vhs, Deutschhof, Raum 121/Gesundheit und Bewegung, Kirchbrunnenstr. 12, 74072 Heilbronn
END:VEVENT
BEGIN:VEVENT
DTSTAMP:20260422T122459
DTSTART;TZID=Europe/Berlin:20260518T163000
DTEND;TZID=Europe/Berlin:20260518T171500
UID:Z320A040-20260518T163000@VHSHEILBRONN
SUMMARY:Bewegt in den Feierabend (Z320A040) 
LOCATION:vhs, Deutschhof, Raum 121/Gesundheit und Bewegung, Kirchbrunnenstr. 12, 74072 Heilbronn
END:VEVENT
BEGIN:VEVENT
DTSTAMP:20260422T122459
DTSTART;TZID=Europe/Berlin:20260608T163000
DTEND;TZID=Europe/Berlin:20260608T171500
UID:Z320A040-20260608T163000@VHSHEILBRONN
SUMMARY:Bewegt in den Feierabend (Z320A040) 
LOCATION:vhs, Deutschhof, Raum 121/Gesundheit und Bewegung, Kirchbrunnenstr. 12, 74072 Heilbronn
END:VEVENT
BEGIN:VEVENT
DTSTAMP:20260422T122459
DTSTART;TZID=Europe/Berlin:20260615T163000
DTEND;TZID=Europe/Berlin:20260615T171500
UID:Z320A040-20260615T163000@VHSHEILBRONN
SUMMARY:Bewegt in den Feierabend (Z320A040) 
LOCATION:vhs, Deutschhof, Raum 121/Gesundheit und Bewegung, Kirchbrunnenstr. 12, 74072 Heilbronn
END:VEVENT
BEGIN:VEVENT
DTSTAMP:20260422T122459
DTSTART;TZID=Europe/Berlin:20260622T163000
DTEND;TZID=Europe/Berlin:20260622T171500
UID:Z320A040-20260622T163000@VHSHEILBRONN
SUMMARY:Bewegt in den Feierabend (Z320A040) 
LOCATION:vhs, Deutschhof, Raum 121/Gesundheit und Bewegung, Kirchbrunnenstr. 12, 74072 Heilbronn
END:VEVENT
BEGIN:VEVENT
DTSTAMP:20260422T122459
DTSTART;TZID=Europe/Berlin:20260629T163000
DTEND;TZID=Europe/Berlin:20260629T171500
UID:Z320A040-20260629T163000@VHSHEILBRONN
SUMMARY:Bewegt in den Feierabend (Z320A040) 
LOCATION:vhs, Deutschhof, Raum 121/Gesundheit und Bewegung, Kirchbrunnenstr. 12, 74072 Heilbronn
END:VEVENT
BEGIN:VEVENT
DTSTAMP:20260422T122459
DTSTART;TZID=Europe/Berlin:20260706T163000
DTEND;TZID=Europe/Berlin:20260706T171500
UID:Z320A040-20260706T163000@VHSHEILBRONN
SUMMARY:Bewegt in den Feierabend (Z320A040) 
LOCATION:vhs, Deutschhof, Raum 121/Gesundheit und Bewegung, Kirchbrunnenstr. 12, 74072 Heilbronn
END:VEVENT
BEGIN:VEVENT
DTSTAMP:20260422T122459
DTSTART;TZID=Europe/Berlin:20260713T163000
DTEND;TZID=Europe/Berlin:20260713T171500
UID:Z320A040-20260713T163000@VHSHEILBRONN
SUMMARY:Bewegt in den Feierabend (Z320A040) 
LOCATION:vhs, Deutschhof, Raum 121/Gesundheit und Bewegung, Kirchbrunnenstr. 12, 74072 Heilbronn
END:VEVENT
END:VCALENDAR