BEGIN:VCALENDAR
VERSION:2.0
PRODID:https://www.kufer.de/kuferweb / DE
METHOD:PUBLISH
CALSCALE:GREGORIAN
X-WR-TIMEZONE:Europe/Berlin
BEGIN:VTIMEZONE
TZID:Europe/Berlin
X-LIC-LOCATION:Europe/Berlin
BEGIN:DAYLIGHT
TZOFFSETFROM:+0100
TZOFFSETTO:+0200
TZNAME:CEST
DTSTART:19700329T020000
RRULE:FREQ=YEARLY;INTERVAL=1;BYDAY=-1SU;BYMONTH=3
END:DAYLIGHT
BEGIN:STANDARD
TZOFFSETFROM:+0200
TZOFFSETTO:+0100
TZNAME:CET
DTSTART:19701025T030000
RRULE:FREQ=YEARLY;INTERVAL=1;BYDAY=-1SU;BYMONTH=10
END:STANDARD
END:VTIMEZONE
BEGIN:VEVENT
DTSTAMP:20260422T122618
DTSTART;TZID=Europe/Berlin:20260324T091000
DTEND;TZID=Europe/Berlin:20260324T101000
UID:Z315A101-20260324T091000@VHSHEILBRONN
SUMMARY:Rückenfit - Rückenkräftigung KK-Förderung möglich (Z315A101) 
LOCATION:vhs, Deutschhof, Raum 121/Gesundheit und Bewegung, Kirchbrunnenstr. 12, 74072 Heilbronn
END:VEVENT
BEGIN:VEVENT
DTSTAMP:20260422T122618
DTSTART;TZID=Europe/Berlin:20260414T091000
DTEND;TZID=Europe/Berlin:20260414T101000
UID:Z315A101-20260414T091000@VHSHEILBRONN
SUMMARY:Rückenfit - Rückenkräftigung KK-Förderung möglich (Z315A101) 
LOCATION:vhs, Deutschhof, Raum 121/Gesundheit und Bewegung, Kirchbrunnenstr. 12, 74072 Heilbronn
END:VEVENT
BEGIN:VEVENT
DTSTAMP:20260422T122618
DTSTART;TZID=Europe/Berlin:20260421T091000
DTEND;TZID=Europe/Berlin:20260421T101000
UID:Z315A101-20260421T091000@VHSHEILBRONN
SUMMARY:Rückenfit - Rückenkräftigung KK-Förderung möglich (Z315A101) 
LOCATION:vhs, Deutschhof, Raum 121/Gesundheit und Bewegung, Kirchbrunnenstr. 12, 74072 Heilbronn
END:VEVENT
BEGIN:VEVENT
DTSTAMP:20260422T122618
DTSTART;TZID=Europe/Berlin:20260428T091000
DTEND;TZID=Europe/Berlin:20260428T101000
UID:Z315A101-20260428T091000@VHSHEILBRONN
SUMMARY:Rückenfit - Rückenkräftigung KK-Förderung möglich (Z315A101) 
LOCATION:vhs, Deutschhof, Raum 121/Gesundheit und Bewegung, Kirchbrunnenstr. 12, 74072 Heilbronn
END:VEVENT
BEGIN:VEVENT
DTSTAMP:20260422T122618
DTSTART;TZID=Europe/Berlin:20260505T091000
DTEND;TZID=Europe/Berlin:20260505T101000
UID:Z315A101-20260505T091000@VHSHEILBRONN
SUMMARY:Rückenfit - Rückenkräftigung KK-Förderung möglich (Z315A101) 
LOCATION:vhs, Deutschhof, Raum 121/Gesundheit und Bewegung, Kirchbrunnenstr. 12, 74072 Heilbronn
END:VEVENT
BEGIN:VEVENT
DTSTAMP:20260422T122618
DTSTART;TZID=Europe/Berlin:20260512T091000
DTEND;TZID=Europe/Berlin:20260512T101000
UID:Z315A101-20260512T091000@VHSHEILBRONN
SUMMARY:Rückenfit - Rückenkräftigung KK-Förderung möglich (Z315A101) 
LOCATION:vhs, Deutschhof, Raum 121/Gesundheit und Bewegung, Kirchbrunnenstr. 12, 74072 Heilbronn
END:VEVENT
BEGIN:VEVENT
DTSTAMP:20260422T122618
DTSTART;TZID=Europe/Berlin:20260519T091000
DTEND;TZID=Europe/Berlin:20260519T101000
UID:Z315A101-20260519T091000@VHSHEILBRONN
SUMMARY:Rückenfit - Rückenkräftigung KK-Förderung möglich (Z315A101) 
LOCATION:vhs, Deutschhof, Raum 121/Gesundheit und Bewegung, Kirchbrunnenstr. 12, 74072 Heilbronn
END:VEVENT
BEGIN:VEVENT
DTSTAMP:20260422T122618
DTSTART;TZID=Europe/Berlin:20260609T091000
DTEND;TZID=Europe/Berlin:20260609T101000
UID:Z315A101-20260609T091000@VHSHEILBRONN
SUMMARY:Rückenfit - Rückenkräftigung KK-Förderung möglich (Z315A101) 
LOCATION:vhs, Deutschhof, Raum 121/Gesundheit und Bewegung, Kirchbrunnenstr. 12, 74072 Heilbronn
END:VEVENT
BEGIN:VEVENT
DTSTAMP:20260422T122618
DTSTART;TZID=Europe/Berlin:20260616T091000
DTEND;TZID=Europe/Berlin:20260616T101000
UID:Z315A101-20260616T091000@VHSHEILBRONN
SUMMARY:Rückenfit - Rückenkräftigung KK-Förderung möglich (Z315A101) 
LOCATION:vhs, Deutschhof, Raum 121/Gesundheit und Bewegung, Kirchbrunnenstr. 12, 74072 Heilbronn
END:VEVENT
BEGIN:VEVENT
DTSTAMP:20260422T122618
DTSTART;TZID=Europe/Berlin:20260623T091000
DTEND;TZID=Europe/Berlin:20260623T101000
UID:Z315A101-20260623T091000@VHSHEILBRONN
SUMMARY:Rückenfit - Rückenkräftigung KK-Förderung möglich (Z315A101) 
LOCATION:vhs, Deutschhof, Raum 121/Gesundheit und Bewegung, Kirchbrunnenstr. 12, 74072 Heilbronn
END:VEVENT
END:VCALENDAR