BEGIN:VCALENDAR
VERSION:2.0
PRODID:https://www.kufer.de/kuferweb / DE
METHOD:PUBLISH
CALSCALE:GREGORIAN
X-WR-TIMEZONE:Europe/Berlin
BEGIN:VTIMEZONE
TZID:Europe/Berlin
X-LIC-LOCATION:Europe/Berlin
BEGIN:DAYLIGHT
TZOFFSETFROM:+0100
TZOFFSETTO:+0200
TZNAME:CEST
DTSTART:19700329T020000
RRULE:FREQ=YEARLY;INTERVAL=1;BYDAY=-1SU;BYMONTH=3
END:DAYLIGHT
BEGIN:STANDARD
TZOFFSETFROM:+0200
TZOFFSETTO:+0100
TZNAME:CET
DTSTART:19701025T030000
RRULE:FREQ=YEARLY;INTERVAL=1;BYDAY=-1SU;BYMONTH=10
END:STANDARD
END:VTIMEZONE
BEGIN:VEVENT
DTSTAMP:20260422T122501
DTSTART;TZID=Europe/Berlin:20260224T171500
DTEND;TZID=Europe/Berlin:20260224T181500
UID:Z314A501-20260224T171500@VHSHEILBRONN
SUMMARY:Antara® (Z314A501) 
LOCATION:Kulturgebäude Leingarten, Säulensaal, Schwaigerner Str. 76, 74211 Leingarten
END:VEVENT
BEGIN:VEVENT
DTSTAMP:20260422T122501
DTSTART;TZID=Europe/Berlin:20260303T171500
DTEND;TZID=Europe/Berlin:20260303T181500
UID:Z314A501-20260303T171500@VHSHEILBRONN
SUMMARY:Antara® (Z314A501) 
LOCATION:Kulturgebäude Leingarten, Säulensaal, Schwaigerner Str. 76, 74211 Leingarten
END:VEVENT
BEGIN:VEVENT
DTSTAMP:20260422T122501
DTSTART;TZID=Europe/Berlin:20260310T171500
DTEND;TZID=Europe/Berlin:20260310T181500
UID:Z314A501-20260310T171500@VHSHEILBRONN
SUMMARY:Antara® (Z314A501) 
LOCATION:Kulturgebäude Leingarten, Säulensaal, Schwaigerner Str. 76, 74211 Leingarten
END:VEVENT
BEGIN:VEVENT
DTSTAMP:20260422T122501
DTSTART;TZID=Europe/Berlin:20260317T171500
DTEND;TZID=Europe/Berlin:20260317T181500
UID:Z314A501-20260317T171500@VHSHEILBRONN
SUMMARY:Antara® (Z314A501) 
LOCATION:Kulturgebäude Leingarten, Säulensaal, Schwaigerner Str. 76, 74211 Leingarten
END:VEVENT
BEGIN:VEVENT
DTSTAMP:20260422T122501
DTSTART;TZID=Europe/Berlin:20260324T171500
DTEND;TZID=Europe/Berlin:20260324T181500
UID:Z314A501-20260324T171500@VHSHEILBRONN
SUMMARY:Antara® (Z314A501) 
LOCATION:Kulturgebäude Leingarten, Säulensaal, Schwaigerner Str. 76, 74211 Leingarten
END:VEVENT
BEGIN:VEVENT
DTSTAMP:20260422T122501
DTSTART;TZID=Europe/Berlin:20260414T171500
DTEND;TZID=Europe/Berlin:20260414T181500
UID:Z314A501-20260414T171500@VHSHEILBRONN
SUMMARY:Antara® (Z314A501) 
LOCATION:Kulturgebäude Leingarten, Säulensaal, Schwaigerner Str. 76, 74211 Leingarten
END:VEVENT
BEGIN:VEVENT
DTSTAMP:20260422T122501
DTSTART;TZID=Europe/Berlin:20260421T171500
DTEND;TZID=Europe/Berlin:20260421T181500
UID:Z314A501-20260421T171500@VHSHEILBRONN
SUMMARY:Antara® (Z314A501) 
LOCATION:Kulturgebäude Leingarten, Säulensaal, Schwaigerner Str. 76, 74211 Leingarten
END:VEVENT
BEGIN:VEVENT
DTSTAMP:20260422T122501
DTSTART;TZID=Europe/Berlin:20260428T171500
DTEND;TZID=Europe/Berlin:20260428T181500
UID:Z314A501-20260428T171500@VHSHEILBRONN
SUMMARY:Antara® (Z314A501) 
LOCATION:Kulturgebäude Leingarten, Säulensaal, Schwaigerner Str. 76, 74211 Leingarten
END:VEVENT
BEGIN:VEVENT
DTSTAMP:20260422T122501
DTSTART;TZID=Europe/Berlin:20260505T171500
DTEND;TZID=Europe/Berlin:20260505T181500
UID:Z314A501-20260505T171500@VHSHEILBRONN
SUMMARY:Antara® (Z314A501) 
LOCATION:Kulturgebäude Leingarten, Säulensaal, Schwaigerner Str. 76, 74211 Leingarten
END:VEVENT
BEGIN:VEVENT
DTSTAMP:20260422T122501
DTSTART;TZID=Europe/Berlin:20260512T171500
DTEND;TZID=Europe/Berlin:20260512T181500
UID:Z314A501-20260512T171500@VHSHEILBRONN
SUMMARY:Antara® (Z314A501) 
LOCATION:Kulturgebäude Leingarten, Säulensaal, Schwaigerner Str. 76, 74211 Leingarten
END:VEVENT
BEGIN:VEVENT
DTSTAMP:20260422T122501
DTSTART;TZID=Europe/Berlin:20260519T171500
DTEND;TZID=Europe/Berlin:20260519T181500
UID:Z314A501-20260519T171500@VHSHEILBRONN
SUMMARY:Antara® (Z314A501) 
LOCATION:Kulturgebäude Leingarten, Säulensaal, Schwaigerner Str. 76, 74211 Leingarten
END:VEVENT
BEGIN:VEVENT
DTSTAMP:20260422T122501
DTSTART;TZID=Europe/Berlin:20260609T171500
DTEND;TZID=Europe/Berlin:20260609T181500
UID:Z314A501-20260609T171500@VHSHEILBRONN
SUMMARY:Antara® (Z314A501) 
LOCATION:Kulturgebäude Leingarten, Säulensaal, Schwaigerner Str. 76, 74211 Leingarten
END:VEVENT
BEGIN:VEVENT
DTSTAMP:20260422T122501
DTSTART;TZID=Europe/Berlin:20260616T171500
DTEND;TZID=Europe/Berlin:20260616T181500
UID:Z314A501-20260616T171500@VHSHEILBRONN
SUMMARY:Antara® (Z314A501) 
LOCATION:Kulturgebäude Leingarten, Säulensaal, Schwaigerner Str. 76, 74211 Leingarten
END:VEVENT
BEGIN:VEVENT
DTSTAMP:20260422T122501
DTSTART;TZID=Europe/Berlin:20260623T171500
DTEND;TZID=Europe/Berlin:20260623T181500
UID:Z314A501-20260623T171500@VHSHEILBRONN
SUMMARY:Antara® (Z314A501) 
LOCATION:Kulturgebäude Leingarten, Säulensaal, Schwaigerner Str. 76, 74211 Leingarten
END:VEVENT
BEGIN:VEVENT
DTSTAMP:20260422T122501
DTSTART;TZID=Europe/Berlin:20260630T171500
DTEND;TZID=Europe/Berlin:20260630T181500
UID:Z314A501-20260630T171500@VHSHEILBRONN
SUMMARY:Antara® (Z314A501) 
LOCATION:Kulturgebäude Leingarten, Säulensaal, Schwaigerner Str. 76, 74211 Leingarten
END:VEVENT
BEGIN:VEVENT
DTSTAMP:20260422T122501
DTSTART;TZID=Europe/Berlin:20260707T171500
DTEND;TZID=Europe/Berlin:20260707T181500
UID:Z314A501-20260707T171500@VHSHEILBRONN
SUMMARY:Antara® (Z314A501) 
LOCATION:Kulturgebäude Leingarten, Säulensaal, Schwaigerner Str. 76, 74211 Leingarten
END:VEVENT
BEGIN:VEVENT
DTSTAMP:20260422T122501
DTSTART;TZID=Europe/Berlin:20260714T171500
DTEND;TZID=Europe/Berlin:20260714T181500
UID:Z314A501-20260714T171500@VHSHEILBRONN
SUMMARY:Antara® (Z314A501) 
LOCATION:Kulturgebäude Leingarten, Säulensaal, Schwaigerner Str. 76, 74211 Leingarten
END:VEVENT
BEGIN:VEVENT
DTSTAMP:20260422T122501
DTSTART;TZID=Europe/Berlin:20260721T171500
DTEND;TZID=Europe/Berlin:20260721T181500
UID:Z314A501-20260721T171500@VHSHEILBRONN
SUMMARY:Antara® (Z314A501) 
LOCATION:Kulturgebäude Leingarten, Säulensaal, Schwaigerner Str. 76, 74211 Leingarten
END:VEVENT
END:VCALENDAR