BEGIN:VCALENDAR
VERSION:2.0
PRODID:https://www.kufer.de/kuferweb / DE
METHOD:PUBLISH
CALSCALE:GREGORIAN
X-WR-TIMEZONE:Europe/Berlin
BEGIN:VTIMEZONE
TZID:Europe/Berlin
X-LIC-LOCATION:Europe/Berlin
BEGIN:DAYLIGHT
TZOFFSETFROM:+0100
TZOFFSETTO:+0200
TZNAME:CEST
DTSTART:19700329T020000
RRULE:FREQ=YEARLY;INTERVAL=1;BYDAY=-1SU;BYMONTH=3
END:DAYLIGHT
BEGIN:STANDARD
TZOFFSETFROM:+0200
TZOFFSETTO:+0100
TZNAME:CET
DTSTART:19701025T030000
RRULE:FREQ=YEARLY;INTERVAL=1;BYDAY=-1SU;BYMONTH=10
END:STANDARD
END:VTIMEZONE
BEGIN:VEVENT
DTSTAMP:20260424T200555
DTSTART;TZID=Europe/Berlin:20260608T172000
DTEND;TZID=Europe/Berlin:20260608T182000
UID:Z313A525-20260608T172000@VHSHEILBRONN
SUMMARY:Pilates und Stretching (Z313A525) 
LOCATION:vhs, Deutschhof, Raum 121/Gesundheit und Bewegung, Kirchbrunnenstr. 12, 74072 Heilbronn
END:VEVENT
BEGIN:VEVENT
DTSTAMP:20260424T200555
DTSTART;TZID=Europe/Berlin:20260615T172000
DTEND;TZID=Europe/Berlin:20260615T182000
UID:Z313A525-20260615T172000@VHSHEILBRONN
SUMMARY:Pilates und Stretching (Z313A525) 
LOCATION:vhs, Deutschhof, Raum 121/Gesundheit und Bewegung, Kirchbrunnenstr. 12, 74072 Heilbronn
END:VEVENT
BEGIN:VEVENT
DTSTAMP:20260424T200555
DTSTART;TZID=Europe/Berlin:20260622T172000
DTEND;TZID=Europe/Berlin:20260622T182000
UID:Z313A525-20260622T172000@VHSHEILBRONN
SUMMARY:Pilates und Stretching (Z313A525) 
LOCATION:vhs, Deutschhof, Raum 121/Gesundheit und Bewegung, Kirchbrunnenstr. 12, 74072 Heilbronn
END:VEVENT
BEGIN:VEVENT
DTSTAMP:20260424T200555
DTSTART;TZID=Europe/Berlin:20260629T172000
DTEND;TZID=Europe/Berlin:20260629T182000
UID:Z313A525-20260629T172000@VHSHEILBRONN
SUMMARY:Pilates und Stretching (Z313A525) 
LOCATION:vhs, Deutschhof, Raum 121/Gesundheit und Bewegung, Kirchbrunnenstr. 12, 74072 Heilbronn
END:VEVENT
BEGIN:VEVENT
DTSTAMP:20260424T200555
DTSTART;TZID=Europe/Berlin:20260706T172000
DTEND;TZID=Europe/Berlin:20260706T182000
UID:Z313A525-20260706T172000@VHSHEILBRONN
SUMMARY:Pilates und Stretching (Z313A525) 
LOCATION:vhs, Deutschhof, Raum 121/Gesundheit und Bewegung, Kirchbrunnenstr. 12, 74072 Heilbronn
END:VEVENT
BEGIN:VEVENT
DTSTAMP:20260424T200555
DTSTART;TZID=Europe/Berlin:20260713T172000
DTEND;TZID=Europe/Berlin:20260713T182000
UID:Z313A525-20260713T172000@VHSHEILBRONN
SUMMARY:Pilates und Stretching (Z313A525) 
LOCATION:vhs, Deutschhof, Raum 121/Gesundheit und Bewegung, Kirchbrunnenstr. 12, 74072 Heilbronn
END:VEVENT
END:VCALENDAR