BEGIN:VCALENDAR
VERSION:2.0
PRODID:https://www.kufer.de/kuferweb / DE
METHOD:PUBLISH
CALSCALE:GREGORIAN
X-WR-TIMEZONE:Europe/Berlin
BEGIN:VTIMEZONE
TZID:Europe/Berlin
X-LIC-LOCATION:Europe/Berlin
BEGIN:DAYLIGHT
TZOFFSETFROM:+0100
TZOFFSETTO:+0200
TZNAME:CEST
DTSTART:19700329T020000
RRULE:FREQ=YEARLY;INTERVAL=1;BYDAY=-1SU;BYMONTH=3
END:DAYLIGHT
BEGIN:STANDARD
TZOFFSETFROM:+0200
TZOFFSETTO:+0100
TZNAME:CET
DTSTART:19701025T030000
RRULE:FREQ=YEARLY;INTERVAL=1;BYDAY=-1SU;BYMONTH=10
END:STANDARD
END:VTIMEZONE
BEGIN:VEVENT
DTSTAMP:20260422T122536
DTSTART;TZID=Europe/Berlin:20260205T192000
DTEND;TZID=Europe/Berlin:20260205T202000
UID:Z313A500-20260205T192000@VHSHEILBRONN
SUMMARY:Pilates für Männer (Z313A500) 
LOCATION:vhs, Deutschhof, Raum E25/ Gesundheit und Bewegung, Kirchbrunnenstr. 12, 74072 Heilbronn
END:VEVENT
BEGIN:VEVENT
DTSTAMP:20260422T122536
DTSTART;TZID=Europe/Berlin:20260212T192000
DTEND;TZID=Europe/Berlin:20260212T202000
UID:Z313A500-20260212T192000@VHSHEILBRONN
SUMMARY:Pilates für Männer (Z313A500) 
LOCATION:vhs, Deutschhof, Raum E25/ Gesundheit und Bewegung, Kirchbrunnenstr. 12, 74072 Heilbronn
END:VEVENT
BEGIN:VEVENT
DTSTAMP:20260422T122536
DTSTART;TZID=Europe/Berlin:20260226T192000
DTEND;TZID=Europe/Berlin:20260226T202000
UID:Z313A500-20260226T192000@VHSHEILBRONN
SUMMARY:Pilates für Männer (Z313A500) 
LOCATION:vhs, Deutschhof, Raum E25/ Gesundheit und Bewegung, Kirchbrunnenstr. 12, 74072 Heilbronn
END:VEVENT
BEGIN:VEVENT
DTSTAMP:20260422T122536
DTSTART;TZID=Europe/Berlin:20260305T192000
DTEND;TZID=Europe/Berlin:20260305T202000
UID:Z313A500-20260305T192000@VHSHEILBRONN
SUMMARY:Pilates für Männer (Z313A500) 
LOCATION:vhs, Deutschhof, Raum E25/ Gesundheit und Bewegung, Kirchbrunnenstr. 12, 74072 Heilbronn
END:VEVENT
BEGIN:VEVENT
DTSTAMP:20260422T122536
DTSTART;TZID=Europe/Berlin:20260312T192000
DTEND;TZID=Europe/Berlin:20260312T202000
UID:Z313A500-20260312T192000@VHSHEILBRONN
SUMMARY:Pilates für Männer (Z313A500) 
LOCATION:vhs, Deutschhof, Raum E25/ Gesundheit und Bewegung, Kirchbrunnenstr. 12, 74072 Heilbronn
END:VEVENT
BEGIN:VEVENT
DTSTAMP:20260422T122536
DTSTART;TZID=Europe/Berlin:20260319T192000
DTEND;TZID=Europe/Berlin:20260319T202000
UID:Z313A500-20260319T192000@VHSHEILBRONN
SUMMARY:Pilates für Männer (Z313A500) 
LOCATION:vhs, Deutschhof, Raum E25/ Gesundheit und Bewegung, Kirchbrunnenstr. 12, 74072 Heilbronn
END:VEVENT
BEGIN:VEVENT
DTSTAMP:20260422T122536
DTSTART;TZID=Europe/Berlin:20260326T192000
DTEND;TZID=Europe/Berlin:20260326T202000
UID:Z313A500-20260326T192000@VHSHEILBRONN
SUMMARY:Pilates für Männer (Z313A500) 
LOCATION:vhs, Deutschhof, Raum E25/ Gesundheit und Bewegung, Kirchbrunnenstr. 12, 74072 Heilbronn
END:VEVENT
BEGIN:VEVENT
DTSTAMP:20260422T122536
DTSTART;TZID=Europe/Berlin:20260416T192000
DTEND;TZID=Europe/Berlin:20260416T202000
UID:Z313A500-20260416T192000@VHSHEILBRONN
SUMMARY:Pilates für Männer (Z313A500) 
LOCATION:vhs, Deutschhof, Raum E25/ Gesundheit und Bewegung, Kirchbrunnenstr. 12, 74072 Heilbronn
END:VEVENT
BEGIN:VEVENT
DTSTAMP:20260422T122536
DTSTART;TZID=Europe/Berlin:20260423T192000
DTEND;TZID=Europe/Berlin:20260423T202000
UID:Z313A500-20260423T192000@VHSHEILBRONN
SUMMARY:Pilates für Männer (Z313A500) 
LOCATION:vhs, Deutschhof, Raum E25/ Gesundheit und Bewegung, Kirchbrunnenstr. 12, 74072 Heilbronn
END:VEVENT
BEGIN:VEVENT
DTSTAMP:20260422T122536
DTSTART;TZID=Europe/Berlin:20260430T192000
DTEND;TZID=Europe/Berlin:20260430T202000
UID:Z313A500-20260430T192000@VHSHEILBRONN
SUMMARY:Pilates für Männer (Z313A500) 
LOCATION:vhs, Deutschhof, Raum E25/ Gesundheit und Bewegung, Kirchbrunnenstr. 12, 74072 Heilbronn
END:VEVENT
BEGIN:VEVENT
DTSTAMP:20260422T122536
DTSTART;TZID=Europe/Berlin:20260507T192000
DTEND;TZID=Europe/Berlin:20260507T202000
UID:Z313A500-20260507T192000@VHSHEILBRONN
SUMMARY:Pilates für Männer (Z313A500) 
LOCATION:vhs, Deutschhof, Raum E25/ Gesundheit und Bewegung, Kirchbrunnenstr. 12, 74072 Heilbronn
END:VEVENT
BEGIN:VEVENT
DTSTAMP:20260422T122536
DTSTART;TZID=Europe/Berlin:20260521T192000
DTEND;TZID=Europe/Berlin:20260521T202000
UID:Z313A500-20260521T192000@VHSHEILBRONN
SUMMARY:Pilates für Männer (Z313A500) 
LOCATION:vhs, Deutschhof, Raum E25/ Gesundheit und Bewegung, Kirchbrunnenstr. 12, 74072 Heilbronn
END:VEVENT
BEGIN:VEVENT
DTSTAMP:20260422T122536
DTSTART;TZID=Europe/Berlin:20260611T192000
DTEND;TZID=Europe/Berlin:20260611T202000
UID:Z313A500-20260611T192000@VHSHEILBRONN
SUMMARY:Pilates für Männer (Z313A500) 
LOCATION:vhs, Deutschhof, Raum E25/ Gesundheit und Bewegung, Kirchbrunnenstr. 12, 74072 Heilbronn
END:VEVENT
BEGIN:VEVENT
DTSTAMP:20260422T122536
DTSTART;TZID=Europe/Berlin:20260618T192000
DTEND;TZID=Europe/Berlin:20260618T202000
UID:Z313A500-20260618T192000@VHSHEILBRONN
SUMMARY:Pilates für Männer (Z313A500) 
LOCATION:vhs, Deutschhof, Raum E25/ Gesundheit und Bewegung, Kirchbrunnenstr. 12, 74072 Heilbronn
END:VEVENT
BEGIN:VEVENT
DTSTAMP:20260422T122536
DTSTART;TZID=Europe/Berlin:20260625T192000
DTEND;TZID=Europe/Berlin:20260625T202000
UID:Z313A500-20260625T192000@VHSHEILBRONN
SUMMARY:Pilates für Männer (Z313A500) 
LOCATION:vhs, Deutschhof, Raum E25/ Gesundheit und Bewegung, Kirchbrunnenstr. 12, 74072 Heilbronn
END:VEVENT
END:VCALENDAR