BEGIN:VCALENDAR
VERSION:2.0
PRODID:https://www.kufer.de/kuferweb / DE
METHOD:PUBLISH
CALSCALE:GREGORIAN
X-WR-TIMEZONE:Europe/Berlin
BEGIN:VTIMEZONE
TZID:Europe/Berlin
X-LIC-LOCATION:Europe/Berlin
BEGIN:DAYLIGHT
TZOFFSETFROM:+0100
TZOFFSETTO:+0200
TZNAME:CEST
DTSTART:19700329T020000
RRULE:FREQ=YEARLY;INTERVAL=1;BYDAY=-1SU;BYMONTH=3
END:DAYLIGHT
BEGIN:STANDARD
TZOFFSETFROM:+0200
TZOFFSETTO:+0100
TZNAME:CET
DTSTART:19701025T030000
RRULE:FREQ=YEARLY;INTERVAL=1;BYDAY=-1SU;BYMONTH=10
END:STANDARD
END:VTIMEZONE
BEGIN:VEVENT
DTSTAMP:20260422T124631
DTSTART;TZID=Europe/Berlin:20260413T182500
DTEND;TZID=Europe/Berlin:20260413T192500
UID:Z310A005-20260413T182500@VHSHEILBRONN
SUMMARY:Rückenfit - Rückenkräftigung ZPP KK-Förderung möglich (Z310A005) 
LOCATION:vhs, Deutschhof, Raum 121/Gesundheit und Bewegung, Kirchbrunnenstr. 12, 74072 Heilbronn
END:VEVENT
BEGIN:VEVENT
DTSTAMP:20260422T124631
DTSTART;TZID=Europe/Berlin:20260420T182500
DTEND;TZID=Europe/Berlin:20260420T192500
UID:Z310A005-20260420T182500@VHSHEILBRONN
SUMMARY:Rückenfit - Rückenkräftigung ZPP KK-Förderung möglich (Z310A005) 
LOCATION:vhs, Deutschhof, Raum 121/Gesundheit und Bewegung, Kirchbrunnenstr. 12, 74072 Heilbronn
END:VEVENT
BEGIN:VEVENT
DTSTAMP:20260422T124631
DTSTART;TZID=Europe/Berlin:20260427T182500
DTEND;TZID=Europe/Berlin:20260427T192500
UID:Z310A005-20260427T182500@VHSHEILBRONN
SUMMARY:Rückenfit - Rückenkräftigung ZPP KK-Förderung möglich (Z310A005) 
LOCATION:vhs, Deutschhof, Raum 121/Gesundheit und Bewegung, Kirchbrunnenstr. 12, 74072 Heilbronn
END:VEVENT
BEGIN:VEVENT
DTSTAMP:20260422T124631
DTSTART;TZID=Europe/Berlin:20260504T182500
DTEND;TZID=Europe/Berlin:20260504T192500
UID:Z310A005-20260504T182500@VHSHEILBRONN
SUMMARY:Rückenfit - Rückenkräftigung ZPP KK-Förderung möglich (Z310A005) 
LOCATION:vhs, Deutschhof, Raum 121/Gesundheit und Bewegung, Kirchbrunnenstr. 12, 74072 Heilbronn
END:VEVENT
BEGIN:VEVENT
DTSTAMP:20260422T124631
DTSTART;TZID=Europe/Berlin:20260511T182500
DTEND;TZID=Europe/Berlin:20260511T192500
UID:Z310A005-20260511T182500@VHSHEILBRONN
SUMMARY:Rückenfit - Rückenkräftigung ZPP KK-Förderung möglich (Z310A005) 
LOCATION:vhs, Deutschhof, Raum 121/Gesundheit und Bewegung, Kirchbrunnenstr. 12, 74072 Heilbronn
END:VEVENT
BEGIN:VEVENT
DTSTAMP:20260422T124631
DTSTART;TZID=Europe/Berlin:20260518T182500
DTEND;TZID=Europe/Berlin:20260518T192500
UID:Z310A005-20260518T182500@VHSHEILBRONN
SUMMARY:Rückenfit - Rückenkräftigung ZPP KK-Förderung möglich (Z310A005) 
LOCATION:vhs, Deutschhof, Raum 121/Gesundheit und Bewegung, Kirchbrunnenstr. 12, 74072 Heilbronn
END:VEVENT
BEGIN:VEVENT
DTSTAMP:20260422T124631
DTSTART;TZID=Europe/Berlin:20260608T182500
DTEND;TZID=Europe/Berlin:20260608T192500
UID:Z310A005-20260608T182500@VHSHEILBRONN
SUMMARY:Rückenfit - Rückenkräftigung ZPP KK-Förderung möglich (Z310A005) 
LOCATION:vhs, Deutschhof, Raum 121/Gesundheit und Bewegung, Kirchbrunnenstr. 12, 74072 Heilbronn
END:VEVENT
BEGIN:VEVENT
DTSTAMP:20260422T124631
DTSTART;TZID=Europe/Berlin:20260615T182500
DTEND;TZID=Europe/Berlin:20260615T192500
UID:Z310A005-20260615T182500@VHSHEILBRONN
SUMMARY:Rückenfit - Rückenkräftigung ZPP KK-Förderung möglich (Z310A005) 
LOCATION:vhs, Deutschhof, Raum 121/Gesundheit und Bewegung, Kirchbrunnenstr. 12, 74072 Heilbronn
END:VEVENT
BEGIN:VEVENT
DTSTAMP:20260422T124631
DTSTART;TZID=Europe/Berlin:20260622T182500
DTEND;TZID=Europe/Berlin:20260622T192500
UID:Z310A005-20260622T182500@VHSHEILBRONN
SUMMARY:Rückenfit - Rückenkräftigung ZPP KK-Förderung möglich (Z310A005) 
LOCATION:vhs, Deutschhof, Raum 121/Gesundheit und Bewegung, Kirchbrunnenstr. 12, 74072 Heilbronn
END:VEVENT
BEGIN:VEVENT
DTSTAMP:20260422T124631
DTSTART;TZID=Europe/Berlin:20260629T182500
DTEND;TZID=Europe/Berlin:20260629T192500
UID:Z310A005-20260629T182500@VHSHEILBRONN
SUMMARY:Rückenfit - Rückenkräftigung ZPP KK-Förderung möglich (Z310A005) 
LOCATION:vhs, Deutschhof, Raum 121/Gesundheit und Bewegung, Kirchbrunnenstr. 12, 74072 Heilbronn
END:VEVENT
BEGIN:VEVENT
DTSTAMP:20260422T124631
DTSTART;TZID=Europe/Berlin:20260706T182500
DTEND;TZID=Europe/Berlin:20260706T192500
UID:Z310A005-20260706T182500@VHSHEILBRONN
SUMMARY:Rückenfit - Rückenkräftigung ZPP KK-Förderung möglich (Z310A005) 
LOCATION:vhs, Deutschhof, Raum 121/Gesundheit und Bewegung, Kirchbrunnenstr. 12, 74072 Heilbronn
END:VEVENT
BEGIN:VEVENT
DTSTAMP:20260422T124631
DTSTART;TZID=Europe/Berlin:20260713T182500
DTEND;TZID=Europe/Berlin:20260713T192500
UID:Z310A005-20260713T182500@VHSHEILBRONN
SUMMARY:Rückenfit - Rückenkräftigung ZPP KK-Förderung möglich (Z310A005) 
LOCATION:vhs, Deutschhof, Raum 121/Gesundheit und Bewegung, Kirchbrunnenstr. 12, 74072 Heilbronn
END:VEVENT
END:VCALENDAR