BEGIN:VCALENDAR
VERSION:2.0
PRODID:https://www.kufer.de/kuferweb / DE
METHOD:PUBLISH
CALSCALE:GREGORIAN
X-WR-TIMEZONE:Europe/Berlin
BEGIN:VTIMEZONE
TZID:Europe/Berlin
X-LIC-LOCATION:Europe/Berlin
BEGIN:DAYLIGHT
TZOFFSETFROM:+0100
TZOFFSETTO:+0200
TZNAME:CEST
DTSTART:19700329T020000
RRULE:FREQ=YEARLY;INTERVAL=1;BYDAY=-1SU;BYMONTH=3
END:DAYLIGHT
BEGIN:STANDARD
TZOFFSETFROM:+0200
TZOFFSETTO:+0100
TZNAME:CET
DTSTART:19701025T030000
RRULE:FREQ=YEARLY;INTERVAL=1;BYDAY=-1SU;BYMONTH=10
END:STANDARD
END:VTIMEZONE
BEGIN:VEVENT
DTSTAMP:20260424T204709
DTSTART;TZID=Europe/Berlin:20260223T174000
DTEND;TZID=Europe/Berlin:20260223T184000
UID:Z310A004-20260223T174000@VHSHEILBRONN
SUMMARY:Wirbelsäulentraining Für Sie und Ihn (Z310A004) 
LOCATION:Kulturgebäude Leingarten,  Kleiner Saal, Schwaigerner Str. 76, 74211 Leingarten
END:VEVENT
BEGIN:VEVENT
DTSTAMP:20260424T204709
DTSTART;TZID=Europe/Berlin:20260302T174000
DTEND;TZID=Europe/Berlin:20260302T184000
UID:Z310A004-20260302T174000@VHSHEILBRONN
SUMMARY:Wirbelsäulentraining Für Sie und Ihn (Z310A004) 
LOCATION:Kulturgebäude Leingarten,  Kleiner Saal, Schwaigerner Str. 76, 74211 Leingarten
END:VEVENT
BEGIN:VEVENT
DTSTAMP:20260424T204709
DTSTART;TZID=Europe/Berlin:20260309T174000
DTEND;TZID=Europe/Berlin:20260309T184000
UID:Z310A004-20260309T174000@VHSHEILBRONN
SUMMARY:Wirbelsäulentraining Für Sie und Ihn (Z310A004) 
LOCATION:Kulturgebäude Leingarten,  Kleiner Saal, Schwaigerner Str. 76, 74211 Leingarten
END:VEVENT
BEGIN:VEVENT
DTSTAMP:20260424T204709
DTSTART;TZID=Europe/Berlin:20260316T174000
DTEND;TZID=Europe/Berlin:20260316T184000
UID:Z310A004-20260316T174000@VHSHEILBRONN
SUMMARY:Wirbelsäulentraining Für Sie und Ihn (Z310A004) 
LOCATION:Kulturgebäude Leingarten,  Kleiner Saal, Schwaigerner Str. 76, 74211 Leingarten
END:VEVENT
BEGIN:VEVENT
DTSTAMP:20260424T204709
DTSTART;TZID=Europe/Berlin:20260323T174000
DTEND;TZID=Europe/Berlin:20260323T184000
UID:Z310A004-20260323T174000@VHSHEILBRONN
SUMMARY:Wirbelsäulentraining Für Sie und Ihn (Z310A004) 
LOCATION:Kulturgebäude Leingarten,  Kleiner Saal, Schwaigerner Str. 76, 74211 Leingarten
END:VEVENT
BEGIN:VEVENT
DTSTAMP:20260424T204709
DTSTART;TZID=Europe/Berlin:20260413T174000
DTEND;TZID=Europe/Berlin:20260413T184000
UID:Z310A004-20260413T174000@VHSHEILBRONN
SUMMARY:Wirbelsäulentraining Für Sie und Ihn (Z310A004) 
LOCATION:Kulturgebäude Leingarten,  Kleiner Saal, Schwaigerner Str. 76, 74211 Leingarten
END:VEVENT
BEGIN:VEVENT
DTSTAMP:20260424T204709
DTSTART;TZID=Europe/Berlin:20260420T174000
DTEND;TZID=Europe/Berlin:20260420T184000
UID:Z310A004-20260420T174000@VHSHEILBRONN
SUMMARY:Wirbelsäulentraining Für Sie und Ihn (Z310A004) 
LOCATION:Kulturgebäude Leingarten,  Kleiner Saal, Schwaigerner Str. 76, 74211 Leingarten
END:VEVENT
BEGIN:VEVENT
DTSTAMP:20260424T204709
DTSTART;TZID=Europe/Berlin:20260427T174000
DTEND;TZID=Europe/Berlin:20260427T184000
UID:Z310A004-20260427T174000@VHSHEILBRONN
SUMMARY:Wirbelsäulentraining Für Sie und Ihn (Z310A004) 
LOCATION:Kulturgebäude Leingarten,  Kleiner Saal, Schwaigerner Str. 76, 74211 Leingarten
END:VEVENT
BEGIN:VEVENT
DTSTAMP:20260424T204709
DTSTART;TZID=Europe/Berlin:20260504T174000
DTEND;TZID=Europe/Berlin:20260504T184000
UID:Z310A004-20260504T174000@VHSHEILBRONN
SUMMARY:Wirbelsäulentraining Für Sie und Ihn (Z310A004) 
LOCATION:Kulturgebäude Leingarten,  Kleiner Saal, Schwaigerner Str. 76, 74211 Leingarten
END:VEVENT
END:VCALENDAR