BEGIN:VCALENDAR
VERSION:2.0
PRODID:https://www.kufer.de/kuferweb / DE
METHOD:PUBLISH
CALSCALE:GREGORIAN
X-WR-TIMEZONE:Europe/Berlin
BEGIN:VTIMEZONE
TZID:Europe/Berlin
X-LIC-LOCATION:Europe/Berlin
BEGIN:DAYLIGHT
TZOFFSETFROM:+0100
TZOFFSETTO:+0200
TZNAME:CEST
DTSTART:19700329T020000
RRULE:FREQ=YEARLY;INTERVAL=1;BYDAY=-1SU;BYMONTH=3
END:DAYLIGHT
BEGIN:STANDARD
TZOFFSETFROM:+0200
TZOFFSETTO:+0100
TZNAME:CET
DTSTART:19701025T030000
RRULE:FREQ=YEARLY;INTERVAL=1;BYDAY=-1SU;BYMONTH=10
END:STANDARD
END:VTIMEZONE
BEGIN:VEVENT
DTSTAMP:20260422T122623
DTSTART;TZID=Europe/Berlin:20260302T150000
DTEND;TZID=Europe/Berlin:20260302T160000
UID:Z304A803-20260302T150000@VHSHEILBRONN
SUMMARY:Kinder-Yoga Für Kinder von 5 - 9 Jahren (Z304A803) 
LOCATION:Stettenfelsschule Untergruppenbach Lounge, Humboldtstr. 9, 74199 Untergruppenbach
END:VEVENT
BEGIN:VEVENT
DTSTAMP:20260422T122623
DTSTART;TZID=Europe/Berlin:20260309T150000
DTEND;TZID=Europe/Berlin:20260309T160000
UID:Z304A803-20260309T150000@VHSHEILBRONN
SUMMARY:Kinder-Yoga Für Kinder von 5 - 9 Jahren (Z304A803) 
LOCATION:Stettenfelsschule Untergruppenbach Lounge, Humboldtstr. 9, 74199 Untergruppenbach
END:VEVENT
BEGIN:VEVENT
DTSTAMP:20260422T122623
DTSTART;TZID=Europe/Berlin:20260316T150000
DTEND;TZID=Europe/Berlin:20260316T160000
UID:Z304A803-20260316T150000@VHSHEILBRONN
SUMMARY:Kinder-Yoga Für Kinder von 5 - 9 Jahren (Z304A803) 
LOCATION:Stettenfelsschule Untergruppenbach Lounge, Humboldtstr. 9, 74199 Untergruppenbach
END:VEVENT
BEGIN:VEVENT
DTSTAMP:20260422T122623
DTSTART;TZID=Europe/Berlin:20260323T150000
DTEND;TZID=Europe/Berlin:20260323T160000
UID:Z304A803-20260323T150000@VHSHEILBRONN
SUMMARY:Kinder-Yoga Für Kinder von 5 - 9 Jahren (Z304A803) 
LOCATION:Stettenfelsschule Untergruppenbach Lounge, Humboldtstr. 9, 74199 Untergruppenbach
END:VEVENT
BEGIN:VEVENT
DTSTAMP:20260422T122623
DTSTART;TZID=Europe/Berlin:20260413T150000
DTEND;TZID=Europe/Berlin:20260413T160000
UID:Z304A803-20260413T150000@VHSHEILBRONN
SUMMARY:Kinder-Yoga Für Kinder von 5 - 9 Jahren (Z304A803) 
LOCATION:Stettenfelsschule Untergruppenbach Lounge, Humboldtstr. 9, 74199 Untergruppenbach
END:VEVENT
BEGIN:VEVENT
DTSTAMP:20260422T122623
DTSTART;TZID=Europe/Berlin:20260420T150000
DTEND;TZID=Europe/Berlin:20260420T160000
UID:Z304A803-20260420T150000@VHSHEILBRONN
SUMMARY:Kinder-Yoga Für Kinder von 5 - 9 Jahren (Z304A803) 
LOCATION:Stettenfelsschule Untergruppenbach Lounge, Humboldtstr. 9, 74199 Untergruppenbach
END:VEVENT
BEGIN:VEVENT
DTSTAMP:20260422T122623
DTSTART;TZID=Europe/Berlin:20260427T150000
DTEND;TZID=Europe/Berlin:20260427T160000
UID:Z304A803-20260427T150000@VHSHEILBRONN
SUMMARY:Kinder-Yoga Für Kinder von 5 - 9 Jahren (Z304A803) 
LOCATION:Stettenfelsschule Untergruppenbach Lounge, Humboldtstr. 9, 74199 Untergruppenbach
END:VEVENT
BEGIN:VEVENT
DTSTAMP:20260422T122623
DTSTART;TZID=Europe/Berlin:20260504T150000
DTEND;TZID=Europe/Berlin:20260504T160000
UID:Z304A803-20260504T150000@VHSHEILBRONN
SUMMARY:Kinder-Yoga Für Kinder von 5 - 9 Jahren (Z304A803) 
LOCATION:Stettenfelsschule Untergruppenbach Lounge, Humboldtstr. 9, 74199 Untergruppenbach
END:VEVENT
BEGIN:VEVENT
DTSTAMP:20260422T122623
DTSTART;TZID=Europe/Berlin:20260511T150000
DTEND;TZID=Europe/Berlin:20260511T160000
UID:Z304A803-20260511T150000@VHSHEILBRONN
SUMMARY:Kinder-Yoga Für Kinder von 5 - 9 Jahren (Z304A803) 
LOCATION:Stettenfelsschule Untergruppenbach Lounge, Humboldtstr. 9, 74199 Untergruppenbach
END:VEVENT
BEGIN:VEVENT
DTSTAMP:20260422T122623
DTSTART;TZID=Europe/Berlin:20260518T150000
DTEND;TZID=Europe/Berlin:20260518T160000
UID:Z304A803-20260518T150000@VHSHEILBRONN
SUMMARY:Kinder-Yoga Für Kinder von 5 - 9 Jahren (Z304A803) 
LOCATION:Stettenfelsschule Untergruppenbach Lounge, Humboldtstr. 9, 74199 Untergruppenbach
END:VEVENT
END:VCALENDAR