BEGIN:VCALENDAR
VERSION:2.0
PRODID:https://www.kufer.de/kuferweb / DE
METHOD:PUBLISH
CALSCALE:GREGORIAN
X-WR-TIMEZONE:Europe/Berlin
BEGIN:VTIMEZONE
TZID:Europe/Berlin
X-LIC-LOCATION:Europe/Berlin
BEGIN:DAYLIGHT
TZOFFSETFROM:+0100
TZOFFSETTO:+0200
TZNAME:CEST
DTSTART:19700329T020000
RRULE:FREQ=YEARLY;INTERVAL=1;BYDAY=-1SU;BYMONTH=3
END:DAYLIGHT
BEGIN:STANDARD
TZOFFSETFROM:+0200
TZOFFSETTO:+0100
TZNAME:CET
DTSTART:19701025T030000
RRULE:FREQ=YEARLY;INTERVAL=1;BYDAY=-1SU;BYMONTH=10
END:STANDARD
END:VTIMEZONE
BEGIN:VEVENT
DTSTAMP:20260422T124637
DTSTART;TZID=Europe/Berlin:20260617T103000
DTEND;TZID=Europe/Berlin:20260617T113000
UID:Z304A566-20260617T103000@VHSHEILBRONN
SUMMARY:Yoga im Park (Z304A566) 
LOCATION:Treffpunkt: Wertwiesenpark, Freilichtbühne, 74081 Heilbronn
END:VEVENT
BEGIN:VEVENT
DTSTAMP:20260422T124637
DTSTART;TZID=Europe/Berlin:20260624T103000
DTEND;TZID=Europe/Berlin:20260624T113000
UID:Z304A566-20260624T103000@VHSHEILBRONN
SUMMARY:Yoga im Park (Z304A566) 
LOCATION:Treffpunkt: Wertwiesenpark, Freilichtbühne, 74081 Heilbronn
END:VEVENT
BEGIN:VEVENT
DTSTAMP:20260422T124637
DTSTART;TZID=Europe/Berlin:20260701T103000
DTEND;TZID=Europe/Berlin:20260701T113000
UID:Z304A566-20260701T103000@VHSHEILBRONN
SUMMARY:Yoga im Park (Z304A566) 
LOCATION:Treffpunkt: Wertwiesenpark, Freilichtbühne, 74081 Heilbronn
END:VEVENT
BEGIN:VEVENT
DTSTAMP:20260422T124637
DTSTART;TZID=Europe/Berlin:20260708T103000
DTEND;TZID=Europe/Berlin:20260708T113000
UID:Z304A566-20260708T103000@VHSHEILBRONN
SUMMARY:Yoga im Park (Z304A566) 
LOCATION:Treffpunkt: Wertwiesenpark, Freilichtbühne, 74081 Heilbronn
END:VEVENT
BEGIN:VEVENT
DTSTAMP:20260422T124637
DTSTART;TZID=Europe/Berlin:20260715T103000
DTEND;TZID=Europe/Berlin:20260715T113000
UID:Z304A566-20260715T103000@VHSHEILBRONN
SUMMARY:Yoga im Park (Z304A566) 
LOCATION:Treffpunkt: Wertwiesenpark, Freilichtbühne, 74081 Heilbronn
END:VEVENT
BEGIN:VEVENT
DTSTAMP:20260422T124637
DTSTART;TZID=Europe/Berlin:20260722T103000
DTEND;TZID=Europe/Berlin:20260722T113000
UID:Z304A566-20260722T103000@VHSHEILBRONN
SUMMARY:Yoga im Park (Z304A566) 
LOCATION:Treffpunkt: Wertwiesenpark, Freilichtbühne, 74081 Heilbronn
END:VEVENT
BEGIN:VEVENT
DTSTAMP:20260422T124637
DTSTART;TZID=Europe/Berlin:20260729T103000
DTEND;TZID=Europe/Berlin:20260729T113000
UID:Z304A566-20260729T103000@VHSHEILBRONN
SUMMARY:Yoga im Park (Z304A566) 
LOCATION:Treffpunkt: Wertwiesenpark, Freilichtbühne, 74081 Heilbronn
END:VEVENT
END:VCALENDAR