BEGIN:VCALENDAR
VERSION:2.0
PRODID:https://www.kufer.de/kuferweb / DE
METHOD:PUBLISH
CALSCALE:GREGORIAN
X-WR-TIMEZONE:Europe/Berlin
BEGIN:VTIMEZONE
TZID:Europe/Berlin
X-LIC-LOCATION:Europe/Berlin
BEGIN:DAYLIGHT
TZOFFSETFROM:+0100
TZOFFSETTO:+0200
TZNAME:CEST
DTSTART:19700329T020000
RRULE:FREQ=YEARLY;INTERVAL=1;BYDAY=-1SU;BYMONTH=3
END:DAYLIGHT
BEGIN:STANDARD
TZOFFSETFROM:+0200
TZOFFSETTO:+0100
TZNAME:CET
DTSTART:19701025T030000
RRULE:FREQ=YEARLY;INTERVAL=1;BYDAY=-1SU;BYMONTH=10
END:STANDARD
END:VTIMEZONE
BEGIN:VEVENT
DTSTAMP:20260422T122537
DTSTART;TZID=Europe/Berlin:20260302T203000
DTEND;TZID=Europe/Berlin:20260302T213000
UID:Z304A532-20260302T203000@VHSHEILBRONN
SUMMARY:Yoga im Flow (Z304A532) 
LOCATION:Mönchseehalle Gymnastikraum, Karlstr. 44, 74072 Heilbronn
END:VEVENT
BEGIN:VEVENT
DTSTAMP:20260422T122537
DTSTART;TZID=Europe/Berlin:20260309T203000
DTEND;TZID=Europe/Berlin:20260309T213000
UID:Z304A532-20260309T203000@VHSHEILBRONN
SUMMARY:Yoga im Flow (Z304A532) 
LOCATION:Mönchseehalle Gymnastikraum, Karlstr. 44, 74072 Heilbronn
END:VEVENT
BEGIN:VEVENT
DTSTAMP:20260422T122537
DTSTART;TZID=Europe/Berlin:20260323T203000
DTEND;TZID=Europe/Berlin:20260323T213000
UID:Z304A532-20260323T203000@VHSHEILBRONN
SUMMARY:Yoga im Flow (Z304A532) 
LOCATION:Mönchseehalle Gymnastikraum, Karlstr. 44, 74072 Heilbronn
END:VEVENT
BEGIN:VEVENT
DTSTAMP:20260422T122537
DTSTART;TZID=Europe/Berlin:20260413T203000
DTEND;TZID=Europe/Berlin:20260413T213000
UID:Z304A532-20260413T203000@VHSHEILBRONN
SUMMARY:Yoga im Flow (Z304A532) 
LOCATION:Mönchseehalle Gymnastikraum, Karlstr. 44, 74072 Heilbronn
END:VEVENT
BEGIN:VEVENT
DTSTAMP:20260422T122537
DTSTART;TZID=Europe/Berlin:20260420T203000
DTEND;TZID=Europe/Berlin:20260420T213000
UID:Z304A532-20260420T203000@VHSHEILBRONN
SUMMARY:Yoga im Flow (Z304A532) 
LOCATION:Mönchseehalle Gymnastikraum, Karlstr. 44, 74072 Heilbronn
END:VEVENT
BEGIN:VEVENT
DTSTAMP:20260422T122537
DTSTART;TZID=Europe/Berlin:20260427T203000
DTEND;TZID=Europe/Berlin:20260427T213000
UID:Z304A532-20260427T203000@VHSHEILBRONN
SUMMARY:Yoga im Flow (Z304A532) 
LOCATION:Mönchseehalle Gymnastikraum, Karlstr. 44, 74072 Heilbronn
END:VEVENT
BEGIN:VEVENT
DTSTAMP:20260422T122537
DTSTART;TZID=Europe/Berlin:20260504T203000
DTEND;TZID=Europe/Berlin:20260504T213000
UID:Z304A532-20260504T203000@VHSHEILBRONN
SUMMARY:Yoga im Flow (Z304A532) 
LOCATION:Mönchseehalle Gymnastikraum, Karlstr. 44, 74072 Heilbronn
END:VEVENT
BEGIN:VEVENT
DTSTAMP:20260422T122537
DTSTART;TZID=Europe/Berlin:20260511T203000
DTEND;TZID=Europe/Berlin:20260511T213000
UID:Z304A532-20260511T203000@VHSHEILBRONN
SUMMARY:Yoga im Flow (Z304A532) 
LOCATION:Mönchseehalle Gymnastikraum, Karlstr. 44, 74072 Heilbronn
END:VEVENT
END:VCALENDAR