BEGIN:VCALENDAR
VERSION:2.0
PRODID:https://www.kufer.de/kuferweb / DE
METHOD:PUBLISH
CALSCALE:GREGORIAN
X-WR-TIMEZONE:Europe/Berlin
BEGIN:VTIMEZONE
TZID:Europe/Berlin
X-LIC-LOCATION:Europe/Berlin
BEGIN:DAYLIGHT
TZOFFSETFROM:+0100
TZOFFSETTO:+0200
TZNAME:CEST
DTSTART:19700329T020000
RRULE:FREQ=YEARLY;INTERVAL=1;BYDAY=-1SU;BYMONTH=3
END:DAYLIGHT
BEGIN:STANDARD
TZOFFSETFROM:+0200
TZOFFSETTO:+0100
TZNAME:CET
DTSTART:19701025T030000
RRULE:FREQ=YEARLY;INTERVAL=1;BYDAY=-1SU;BYMONTH=10
END:STANDARD
END:VTIMEZONE
BEGIN:VEVENT
DTSTAMP:20260422T124625
DTSTART;TZID=Europe/Berlin:20260422T145000
DTEND;TZID=Europe/Berlin:20260422T155000
UID:Z304A512-20260422T145000@VHSHEILBRONN
SUMMARY:Yoga am und mit dem Stuhl beweglich - kräftig - entspannt (Z304A512) 
LOCATION:vhs, Deutschhof, Raum 305/Gesundheit und Bewegung, Kirchbrunnenstr. 12, 74072 Heilbronn
END:VEVENT
BEGIN:VEVENT
DTSTAMP:20260422T124625
DTSTART;TZID=Europe/Berlin:20260429T145000
DTEND;TZID=Europe/Berlin:20260429T155000
UID:Z304A512-20260429T145000@VHSHEILBRONN
SUMMARY:Yoga am und mit dem Stuhl beweglich - kräftig - entspannt (Z304A512) 
LOCATION:vhs, Deutschhof, Raum 305/Gesundheit und Bewegung, Kirchbrunnenstr. 12, 74072 Heilbronn
END:VEVENT
BEGIN:VEVENT
DTSTAMP:20260422T124625
DTSTART;TZID=Europe/Berlin:20260506T145000
DTEND;TZID=Europe/Berlin:20260506T155000
UID:Z304A512-20260506T145000@VHSHEILBRONN
SUMMARY:Yoga am und mit dem Stuhl beweglich - kräftig - entspannt (Z304A512) 
LOCATION:vhs, Deutschhof, Raum 305/Gesundheit und Bewegung, Kirchbrunnenstr. 12, 74072 Heilbronn
END:VEVENT
BEGIN:VEVENT
DTSTAMP:20260422T124625
DTSTART;TZID=Europe/Berlin:20260513T145000
DTEND;TZID=Europe/Berlin:20260513T155000
UID:Z304A512-20260513T145000@VHSHEILBRONN
SUMMARY:Yoga am und mit dem Stuhl beweglich - kräftig - entspannt (Z304A512) 
LOCATION:vhs, Deutschhof, Raum 305/Gesundheit und Bewegung, Kirchbrunnenstr. 12, 74072 Heilbronn
END:VEVENT
BEGIN:VEVENT
DTSTAMP:20260422T124625
DTSTART;TZID=Europe/Berlin:20260520T145000
DTEND;TZID=Europe/Berlin:20260520T155000
UID:Z304A512-20260520T145000@VHSHEILBRONN
SUMMARY:Yoga am und mit dem Stuhl beweglich - kräftig - entspannt (Z304A512) 
LOCATION:vhs, Deutschhof, Raum 305/Gesundheit und Bewegung, Kirchbrunnenstr. 12, 74072 Heilbronn
END:VEVENT
BEGIN:VEVENT
DTSTAMP:20260422T124625
DTSTART;TZID=Europe/Berlin:20260610T145000
DTEND;TZID=Europe/Berlin:20260610T155000
UID:Z304A512-20260610T145000@VHSHEILBRONN
DESCRIPTION:Ersatz für Ausfall am 15.04.2026
SUMMARY:Yoga am und mit dem Stuhl beweglich - kräftig - entspannt (Z304A512) 
LOCATION:vhs, Deutschhof, Raum 305/Gesundheit und Bewegung, Kirchbrunnenstr. 12, 74072 Heilbronn
END:VEVENT
END:VCALENDAR