BEGIN:VCALENDAR
VERSION:2.0
PRODID:https://www.kufer.de/kuferweb / DE
METHOD:PUBLISH
CALSCALE:GREGORIAN
X-WR-TIMEZONE:Europe/Berlin
BEGIN:VTIMEZONE
TZID:Europe/Berlin
X-LIC-LOCATION:Europe/Berlin
BEGIN:DAYLIGHT
TZOFFSETFROM:+0100
TZOFFSETTO:+0200
TZNAME:CEST
DTSTART:19700329T020000
RRULE:FREQ=YEARLY;INTERVAL=1;BYDAY=-1SU;BYMONTH=3
END:DAYLIGHT
BEGIN:STANDARD
TZOFFSETFROM:+0200
TZOFFSETTO:+0100
TZNAME:CET
DTSTART:19701025T030000
RRULE:FREQ=YEARLY;INTERVAL=1;BYDAY=-1SU;BYMONTH=10
END:STANDARD
END:VTIMEZONE
BEGIN:VEVENT
DTSTAMP:20260422T122617
DTSTART;TZID=Europe/Berlin:20260219T191500
DTEND;TZID=Europe/Berlin:20260219T201500
UID:Z304A315-20260219T191500@VHSHEILBRONN
SUMMARY:Hatha-Yoga Verbindet Körper, Geist und Seele (Z304A315) 
LOCATION:TSG Heilbronn - Bewegungszentrum, Raum 1, Hofwiesenstr. 40, 74081 Heilbronn
END:VEVENT
BEGIN:VEVENT
DTSTAMP:20260422T122617
DTSTART;TZID=Europe/Berlin:20260226T191500
DTEND;TZID=Europe/Berlin:20260226T201500
UID:Z304A315-20260226T191500@VHSHEILBRONN
SUMMARY:Hatha-Yoga Verbindet Körper, Geist und Seele (Z304A315) 
LOCATION:TSG Heilbronn - Bewegungszentrum, Raum 1, Hofwiesenstr. 40, 74081 Heilbronn
END:VEVENT
BEGIN:VEVENT
DTSTAMP:20260422T122617
DTSTART;TZID=Europe/Berlin:20260305T191500
DTEND;TZID=Europe/Berlin:20260305T201500
UID:Z304A315-20260305T191500@VHSHEILBRONN
SUMMARY:Hatha-Yoga Verbindet Körper, Geist und Seele (Z304A315) 
LOCATION:TSG Heilbronn - Bewegungszentrum, Raum 1, Hofwiesenstr. 40, 74081 Heilbronn
END:VEVENT
BEGIN:VEVENT
DTSTAMP:20260422T122617
DTSTART;TZID=Europe/Berlin:20260312T191500
DTEND;TZID=Europe/Berlin:20260312T201500
UID:Z304A315-20260312T191500@VHSHEILBRONN
SUMMARY:Hatha-Yoga Verbindet Körper, Geist und Seele (Z304A315) 
LOCATION:TSG Heilbronn - Bewegungszentrum, Raum 1, Hofwiesenstr. 40, 74081 Heilbronn
END:VEVENT
BEGIN:VEVENT
DTSTAMP:20260422T122617
DTSTART;TZID=Europe/Berlin:20260319T191500
DTEND;TZID=Europe/Berlin:20260319T201500
UID:Z304A315-20260319T191500@VHSHEILBRONN
SUMMARY:Hatha-Yoga Verbindet Körper, Geist und Seele (Z304A315) 
LOCATION:TSG Heilbronn - Bewegungszentrum, Raum 1, Hofwiesenstr. 40, 74081 Heilbronn
END:VEVENT
BEGIN:VEVENT
DTSTAMP:20260422T122617
DTSTART;TZID=Europe/Berlin:20260326T191500
DTEND;TZID=Europe/Berlin:20260326T201500
UID:Z304A315-20260326T191500@VHSHEILBRONN
SUMMARY:Hatha-Yoga Verbindet Körper, Geist und Seele (Z304A315) 
LOCATION:TSG Heilbronn - Bewegungszentrum, Raum 1, Hofwiesenstr. 40, 74081 Heilbronn
END:VEVENT
BEGIN:VEVENT
DTSTAMP:20260422T122617
DTSTART;TZID=Europe/Berlin:20260416T191500
DTEND;TZID=Europe/Berlin:20260416T201500
UID:Z304A315-20260416T191500@VHSHEILBRONN
SUMMARY:Hatha-Yoga Verbindet Körper, Geist und Seele (Z304A315) 
LOCATION:TSG Heilbronn - Bewegungszentrum, Raum 1, Hofwiesenstr. 40, 74081 Heilbronn
END:VEVENT
BEGIN:VEVENT
DTSTAMP:20260422T122617
DTSTART;TZID=Europe/Berlin:20260423T191500
DTEND;TZID=Europe/Berlin:20260423T201500
UID:Z304A315-20260423T191500@VHSHEILBRONN
SUMMARY:Hatha-Yoga Verbindet Körper, Geist und Seele (Z304A315) 
LOCATION:TSG Heilbronn - Bewegungszentrum, Raum 1, Hofwiesenstr. 40, 74081 Heilbronn
END:VEVENT
BEGIN:VEVENT
DTSTAMP:20260422T122617
DTSTART;TZID=Europe/Berlin:20260430T191500
DTEND;TZID=Europe/Berlin:20260430T201500
UID:Z304A315-20260430T191500@VHSHEILBRONN
SUMMARY:Hatha-Yoga Verbindet Körper, Geist und Seele (Z304A315) 
LOCATION:TSG Heilbronn - Bewegungszentrum, Raum 1, Hofwiesenstr. 40, 74081 Heilbronn
END:VEVENT
END:VCALENDAR