BEGIN:VCALENDAR
VERSION:2.0
PRODID:https://www.kufer.de/kuferweb / DE
METHOD:PUBLISH
CALSCALE:GREGORIAN
X-WR-TIMEZONE:Europe/Berlin
BEGIN:VTIMEZONE
TZID:Europe/Berlin
X-LIC-LOCATION:Europe/Berlin
BEGIN:DAYLIGHT
TZOFFSETFROM:+0100
TZOFFSETTO:+0200
TZNAME:CEST
DTSTART:19700329T020000
RRULE:FREQ=YEARLY;INTERVAL=1;BYDAY=-1SU;BYMONTH=3
END:DAYLIGHT
BEGIN:STANDARD
TZOFFSETFROM:+0200
TZOFFSETTO:+0100
TZNAME:CET
DTSTART:19701025T030000
RRULE:FREQ=YEARLY;INTERVAL=1;BYDAY=-1SU;BYMONTH=10
END:STANDARD
END:VTIMEZONE
BEGIN:VEVENT
DTSTAMP:20260422T122618
DTSTART;TZID=Europe/Berlin:20260128T193000
DTEND;TZID=Europe/Berlin:20260128T204500
UID:Z304A212-20260128T193000@VHSHEILBRONN
SUMMARY:Hatha-Yoga Verbindet Körper, Geist und Seele (Z304A212) 
LOCATION:Flina Kulturhalle, Mehrzweckraum, Sandberghohle 1, 74223 Flein
END:VEVENT
BEGIN:VEVENT
DTSTAMP:20260422T122618
DTSTART;TZID=Europe/Berlin:20260204T193000
DTEND;TZID=Europe/Berlin:20260204T204500
UID:Z304A212-20260204T193000@VHSHEILBRONN
SUMMARY:Hatha-Yoga Verbindet Körper, Geist und Seele (Z304A212) 
LOCATION:Flina Kulturhalle, Mehrzweckraum, Sandberghohle 1, 74223 Flein
END:VEVENT
BEGIN:VEVENT
DTSTAMP:20260422T122618
DTSTART;TZID=Europe/Berlin:20260211T193000
DTEND;TZID=Europe/Berlin:20260211T204500
UID:Z304A212-20260211T193000@VHSHEILBRONN
SUMMARY:Hatha-Yoga Verbindet Körper, Geist und Seele (Z304A212) 
LOCATION:Flina Kulturhalle, Mehrzweckraum, Sandberghohle 1, 74223 Flein
END:VEVENT
BEGIN:VEVENT
DTSTAMP:20260422T122618
DTSTART;TZID=Europe/Berlin:20260225T193000
DTEND;TZID=Europe/Berlin:20260225T204500
UID:Z304A212-20260225T193000@VHSHEILBRONN
SUMMARY:Hatha-Yoga Verbindet Körper, Geist und Seele (Z304A212) 
LOCATION:Flina Kulturhalle, Mehrzweckraum, Sandberghohle 1, 74223 Flein
END:VEVENT
BEGIN:VEVENT
DTSTAMP:20260422T122618
DTSTART;TZID=Europe/Berlin:20260304T193000
DTEND;TZID=Europe/Berlin:20260304T204500
UID:Z304A212-20260304T193000@VHSHEILBRONN
SUMMARY:Hatha-Yoga Verbindet Körper, Geist und Seele (Z304A212) 
LOCATION:Flina Kulturhalle, Mehrzweckraum, Sandberghohle 1, 74223 Flein
END:VEVENT
BEGIN:VEVENT
DTSTAMP:20260422T122618
DTSTART;TZID=Europe/Berlin:20260311T193000
DTEND;TZID=Europe/Berlin:20260311T204500
UID:Z304A212-20260311T193000@VHSHEILBRONN
SUMMARY:Hatha-Yoga Verbindet Körper, Geist und Seele (Z304A212) 
LOCATION:Flina Kulturhalle, Mehrzweckraum, Sandberghohle 1, 74223 Flein
END:VEVENT
BEGIN:VEVENT
DTSTAMP:20260422T122618
DTSTART;TZID=Europe/Berlin:20260318T193000
DTEND;TZID=Europe/Berlin:20260318T204500
UID:Z304A212-20260318T193000@VHSHEILBRONN
SUMMARY:Hatha-Yoga Verbindet Körper, Geist und Seele (Z304A212) 
LOCATION:Flina Kulturhalle, Mehrzweckraum, Sandberghohle 1, 74223 Flein
END:VEVENT
BEGIN:VEVENT
DTSTAMP:20260422T122618
DTSTART;TZID=Europe/Berlin:20260325T193000
DTEND;TZID=Europe/Berlin:20260325T204500
UID:Z304A212-20260325T193000@VHSHEILBRONN
SUMMARY:Hatha-Yoga Verbindet Körper, Geist und Seele (Z304A212) 
LOCATION:Flina Kulturhalle, Mehrzweckraum, Sandberghohle 1, 74223 Flein
END:VEVENT
BEGIN:VEVENT
DTSTAMP:20260422T122618
DTSTART;TZID=Europe/Berlin:20260415T193000
DTEND;TZID=Europe/Berlin:20260415T204500
UID:Z304A212-20260415T193000@VHSHEILBRONN
SUMMARY:Hatha-Yoga Verbindet Körper, Geist und Seele (Z304A212) 
LOCATION:Flina Kulturhalle, Mehrzweckraum, Sandberghohle 1, 74223 Flein
END:VEVENT
BEGIN:VEVENT
DTSTAMP:20260422T122618
DTSTART;TZID=Europe/Berlin:20260422T193000
DTEND;TZID=Europe/Berlin:20260422T204500
UID:Z304A212-20260422T193000@VHSHEILBRONN
SUMMARY:Hatha-Yoga Verbindet Körper, Geist und Seele (Z304A212) 
LOCATION:Flina Kulturhalle, Mehrzweckraum, Sandberghohle 1, 74223 Flein
END:VEVENT
BEGIN:VEVENT
DTSTAMP:20260422T122618
DTSTART;TZID=Europe/Berlin:20260429T193000
DTEND;TZID=Europe/Berlin:20260429T204500
UID:Z304A212-20260429T193000@VHSHEILBRONN
SUMMARY:Hatha-Yoga Verbindet Körper, Geist und Seele (Z304A212) 
LOCATION:Flina Kulturhalle, Mehrzweckraum, Sandberghohle 1, 74223 Flein
END:VEVENT
BEGIN:VEVENT
DTSTAMP:20260422T122618
DTSTART;TZID=Europe/Berlin:20260506T193000
DTEND;TZID=Europe/Berlin:20260506T204500
UID:Z304A212-20260506T193000@VHSHEILBRONN
SUMMARY:Hatha-Yoga Verbindet Körper, Geist und Seele (Z304A212) 
LOCATION:Flina Kulturhalle, Mehrzweckraum, Sandberghohle 1, 74223 Flein
END:VEVENT
BEGIN:VEVENT
DTSTAMP:20260422T122618
DTSTART;TZID=Europe/Berlin:20260513T193000
DTEND;TZID=Europe/Berlin:20260513T204500
UID:Z304A212-20260513T193000@VHSHEILBRONN
SUMMARY:Hatha-Yoga Verbindet Körper, Geist und Seele (Z304A212) 
LOCATION:Flina Kulturhalle, Mehrzweckraum, Sandberghohle 1, 74223 Flein
END:VEVENT
BEGIN:VEVENT
DTSTAMP:20260422T122618
DTSTART;TZID=Europe/Berlin:20260520T193000
DTEND;TZID=Europe/Berlin:20260520T204500
UID:Z304A212-20260520T193000@VHSHEILBRONN
SUMMARY:Hatha-Yoga Verbindet Körper, Geist und Seele (Z304A212) 
LOCATION:Flina Kulturhalle, Mehrzweckraum, Sandberghohle 1, 74223 Flein
END:VEVENT
BEGIN:VEVENT
DTSTAMP:20260422T122618
DTSTART;TZID=Europe/Berlin:20260610T193000
DTEND;TZID=Europe/Berlin:20260610T204500
UID:Z304A212-20260610T193000@VHSHEILBRONN
SUMMARY:Hatha-Yoga Verbindet Körper, Geist und Seele (Z304A212) 
LOCATION:Flina Kulturhalle, Mehrzweckraum, Sandberghohle 1, 74223 Flein
END:VEVENT
END:VCALENDAR