BEGIN:VCALENDAR
VERSION:2.0
PRODID:https://www.kufer.de/kuferweb / DE
METHOD:PUBLISH
CALSCALE:GREGORIAN
X-WR-TIMEZONE:Europe/Berlin
BEGIN:VTIMEZONE
TZID:Europe/Berlin
X-LIC-LOCATION:Europe/Berlin
BEGIN:DAYLIGHT
TZOFFSETFROM:+0100
TZOFFSETTO:+0200
TZNAME:CEST
DTSTART:19700329T020000
RRULE:FREQ=YEARLY;INTERVAL=1;BYDAY=-1SU;BYMONTH=3
END:DAYLIGHT
BEGIN:STANDARD
TZOFFSETFROM:+0200
TZOFFSETTO:+0100
TZNAME:CET
DTSTART:19701025T030000
RRULE:FREQ=YEARLY;INTERVAL=1;BYDAY=-1SU;BYMONTH=10
END:STANDARD
END:VTIMEZONE
BEGIN:VEVENT
DTSTAMP:20260422T124642
DTSTART;TZID=Europe/Berlin:20260127T183000
DTEND;TZID=Europe/Berlin:20260127T194500
UID:Z304A110-20260127T183000@VHSHEILBRONN
SUMMARY:Hatha-Yoga Verbindet Körper, Geist und Seele (Z304A110) 
LOCATION:Flina Kulturhalle, Mehrzweckraum, Sandberghohle 1, 74223 Flein
END:VEVENT
BEGIN:VEVENT
DTSTAMP:20260422T124642
DTSTART;TZID=Europe/Berlin:20260203T183000
DTEND;TZID=Europe/Berlin:20260203T194500
UID:Z304A110-20260203T183000@VHSHEILBRONN
SUMMARY:Hatha-Yoga Verbindet Körper, Geist und Seele (Z304A110) 
LOCATION:Flina Kulturhalle, Mehrzweckraum, Sandberghohle 1, 74223 Flein
END:VEVENT
BEGIN:VEVENT
DTSTAMP:20260422T124642
DTSTART;TZID=Europe/Berlin:20260210T183000
DTEND;TZID=Europe/Berlin:20260210T194500
UID:Z304A110-20260210T183000@VHSHEILBRONN
SUMMARY:Hatha-Yoga Verbindet Körper, Geist und Seele (Z304A110) 
LOCATION:Flina Kulturhalle, Mehrzweckraum, Sandberghohle 1, 74223 Flein
END:VEVENT
BEGIN:VEVENT
DTSTAMP:20260422T124642
DTSTART;TZID=Europe/Berlin:20260224T183000
DTEND;TZID=Europe/Berlin:20260224T194500
UID:Z304A110-20260224T183000@VHSHEILBRONN
SUMMARY:Hatha-Yoga Verbindet Körper, Geist und Seele (Z304A110) 
LOCATION:Flina Kulturhalle, Mehrzweckraum, Sandberghohle 1, 74223 Flein
END:VEVENT
BEGIN:VEVENT
DTSTAMP:20260422T124642
DTSTART;TZID=Europe/Berlin:20260303T183000
DTEND;TZID=Europe/Berlin:20260303T194500
UID:Z304A110-20260303T183000@VHSHEILBRONN
SUMMARY:Hatha-Yoga Verbindet Körper, Geist und Seele (Z304A110) 
LOCATION:Flina Kulturhalle, Mehrzweckraum, Sandberghohle 1, 74223 Flein
END:VEVENT
BEGIN:VEVENT
DTSTAMP:20260422T124642
DTSTART;TZID=Europe/Berlin:20260310T183000
DTEND;TZID=Europe/Berlin:20260310T194500
UID:Z304A110-20260310T183000@VHSHEILBRONN
SUMMARY:Hatha-Yoga Verbindet Körper, Geist und Seele (Z304A110) 
LOCATION:Flina Kulturhalle, Mehrzweckraum, Sandberghohle 1, 74223 Flein
END:VEVENT
BEGIN:VEVENT
DTSTAMP:20260422T124642
DTSTART;TZID=Europe/Berlin:20260317T183000
DTEND;TZID=Europe/Berlin:20260317T194500
UID:Z304A110-20260317T183000@VHSHEILBRONN
SUMMARY:Hatha-Yoga Verbindet Körper, Geist und Seele (Z304A110) 
LOCATION:Flina Kulturhalle, Mehrzweckraum, Sandberghohle 1, 74223 Flein
END:VEVENT
BEGIN:VEVENT
DTSTAMP:20260422T124642
DTSTART;TZID=Europe/Berlin:20260324T183000
DTEND;TZID=Europe/Berlin:20260324T194500
UID:Z304A110-20260324T183000@VHSHEILBRONN
SUMMARY:Hatha-Yoga Verbindet Körper, Geist und Seele (Z304A110) 
LOCATION:Flina Kulturhalle, Mehrzweckraum, Sandberghohle 1, 74223 Flein
END:VEVENT
BEGIN:VEVENT
DTSTAMP:20260422T124642
DTSTART;TZID=Europe/Berlin:20260414T183000
DTEND;TZID=Europe/Berlin:20260414T194500
UID:Z304A110-20260414T183000@VHSHEILBRONN
SUMMARY:Hatha-Yoga Verbindet Körper, Geist und Seele (Z304A110) 
LOCATION:Flina Kulturhalle, Mehrzweckraum, Sandberghohle 1, 74223 Flein
END:VEVENT
BEGIN:VEVENT
DTSTAMP:20260422T124642
DTSTART;TZID=Europe/Berlin:20260421T183000
DTEND;TZID=Europe/Berlin:20260421T194500
UID:Z304A110-20260421T183000@VHSHEILBRONN
SUMMARY:Hatha-Yoga Verbindet Körper, Geist und Seele (Z304A110) 
LOCATION:Flina Kulturhalle, Mehrzweckraum, Sandberghohle 1, 74223 Flein
END:VEVENT
BEGIN:VEVENT
DTSTAMP:20260422T124642
DTSTART;TZID=Europe/Berlin:20260428T183000
DTEND;TZID=Europe/Berlin:20260428T194500
UID:Z304A110-20260428T183000@VHSHEILBRONN
SUMMARY:Hatha-Yoga Verbindet Körper, Geist und Seele (Z304A110) 
LOCATION:Flina Kulturhalle, Mehrzweckraum, Sandberghohle 1, 74223 Flein
END:VEVENT
BEGIN:VEVENT
DTSTAMP:20260422T124642
DTSTART;TZID=Europe/Berlin:20260505T183000
DTEND;TZID=Europe/Berlin:20260505T194500
UID:Z304A110-20260505T183000@VHSHEILBRONN
SUMMARY:Hatha-Yoga Verbindet Körper, Geist und Seele (Z304A110) 
LOCATION:Flina Kulturhalle, Mehrzweckraum, Sandberghohle 1, 74223 Flein
END:VEVENT
BEGIN:VEVENT
DTSTAMP:20260422T124642
DTSTART;TZID=Europe/Berlin:20260512T183000
DTEND;TZID=Europe/Berlin:20260512T194500
UID:Z304A110-20260512T183000@VHSHEILBRONN
SUMMARY:Hatha-Yoga Verbindet Körper, Geist und Seele (Z304A110) 
LOCATION:Flina Kulturhalle, Mehrzweckraum, Sandberghohle 1, 74223 Flein
END:VEVENT
BEGIN:VEVENT
DTSTAMP:20260422T124642
DTSTART;TZID=Europe/Berlin:20260519T183000
DTEND;TZID=Europe/Berlin:20260519T194500
UID:Z304A110-20260519T183000@VHSHEILBRONN
SUMMARY:Hatha-Yoga Verbindet Körper, Geist und Seele (Z304A110) 
LOCATION:Flina Kulturhalle, Mehrzweckraum, Sandberghohle 1, 74223 Flein
END:VEVENT
BEGIN:VEVENT
DTSTAMP:20260422T124642
DTSTART;TZID=Europe/Berlin:20260609T183000
DTEND;TZID=Europe/Berlin:20260609T194500
UID:Z304A110-20260609T183000@VHSHEILBRONN
SUMMARY:Hatha-Yoga Verbindet Körper, Geist und Seele (Z304A110) 
LOCATION:Flina Kulturhalle, Mehrzweckraum, Sandberghohle 1, 74223 Flein
END:VEVENT
END:VCALENDAR