BEGIN:VCALENDAR
VERSION:2.0
PRODID:https://www.kufer.de/kuferweb / DE
METHOD:PUBLISH
CALSCALE:GREGORIAN
X-WR-TIMEZONE:Europe/Berlin
BEGIN:VTIMEZONE
TZID:Europe/Berlin
X-LIC-LOCATION:Europe/Berlin
BEGIN:DAYLIGHT
TZOFFSETFROM:+0100
TZOFFSETTO:+0200
TZNAME:CEST
DTSTART:19700329T020000
RRULE:FREQ=YEARLY;INTERVAL=1;BYDAY=-1SU;BYMONTH=3
END:DAYLIGHT
BEGIN:STANDARD
TZOFFSETFROM:+0200
TZOFFSETTO:+0100
TZNAME:CET
DTSTART:19701025T030000
RRULE:FREQ=YEARLY;INTERVAL=1;BYDAY=-1SU;BYMONTH=10
END:STANDARD
END:VTIMEZONE
BEGIN:VEVENT
DTSTAMP:20260422T122539
DTSTART;TZID=Europe/Berlin:20260609T180500
DTEND;TZID=Europe/Berlin:20260609T192000
UID:Z304A109-20260609T180500@VHSHEILBRONN
SUMMARY:Hatha-Yoga (Z304A109) 
LOCATION:Richard-Drautz-Heim Gymnastikraum, Bruchsaler Str. 32, 74080 Heilbronn
END:VEVENT
BEGIN:VEVENT
DTSTAMP:20260422T122539
DTSTART;TZID=Europe/Berlin:20260616T180500
DTEND;TZID=Europe/Berlin:20260616T192000
UID:Z304A109-20260616T180500@VHSHEILBRONN
SUMMARY:Hatha-Yoga (Z304A109) 
LOCATION:Richard-Drautz-Heim Gymnastikraum, Bruchsaler Str. 32, 74080 Heilbronn
END:VEVENT
BEGIN:VEVENT
DTSTAMP:20260422T122539
DTSTART;TZID=Europe/Berlin:20260623T180500
DTEND;TZID=Europe/Berlin:20260623T192000
UID:Z304A109-20260623T180500@VHSHEILBRONN
SUMMARY:Hatha-Yoga (Z304A109) 
LOCATION:Richard-Drautz-Heim Gymnastikraum, Bruchsaler Str. 32, 74080 Heilbronn
END:VEVENT
BEGIN:VEVENT
DTSTAMP:20260422T122539
DTSTART;TZID=Europe/Berlin:20260630T180500
DTEND;TZID=Europe/Berlin:20260630T192000
UID:Z304A109-20260630T180500@VHSHEILBRONN
SUMMARY:Hatha-Yoga (Z304A109) 
LOCATION:Richard-Drautz-Heim Gymnastikraum, Bruchsaler Str. 32, 74080 Heilbronn
END:VEVENT
BEGIN:VEVENT
DTSTAMP:20260422T122539
DTSTART;TZID=Europe/Berlin:20260707T180500
DTEND;TZID=Europe/Berlin:20260707T192000
UID:Z304A109-20260707T180500@VHSHEILBRONN
SUMMARY:Hatha-Yoga (Z304A109) 
LOCATION:Richard-Drautz-Heim Gymnastikraum, Bruchsaler Str. 32, 74080 Heilbronn
END:VEVENT
BEGIN:VEVENT
DTSTAMP:20260422T122539
DTSTART;TZID=Europe/Berlin:20260714T180500
DTEND;TZID=Europe/Berlin:20260714T192000
UID:Z304A109-20260714T180500@VHSHEILBRONN
SUMMARY:Hatha-Yoga (Z304A109) 
LOCATION:Richard-Drautz-Heim Gymnastikraum, Bruchsaler Str. 32, 74080 Heilbronn
END:VEVENT
BEGIN:VEVENT
DTSTAMP:20260422T122539
DTSTART;TZID=Europe/Berlin:20260721T180500
DTEND;TZID=Europe/Berlin:20260721T192000
UID:Z304A109-20260721T180500@VHSHEILBRONN
SUMMARY:Hatha-Yoga (Z304A109) 
LOCATION:Richard-Drautz-Heim Gymnastikraum, Bruchsaler Str. 32, 74080 Heilbronn
END:VEVENT
BEGIN:VEVENT
DTSTAMP:20260422T122539
DTSTART;TZID=Europe/Berlin:20260728T180500
DTEND;TZID=Europe/Berlin:20260728T192000
UID:Z304A109-20260728T180500@VHSHEILBRONN
SUMMARY:Hatha-Yoga (Z304A109) 
LOCATION:Richard-Drautz-Heim Gymnastikraum, Bruchsaler Str. 32, 74080 Heilbronn
END:VEVENT
END:VCALENDAR