BEGIN:VCALENDAR
VERSION:2.0
PRODID:https://www.kufer.de/kuferweb / DE
METHOD:PUBLISH
CALSCALE:GREGORIAN
X-WR-TIMEZONE:Europe/Berlin
BEGIN:VTIMEZONE
TZID:Europe/Berlin
X-LIC-LOCATION:Europe/Berlin
BEGIN:DAYLIGHT
TZOFFSETFROM:+0100
TZOFFSETTO:+0200
TZNAME:CEST
DTSTART:19700329T020000
RRULE:FREQ=YEARLY;INTERVAL=1;BYDAY=-1SU;BYMONTH=3
END:DAYLIGHT
BEGIN:STANDARD
TZOFFSETFROM:+0200
TZOFFSETTO:+0100
TZNAME:CET
DTSTART:19701025T030000
RRULE:FREQ=YEARLY;INTERVAL=1;BYDAY=-1SU;BYMONTH=10
END:STANDARD
END:VTIMEZONE
BEGIN:VEVENT
DTSTAMP:20260422T122501
DTSTART;TZID=Europe/Berlin:20260223T180000
DTEND;TZID=Europe/Berlin:20260223T190000
UID:Z304A018-20260223T180000@VHSHEILBRONN
SUMMARY:Hatha-Yoga Verbindet Körper, Geist und Seele (Z304A018) 
LOCATION:Kath. Gemeindehaus Heilig Kreuz Böckingen, Großer Saal, Eulenweg 50, 74080 Heilbronn
END:VEVENT
BEGIN:VEVENT
DTSTAMP:20260422T122501
DTSTART;TZID=Europe/Berlin:20260302T180000
DTEND;TZID=Europe/Berlin:20260302T190000
UID:Z304A018-20260302T180000@VHSHEILBRONN
SUMMARY:Hatha-Yoga Verbindet Körper, Geist und Seele (Z304A018) 
LOCATION:Kath. Gemeindehaus Heilig Kreuz Böckingen, Großer Saal, Eulenweg 50, 74080 Heilbronn
END:VEVENT
BEGIN:VEVENT
DTSTAMP:20260422T122501
DTSTART;TZID=Europe/Berlin:20260309T180000
DTEND;TZID=Europe/Berlin:20260309T190000
UID:Z304A018-20260309T180000@VHSHEILBRONN
SUMMARY:Hatha-Yoga Verbindet Körper, Geist und Seele (Z304A018) 
LOCATION:Kath. Gemeindehaus Heilig Kreuz Böckingen, Großer Saal, Eulenweg 50, 74080 Heilbronn
END:VEVENT
BEGIN:VEVENT
DTSTAMP:20260422T122501
DTSTART;TZID=Europe/Berlin:20260323T180000
DTEND;TZID=Europe/Berlin:20260323T190000
UID:Z304A018-20260323T180000@VHSHEILBRONN
SUMMARY:Hatha-Yoga Verbindet Körper, Geist und Seele (Z304A018) 
LOCATION:Kath. Gemeindehaus Heilig Kreuz Böckingen, Großer Saal, Eulenweg 50, 74080 Heilbronn
END:VEVENT
BEGIN:VEVENT
DTSTAMP:20260422T122501
DTSTART;TZID=Europe/Berlin:20260413T180000
DTEND;TZID=Europe/Berlin:20260413T190000
UID:Z304A018-20260413T180000@VHSHEILBRONN
SUMMARY:Hatha-Yoga Verbindet Körper, Geist und Seele (Z304A018) 
LOCATION:Kath. Gemeindehaus Heilig Kreuz Böckingen, Großer Saal, Eulenweg 50, 74080 Heilbronn
END:VEVENT
BEGIN:VEVENT
DTSTAMP:20260422T122501
DTSTART;TZID=Europe/Berlin:20260420T180000
DTEND;TZID=Europe/Berlin:20260420T190000
UID:Z304A018-20260420T180000@VHSHEILBRONN
SUMMARY:Hatha-Yoga Verbindet Körper, Geist und Seele (Z304A018) 
LOCATION:Kath. Gemeindehaus Heilig Kreuz Böckingen, Großer Saal, Eulenweg 50, 74080 Heilbronn
END:VEVENT
BEGIN:VEVENT
DTSTAMP:20260422T122501
DTSTART;TZID=Europe/Berlin:20260427T180000
DTEND;TZID=Europe/Berlin:20260427T190000
UID:Z304A018-20260427T180000@VHSHEILBRONN
SUMMARY:Hatha-Yoga Verbindet Körper, Geist und Seele (Z304A018) 
LOCATION:Kath. Gemeindehaus Heilig Kreuz Böckingen, Großer Saal, Eulenweg 50, 74080 Heilbronn
END:VEVENT
BEGIN:VEVENT
DTSTAMP:20260422T122501
DTSTART;TZID=Europe/Berlin:20260504T180000
DTEND;TZID=Europe/Berlin:20260504T190000
UID:Z304A018-20260504T180000@VHSHEILBRONN
DESCRIPTION:Ersatz für 16.03.
SUMMARY:Hatha-Yoga Verbindet Körper, Geist und Seele (Z304A018) 
LOCATION:Kath. Gemeindehaus Heilig Kreuz Böckingen, Großer Saal, Eulenweg 50, 74080 Heilbronn
END:VEVENT
END:VCALENDAR