BEGIN:VCALENDAR
VERSION:2.0
PRODID:https://www.kufer.de/kuferweb / DE
METHOD:PUBLISH
CALSCALE:GREGORIAN
X-WR-TIMEZONE:Europe/Berlin
BEGIN:VTIMEZONE
TZID:Europe/Berlin
X-LIC-LOCATION:Europe/Berlin
BEGIN:DAYLIGHT
TZOFFSETFROM:+0100
TZOFFSETTO:+0200
TZNAME:CEST
DTSTART:19700329T020000
RRULE:FREQ=YEARLY;INTERVAL=1;BYDAY=-1SU;BYMONTH=3
END:DAYLIGHT
BEGIN:STANDARD
TZOFFSETFROM:+0200
TZOFFSETTO:+0100
TZNAME:CET
DTSTART:19701025T030000
RRULE:FREQ=YEARLY;INTERVAL=1;BYDAY=-1SU;BYMONTH=10
END:STANDARD
END:VTIMEZONE
BEGIN:VEVENT
DTSTAMP:20260424T200555
DTSTART;TZID=Europe/Berlin:20260907T093000
DTEND;TZID=Europe/Berlin:20260907T123000
UID:Z271A333-20260907T093000@VHSHEILBRONN
SUMMARY:Comics zeichnen - in den Sommerferien 8 - 12 Jahre (Z271A333) 
LOCATION:Ortsbücherei Flein, Erlachstr. 12, 74223 Flein
END:VEVENT
BEGIN:VEVENT
DTSTAMP:20260424T200555
DTSTART;TZID=Europe/Berlin:20260909T093000
DTEND;TZID=Europe/Berlin:20260909T123000
UID:Z271A333-20260909T093000@VHSHEILBRONN
SUMMARY:Comics zeichnen - in den Sommerferien 8 - 12 Jahre (Z271A333) 
LOCATION:Ortsbücherei Flein, Erlachstr. 12, 74223 Flein
END:VEVENT
END:VCALENDAR