BEGIN:VCALENDAR
VERSION:2.0
PRODID:https://www.kufer.de/kuferweb / DE
METHOD:PUBLISH
CALSCALE:GREGORIAN
X-WR-TIMEZONE:Europe/Berlin
BEGIN:VTIMEZONE
TZID:Europe/Berlin
X-LIC-LOCATION:Europe/Berlin
BEGIN:DAYLIGHT
TZOFFSETFROM:+0100
TZOFFSETTO:+0200
TZNAME:CEST
DTSTART:19700329T020000
RRULE:FREQ=YEARLY;INTERVAL=1;BYDAY=-1SU;BYMONTH=3
END:DAYLIGHT
BEGIN:STANDARD
TZOFFSETFROM:+0200
TZOFFSETTO:+0100
TZNAME:CET
DTSTART:19701025T030000
RRULE:FREQ=YEARLY;INTERVAL=1;BYDAY=-1SU;BYMONTH=10
END:STANDARD
END:VTIMEZONE
BEGIN:VEVENT
DTSTAMP:20260422T124627
DTSTART;TZID=Europe/Berlin:20260227T150000
DTEND;TZID=Europe/Berlin:20260227T170000
UID:Z100A106-20260227T150000@VHSHEILBRONN
SUMMARY:"Über 70" vhs-Club (Z100A106) 
LOCATION:Ort wird rechtzeitig bekannt gegeben, 00000
END:VEVENT
BEGIN:VEVENT
DTSTAMP:20260422T124627
DTSTART;TZID=Europe/Berlin:20260313T150000
DTEND;TZID=Europe/Berlin:20260313T170000
UID:Z100A106-20260313T150000@VHSHEILBRONN
SUMMARY:"Über 70" vhs-Club (Z100A106) 
LOCATION:Ort wird rechtzeitig bekannt gegeben, 00000
END:VEVENT
BEGIN:VEVENT
DTSTAMP:20260422T124627
DTSTART;TZID=Europe/Berlin:20260327T150000
DTEND;TZID=Europe/Berlin:20260327T170000
UID:Z100A106-20260327T150000@VHSHEILBRONN
SUMMARY:"Über 70" vhs-Club (Z100A106) 
LOCATION:Ort wird rechtzeitig bekannt gegeben, 00000
END:VEVENT
BEGIN:VEVENT
DTSTAMP:20260422T124627
DTSTART;TZID=Europe/Berlin:20260410T150000
DTEND;TZID=Europe/Berlin:20260410T170000
UID:Z100A106-20260410T150000@VHSHEILBRONN
SUMMARY:"Über 70" vhs-Club (Z100A106) 
LOCATION:Ort wird rechtzeitig bekannt gegeben, 00000
END:VEVENT
BEGIN:VEVENT
DTSTAMP:20260422T124627
DTSTART;TZID=Europe/Berlin:20260424T150000
DTEND;TZID=Europe/Berlin:20260424T170000
UID:Z100A106-20260424T150000@VHSHEILBRONN
SUMMARY:"Über 70" vhs-Club (Z100A106) 
LOCATION:Ort wird rechtzeitig bekannt gegeben, 00000
END:VEVENT
BEGIN:VEVENT
DTSTAMP:20260422T124627
DTSTART;TZID=Europe/Berlin:20260508T150000
DTEND;TZID=Europe/Berlin:20260508T170000
UID:Z100A106-20260508T150000@VHSHEILBRONN
SUMMARY:"Über 70" vhs-Club (Z100A106) 
LOCATION:Ort wird rechtzeitig bekannt gegeben, 00000
END:VEVENT
BEGIN:VEVENT
DTSTAMP:20260422T124627
DTSTART;TZID=Europe/Berlin:20260522T150000
DTEND;TZID=Europe/Berlin:20260522T170000
UID:Z100A106-20260522T150000@VHSHEILBRONN
SUMMARY:"Über 70" vhs-Club (Z100A106) 
LOCATION:Ort wird rechtzeitig bekannt gegeben, 00000
END:VEVENT
BEGIN:VEVENT
DTSTAMP:20260422T124627
DTSTART;TZID=Europe/Berlin:20260605T150000
DTEND;TZID=Europe/Berlin:20260605T170000
UID:Z100A106-20260605T150000@VHSHEILBRONN
SUMMARY:"Über 70" vhs-Club (Z100A106) 
LOCATION:Ort wird rechtzeitig bekannt gegeben, 00000
END:VEVENT
BEGIN:VEVENT
DTSTAMP:20260422T124627
DTSTART;TZID=Europe/Berlin:20260619T150000
DTEND;TZID=Europe/Berlin:20260619T170000
UID:Z100A106-20260619T150000@VHSHEILBRONN
SUMMARY:"Über 70" vhs-Club (Z100A106) 
LOCATION:Ort wird rechtzeitig bekannt gegeben, 00000
END:VEVENT
BEGIN:VEVENT
DTSTAMP:20260422T124627
DTSTART;TZID=Europe/Berlin:20260703T150000
DTEND;TZID=Europe/Berlin:20260703T170000
UID:Z100A106-20260703T150000@VHSHEILBRONN
SUMMARY:"Über 70" vhs-Club (Z100A106) 
LOCATION:Ort wird rechtzeitig bekannt gegeben, 00000
END:VEVENT
BEGIN:VEVENT
DTSTAMP:20260422T124627
DTSTART;TZID=Europe/Berlin:20260717T150000
DTEND;TZID=Europe/Berlin:20260717T170000
UID:Z100A106-20260717T150000@VHSHEILBRONN
SUMMARY:"Über 70" vhs-Club (Z100A106) 
LOCATION:Ort wird rechtzeitig bekannt gegeben, 00000
END:VEVENT
BEGIN:VEVENT
DTSTAMP:20260422T124627
DTSTART;TZID=Europe/Berlin:20260731T150000
DTEND;TZID=Europe/Berlin:20260731T170000
UID:Z100A106-20260731T150000@VHSHEILBRONN
SUMMARY:"Über 70" vhs-Club (Z100A106) 
LOCATION:Ort wird rechtzeitig bekannt gegeben, 00000
END:VEVENT
BEGIN:VEVENT
DTSTAMP:20260422T124627
DTSTART;TZID=Europe/Berlin:20260814T150000
DTEND;TZID=Europe/Berlin:20260814T170000
UID:Z100A106-20260814T150000@VHSHEILBRONN
SUMMARY:"Über 70" vhs-Club (Z100A106) 
LOCATION:Ort wird rechtzeitig bekannt gegeben, 00000
END:VEVENT
BEGIN:VEVENT
DTSTAMP:20260422T124627
DTSTART;TZID=Europe/Berlin:20260828T150000
DTEND;TZID=Europe/Berlin:20260828T170000
UID:Z100A106-20260828T150000@VHSHEILBRONN
SUMMARY:"Über 70" vhs-Club (Z100A106) 
LOCATION:Ort wird rechtzeitig bekannt gegeben, 00000
END:VEVENT
END:VCALENDAR