BEGIN:VCALENDAR
VERSION:2.0
PRODID:https://www.kufer.de/kuferweb / DE
METHOD:PUBLISH
CALSCALE:GREGORIAN
X-WR-TIMEZONE:Europe/Berlin
BEGIN:VTIMEZONE
TZID:Europe/Berlin
X-LIC-LOCATION:Europe/Berlin
BEGIN:DAYLIGHT
TZOFFSETFROM:+0100
TZOFFSETTO:+0200
TZNAME:CEST
DTSTART:19700329T020000
RRULE:FREQ=YEARLY;INTERVAL=1;BYDAY=-1SU;BYMONTH=3
END:DAYLIGHT
BEGIN:STANDARD
TZOFFSETFROM:+0200
TZOFFSETTO:+0100
TZNAME:CET
DTSTART:19701025T030000
RRULE:FREQ=YEARLY;INTERVAL=1;BYDAY=-1SU;BYMONTH=10
END:STANDARD
END:VTIMEZONE
BEGIN:VEVENT
DTSTAMP:20260422T122458
DTSTART;TZID=Europe/Berlin:20260227T190000
DTEND;TZID=Europe/Berlin:20260227T210000
UID:Z100A104-20260227T190000@VHSHEILBRONN
SUMMARY:"Über 60" vhs-Club (Z100A104) 
LOCATION:Ort wird nach schriftlicher Anmeldung mitgeteilt
END:VEVENT
BEGIN:VEVENT
DTSTAMP:20260422T122458
DTSTART;TZID=Europe/Berlin:20260313T190000
DTEND;TZID=Europe/Berlin:20260313T210000
UID:Z100A104-20260313T190000@VHSHEILBRONN
SUMMARY:"Über 60" vhs-Club (Z100A104) 
LOCATION:Ort wird nach schriftlicher Anmeldung mitgeteilt
END:VEVENT
BEGIN:VEVENT
DTSTAMP:20260422T122458
DTSTART;TZID=Europe/Berlin:20260327T190000
DTEND;TZID=Europe/Berlin:20260327T210000
UID:Z100A104-20260327T190000@VHSHEILBRONN
SUMMARY:"Über 60" vhs-Club (Z100A104) 
LOCATION:Ort wird nach schriftlicher Anmeldung mitgeteilt
END:VEVENT
BEGIN:VEVENT
DTSTAMP:20260422T122458
DTSTART;TZID=Europe/Berlin:20260410T190000
DTEND;TZID=Europe/Berlin:20260410T210000
UID:Z100A104-20260410T190000@VHSHEILBRONN
SUMMARY:"Über 60" vhs-Club (Z100A104) 
LOCATION:Ort wird nach schriftlicher Anmeldung mitgeteilt
END:VEVENT
BEGIN:VEVENT
DTSTAMP:20260422T122458
DTSTART;TZID=Europe/Berlin:20260424T190000
DTEND;TZID=Europe/Berlin:20260424T210000
UID:Z100A104-20260424T190000@VHSHEILBRONN
SUMMARY:"Über 60" vhs-Club (Z100A104) 
LOCATION:Ort wird nach schriftlicher Anmeldung mitgeteilt
END:VEVENT
BEGIN:VEVENT
DTSTAMP:20260422T122458
DTSTART;TZID=Europe/Berlin:20260508T190000
DTEND;TZID=Europe/Berlin:20260508T210000
UID:Z100A104-20260508T190000@VHSHEILBRONN
SUMMARY:"Über 60" vhs-Club (Z100A104) 
LOCATION:Ort wird nach schriftlicher Anmeldung mitgeteilt
END:VEVENT
BEGIN:VEVENT
DTSTAMP:20260422T122458
DTSTART;TZID=Europe/Berlin:20260522T190000
DTEND;TZID=Europe/Berlin:20260522T210000
UID:Z100A104-20260522T190000@VHSHEILBRONN
SUMMARY:"Über 60" vhs-Club (Z100A104) 
LOCATION:Ort wird nach schriftlicher Anmeldung mitgeteilt
END:VEVENT
BEGIN:VEVENT
DTSTAMP:20260422T122458
DTSTART;TZID=Europe/Berlin:20260605T190000
DTEND;TZID=Europe/Berlin:20260605T210000
UID:Z100A104-20260605T190000@VHSHEILBRONN
SUMMARY:"Über 60" vhs-Club (Z100A104) 
LOCATION:Ort wird nach schriftlicher Anmeldung mitgeteilt
END:VEVENT
BEGIN:VEVENT
DTSTAMP:20260422T122458
DTSTART;TZID=Europe/Berlin:20260619T190000
DTEND;TZID=Europe/Berlin:20260619T210000
UID:Z100A104-20260619T190000@VHSHEILBRONN
SUMMARY:"Über 60" vhs-Club (Z100A104) 
LOCATION:Ort wird nach schriftlicher Anmeldung mitgeteilt
END:VEVENT
BEGIN:VEVENT
DTSTAMP:20260422T122458
DTSTART;TZID=Europe/Berlin:20260703T190000
DTEND;TZID=Europe/Berlin:20260703T210000
UID:Z100A104-20260703T190000@VHSHEILBRONN
SUMMARY:"Über 60" vhs-Club (Z100A104) 
LOCATION:Ort wird nach schriftlicher Anmeldung mitgeteilt
END:VEVENT
BEGIN:VEVENT
DTSTAMP:20260422T122458
DTSTART;TZID=Europe/Berlin:20260717T190000
DTEND;TZID=Europe/Berlin:20260717T210000
UID:Z100A104-20260717T190000@VHSHEILBRONN
SUMMARY:"Über 60" vhs-Club (Z100A104) 
LOCATION:Ort wird nach schriftlicher Anmeldung mitgeteilt
END:VEVENT
BEGIN:VEVENT
DTSTAMP:20260422T122458
DTSTART;TZID=Europe/Berlin:20260731T190000
DTEND;TZID=Europe/Berlin:20260731T210000
UID:Z100A104-20260731T190000@VHSHEILBRONN
SUMMARY:"Über 60" vhs-Club (Z100A104) 
LOCATION:Ort wird nach schriftlicher Anmeldung mitgeteilt
END:VEVENT
BEGIN:VEVENT
DTSTAMP:20260422T122458
DTSTART;TZID=Europe/Berlin:20260814T190000
DTEND;TZID=Europe/Berlin:20260814T210000
UID:Z100A104-20260814T190000@VHSHEILBRONN
SUMMARY:"Über 60" vhs-Club (Z100A104) 
LOCATION:Ort wird nach schriftlicher Anmeldung mitgeteilt
END:VEVENT
BEGIN:VEVENT
DTSTAMP:20260422T122458
DTSTART;TZID=Europe/Berlin:20260828T190000
DTEND;TZID=Europe/Berlin:20260828T210000
UID:Z100A104-20260828T190000@VHSHEILBRONN
SUMMARY:"Über 60" vhs-Club (Z100A104) 
LOCATION:Ort wird nach schriftlicher Anmeldung mitgeteilt
END:VEVENT
END:VCALENDAR