BEGIN:VCALENDAR
VERSION:2.0
PRODID:https://www.kufer.de/kuferweb / DE
METHOD:PUBLISH
CALSCALE:GREGORIAN
X-WR-TIMEZONE:Europe/Berlin
BEGIN:VTIMEZONE
TZID:Europe/Berlin
X-LIC-LOCATION:Europe/Berlin
BEGIN:DAYLIGHT
TZOFFSETFROM:+0100
TZOFFSETTO:+0200
TZNAME:CEST
DTSTART:19700329T020000
RRULE:FREQ=YEARLY;INTERVAL=1;BYDAY=-1SU;BYMONTH=3
END:DAYLIGHT
BEGIN:STANDARD
TZOFFSETFROM:+0200
TZOFFSETTO:+0100
TZNAME:CET
DTSTART:19701025T030000
RRULE:FREQ=YEARLY;INTERVAL=1;BYDAY=-1SU;BYMONTH=10
END:STANDARD
END:VTIMEZONE
BEGIN:VEVENT
DTSTAMP:20260422T124637
DTSTART;TZID=Europe/Berlin:20250918T163000
DTEND;TZID=Europe/Berlin:20250918T180000
UID:Y220B200-20250918T163000@VHSHEILBRONN
DESCRIPTION:Infoveranstaltung
SUMMARY:jks-Jahreskurs - Kunst (Y220B200) 
LOCATION:JKS Raum 1, Kübelstr. 7, 74076 Heilbronn
END:VEVENT
BEGIN:VEVENT
DTSTAMP:20260422T124637
DTSTART;TZID=Europe/Berlin:20260108T163000
DTEND;TZID=Europe/Berlin:20260108T180000
UID:Y220B200-20260108T163000@VHSHEILBRONN
SUMMARY:jks-Jahreskurs - Kunst (Y220B200) 
LOCATION:JKS Raum 1, Kübelstr. 7, 74076 Heilbronn
END:VEVENT
BEGIN:VEVENT
DTSTAMP:20260422T124637
DTSTART;TZID=Europe/Berlin:20260115T163000
DTEND;TZID=Europe/Berlin:20260115T180000
UID:Y220B200-20260115T163000@VHSHEILBRONN
SUMMARY:jks-Jahreskurs - Kunst (Y220B200) 
LOCATION:JKS Raum 1, Kübelstr. 7, 74076 Heilbronn
END:VEVENT
BEGIN:VEVENT
DTSTAMP:20260422T124637
DTSTART;TZID=Europe/Berlin:20260122T163000
DTEND;TZID=Europe/Berlin:20260122T180000
UID:Y220B200-20260122T163000@VHSHEILBRONN
SUMMARY:jks-Jahreskurs - Kunst (Y220B200) 
LOCATION:JKS Raum 1, Kübelstr. 7, 74076 Heilbronn
END:VEVENT
BEGIN:VEVENT
DTSTAMP:20260422T124637
DTSTART;TZID=Europe/Berlin:20260129T163000
DTEND;TZID=Europe/Berlin:20260129T180000
UID:Y220B200-20260129T163000@VHSHEILBRONN
SUMMARY:jks-Jahreskurs - Kunst (Y220B200) 
LOCATION:JKS Raum 1, Kübelstr. 7, 74076 Heilbronn
END:VEVENT
BEGIN:VEVENT
DTSTAMP:20260422T124637
DTSTART;TZID=Europe/Berlin:20260205T163000
DTEND;TZID=Europe/Berlin:20260205T180000
UID:Y220B200-20260205T163000@VHSHEILBRONN
SUMMARY:jks-Jahreskurs - Kunst (Y220B200) 
LOCATION:JKS Raum 1, Kübelstr. 7, 74076 Heilbronn
END:VEVENT
BEGIN:VEVENT
DTSTAMP:20260422T124637
DTSTART;TZID=Europe/Berlin:20260212T163000
DTEND;TZID=Europe/Berlin:20260212T180000
UID:Y220B200-20260212T163000@VHSHEILBRONN
SUMMARY:jks-Jahreskurs - Kunst (Y220B200) 
LOCATION:JKS Raum 1, Kübelstr. 7, 74076 Heilbronn
END:VEVENT
BEGIN:VEVENT
DTSTAMP:20260422T124637
DTSTART;TZID=Europe/Berlin:20260226T163000
DTEND;TZID=Europe/Berlin:20260226T180000
UID:Y220B200-20260226T163000@VHSHEILBRONN
SUMMARY:jks-Jahreskurs - Kunst (Y220B200) 
LOCATION:JKS Raum 1, Kübelstr. 7, 74076 Heilbronn
END:VEVENT
BEGIN:VEVENT
DTSTAMP:20260422T124637
DTSTART;TZID=Europe/Berlin:20260305T163000
DTEND;TZID=Europe/Berlin:20260305T180000
UID:Y220B200-20260305T163000@VHSHEILBRONN
SUMMARY:jks-Jahreskurs - Kunst (Y220B200) 
LOCATION:JKS Raum 3/4, Kübelstr. 7, 74076 Heilbronn
END:VEVENT
BEGIN:VEVENT
DTSTAMP:20260422T124637
DTSTART;TZID=Europe/Berlin:20260312T163000
DTEND;TZID=Europe/Berlin:20260312T180000
UID:Y220B200-20260312T163000@VHSHEILBRONN
SUMMARY:jks-Jahreskurs - Kunst (Y220B200) 
LOCATION:JKS Raum 3/4, Kübelstr. 7, 74076 Heilbronn
END:VEVENT
BEGIN:VEVENT
DTSTAMP:20260422T124637
DTSTART;TZID=Europe/Berlin:20260319T163000
DTEND;TZID=Europe/Berlin:20260319T180000
UID:Y220B200-20260319T163000@VHSHEILBRONN
SUMMARY:jks-Jahreskurs - Kunst (Y220B200) 
LOCATION:JKS Raum 3/4, Kübelstr. 7, 74076 Heilbronn
END:VEVENT
BEGIN:VEVENT
DTSTAMP:20260422T124637
DTSTART;TZID=Europe/Berlin:20260326T163000
DTEND;TZID=Europe/Berlin:20260326T180000
UID:Y220B200-20260326T163000@VHSHEILBRONN
SUMMARY:jks-Jahreskurs - Kunst (Y220B200) 
LOCATION:JKS Raum 3/4, Kübelstr. 7, 74076 Heilbronn
END:VEVENT
BEGIN:VEVENT
DTSTAMP:20260422T124637
DTSTART;TZID=Europe/Berlin:20260416T163000
DTEND;TZID=Europe/Berlin:20260416T180000
UID:Y220B200-20260416T163000@VHSHEILBRONN
DESCRIPTION:Raumüberschneidung mit Töpfern und Future Visions 
SUMMARY:jks-Jahreskurs - Kunst (Y220B200) 
LOCATION:JKS Raum 3/4, Kübelstr. 7, 74076 Heilbronn
END:VEVENT
BEGIN:VEVENT
DTSTAMP:20260422T124637
DTSTART;TZID=Europe/Berlin:20260423T163000
DTEND;TZID=Europe/Berlin:20260423T180000
UID:Y220B200-20260423T163000@VHSHEILBRONN
SUMMARY:jks-Jahreskurs - Kunst (Y220B200) 
LOCATION:JKS Raum 3/4, Kübelstr. 7, 74076 Heilbronn
END:VEVENT
BEGIN:VEVENT
DTSTAMP:20260422T124638
DTSTART;TZID=Europe/Berlin:20260430T163000
DTEND;TZID=Europe/Berlin:20260430T180000
UID:Y220B200-20260430T163000@VHSHEILBRONN
SUMMARY:jks-Jahreskurs - Kunst (Y220B200) 
LOCATION:JKS Raum 3/4, Kübelstr. 7, 74076 Heilbronn
END:VEVENT
BEGIN:VEVENT
DTSTAMP:20260422T124638
DTSTART;TZID=Europe/Berlin:20260507T163000
DTEND;TZID=Europe/Berlin:20260507T180000
UID:Y220B200-20260507T163000@VHSHEILBRONN
SUMMARY:jks-Jahreskurs - Kunst (Y220B200) 
LOCATION:JKS Raum 3/4, Kübelstr. 7, 74076 Heilbronn
END:VEVENT
BEGIN:VEVENT
DTSTAMP:20260422T124638
DTSTART;TZID=Europe/Berlin:20260521T163000
DTEND;TZID=Europe/Berlin:20260521T180000
UID:Y220B200-20260521T163000@VHSHEILBRONN
SUMMARY:jks-Jahreskurs - Kunst (Y220B200) 
LOCATION:JKS Raum 3/4, Kübelstr. 7, 74076 Heilbronn
END:VEVENT
BEGIN:VEVENT
DTSTAMP:20260422T124638
DTSTART;TZID=Europe/Berlin:20260611T163000
DTEND;TZID=Europe/Berlin:20260611T180000
UID:Y220B200-20260611T163000@VHSHEILBRONN
SUMMARY:jks-Jahreskurs - Kunst (Y220B200) 
LOCATION:JKS Raum 3/4, Kübelstr. 7, 74076 Heilbronn
END:VEVENT
BEGIN:VEVENT
DTSTAMP:20260422T124638
DTSTART;TZID=Europe/Berlin:20260618T163000
DTEND;TZID=Europe/Berlin:20260618T180000
UID:Y220B200-20260618T163000@VHSHEILBRONN
SUMMARY:jks-Jahreskurs - Kunst (Y220B200) 
LOCATION:JKS Raum 3/4, Kübelstr. 7, 74076 Heilbronn
END:VEVENT
BEGIN:VEVENT
DTSTAMP:20260422T124638
DTSTART;TZID=Europe/Berlin:20260625T163000
DTEND;TZID=Europe/Berlin:20260625T180000
UID:Y220B200-20260625T163000@VHSHEILBRONN
SUMMARY:jks-Jahreskurs - Kunst (Y220B200) 
LOCATION:JKS Raum 3/4, Kübelstr. 7, 74076 Heilbronn
END:VEVENT
BEGIN:VEVENT
DTSTAMP:20260422T124638
DTSTART;TZID=Europe/Berlin:20260702T163000
DTEND;TZID=Europe/Berlin:20260702T180000
UID:Y220B200-20260702T163000@VHSHEILBRONN
SUMMARY:jks-Jahreskurs - Kunst (Y220B200) 
LOCATION:JKS Raum 1, Kübelstr. 7, 74076 Heilbronn
END:VEVENT
BEGIN:VEVENT
DTSTAMP:20260422T124638
DTSTART;TZID=Europe/Berlin:20260709T163000
DTEND;TZID=Europe/Berlin:20260709T180000
UID:Y220B200-20260709T163000@VHSHEILBRONN
SUMMARY:jks-Jahreskurs - Kunst (Y220B200) 
LOCATION:JKS Raum 3/4, Kübelstr. 7, 74076 Heilbronn
END:VEVENT
BEGIN:VEVENT
DTSTAMP:20260422T124638
DTSTART;TZID=Europe/Berlin:20260716T163000
DTEND;TZID=Europe/Berlin:20260716T180000
UID:Y220B200-20260716T163000@VHSHEILBRONN
SUMMARY:jks-Jahreskurs - Kunst (Y220B200) 
LOCATION:JKS Raum 3/4, Kübelstr. 7, 74076 Heilbronn
END:VEVENT
BEGIN:VEVENT
DTSTAMP:20260422T124638
DTSTART;TZID=Europe/Berlin:20260723T163000
DTEND;TZID=Europe/Berlin:20260723T180000
UID:Y220B200-20260723T163000@VHSHEILBRONN
SUMMARY:jks-Jahreskurs - Kunst (Y220B200) 
LOCATION:JKS Raum 1, Kübelstr. 7, 74076 Heilbronn
END:VEVENT
END:VCALENDAR